{"text_format":"2","workbook":"xlsx","n_sheets":4,"sheets":["星取り表112","データ１","データ２","抽選順"],"not_rendered":{"charts":0,"images":0,"macros":0,"external_links":0,"defined_names":2,"comments":0,"pivot_tables":0},"unopened":[],"bounds":{"document_bytes":16777216,"sheet_cells":100000,"run_cost":"one","rows_first":2000,"rows_last":500,"rows_between":2000,"halvings":0,"cell_chars":16384,"cell_head_chars":4096},"cells_cut":0,"cells_raw":0,"read":"whole","date_system":"1900"}

{"sheet":"星取り表112","index":0,"n_rows":268,"n_cols":35,"rows_kept":268,"cut":false,"hidden":false,"merged":[[244,0,245,0],[244,1,245,1],[244,23,245,25],[244,26,245,26],[244,27,245,27],[244,28,245,28],[244,29,245,29],[244,30,245,30],[244,31,245,31],[244,32,245,32],[244,33,245,33],[240,0,241,0],[240,1,241,1],[240,17,241,19],[240,26,241,26],[240,27,241,27],[240,28,241,28],[240,29,241,29],[240,30,241,30],[240,31,241,31],[240,32,241,32],[240,33,241,33],[242,0,243,0],[242,1,243,1],[242,20,243,22],[242,26,243,26],[242,27,243,27],[242,28,243,28],[242,29,243,29],[242,30,243,30],[242,31,243,31],[242,32,243,32],[242,33,243,33],[236,0,237,0],[236,1,237,1],[236,11,237,13],[236,26,237,26],[236,27,237,27],[236,28,237,28],[236,29,237,29],[236,30,237,30],[236,31,237,31],[236,32,237,32],[236,33,237,33],[238,0,239,0],[238,1,239,1],[238,14,239,16],[238,26,239,26],[238,27,239,27],[238,28,239,28],[238,29,239,29],[238,30,239,30],[238,31,239,31],[238,32,239,32],[238,33,239,33],[230,32,231,32],[230,33,231,33],[232,0,233,0],[232,1,233,1],[232,5,233,7],[232,26,233,26],[232,27,233,27],[232,28,233,28],[232,29,233,29],[232,30,233,30],[232,31,233,31],[232,32,233,32],[232,33,233,33],[234,0,235,0],[234,1,235,1],[234,8,235,10],[234,26,235,26],[234,27,235,27],[234,28,235,28],[234,29,235,29],[234,30,235,30],[234,31,235,31],[234,32,235,32],[234,33,235,33],[229,2,229,4],[229,5,229,7],[229,8,229,10],[229,11,229,13],[229,14,229,16],[229,17,229,19],[229,20,229,22],[229,23,229,25],[230,0,231,0],[230,1,231,1],[230,2,231,4],[230,26,231,26],[230,27,231,27],[230,28,231,28],[230,29,231,29],[230,30,231,30],[230,31,231,31],[221,0,222,0],[221,1,222,1],[221,17,222,19],[221,26,222,26],[221,27,222,27],[221,28,222,28],[221,29,222,29],[221,30,222,30],[221,31,222,31],[221,32,222,32],[221,33,222,33],[223,31,224,31],[223,32,224,32],[223,33,224,33],[225,23,226,25],[225,31,226,31],[225,32,226,32],[225,33,226,33],[223,0,224,0],[223,1,224,1],[223,26,224,26],[223,27,224,27],[223,20,224,22],[223,28,224,28],[223,29,224,29],[219,0,220,0],[219,1,220,1],[219,14,220,16],[219,26,220,26],[219,27,220,27],[219,28,220,28],[219,29,220,29],[219,30,220,30],[219,31,220,31],[219,32,220,32],[219,33,220,33],[215,0,216,0],[215,1,216,1],[215,32,216,32],[215,33,216,33],[217,0,218,0],[217,1,218,1],[217,11,218,13],[217,26,218,26],[217,27,218,27],[217,28,218,28],[217,29,218,29],[213,0,214,0],[213,1,214,1],[213,5,214,7],[213,26,214,26],[213,27,214,27],[213,28,214,28],[213,29,214,29],[213,30,214,30],[213,31,214,31],[213,32,214,32],[213,33,214,33],[210,2,210,4],[210,5,210,7],[210,8,210,10],[210,11,210,13],[217,30,218,30],[217,31,218,31],[217,32,218,32],[217,33,218,33],[206,0,207,0],[206,1,207,1],[206,23,207,25],[206,26,207,26],[206,27,207,27],[206,28,207,28],[206,29,207,29],[206,30,207,30],[206,31,207,31],[206,32,207,32],[206,33,207,33],[210,14,210,16],[210,17,210,19],[210,20,210,22],[210,23,210,25],[211,0,212,0],[211,1,212,1],[211,2,212,4],[211,26,212,26],[211,27,212,27],[211,28,212,28],[211,29,212,29],[211,30,212,30],[211,31,212,31],[211,32,212,32],[211,33,212,33],[202,0,203,0],[202,1,203,1],[202,17,203,19],[202,26,203,26],[202,27,203,27],[202,28,203,28],[202,29,203,29],[202,30,203,30],[202,31,203,31],[202,32,203,32],[202,33,203,33],[204,0,205,0],[204,1,205,1],[204,20,205,22],[204,26,205,26],[204,27,205,27],[204,28,205,28],[204,29,205,29],[204,30,205,30],[204,31,205,31],[204,32,205,32],[204,33,205,33],[198,0,199,0],[198,1,199,1],[198,11,199,13],[198,26,199,26],[198,27,199,27],[198,28,199,28],[198,29,199,29],[198,30,199,30],[198,31,199,31],[198,32,199,32],[198,33,199,33],[200,0,201,0],[200,1,201,1],[200,14,201,16],[200,26,201,26],[200,27,201,27],[200,28,201,28],[200,29,201,29],[200,30,201,30],[200,31,201,31],[200,32,201,32],[200,33,201,33],[192,29,193,29],[192,30,193,30],[192,31,193,31],[192,32,193,32],[192,33,193,33],[194,0,195,0],[194,1,195,1],[194,5,195,7],[194,26,195,26],[194,27,195,27],[194,28,195,28],[194,29,195,29],[194,30,195,30],[194,31,195,31],[194,32,195,32],[194,33,195,33],[196,0,197,0],[196,1,197,1],[196,8,197,10],[196,26,197,26],[196,27,197,27],[196,28,197,28],[196,29,197,29],[196,30,197,30],[196,31,197,31],[196,32,197,32],[196,33,197,33],[185,32,186,32],[185,33,186,33],[187,0,188,0],[187,1,188,1],[187,23,188,25],[187,26,188,26],[187,27,188,27],[187,28,188,28],[187,29,188,29],[187,30,188,30],[187,31,188,31],[187,32,188,32],[187,33,188,33],[191,2,191,4],[191,5,191,7],[191,8,191,10],[191,11,191,13],[191,14,191,16],[191,17,191,19],[191,20,191,22],[191,23,191,25],[185,1,186,1],[185,20,186,22],[185,26,186,26],[185,27,186,27],[185,28,186,28],[185,29,186,29],[185,30,186,30],[179,0,180,0],[179,1,180,1],[179,11,180,13],[179,26,180,26],[179,27,180,27],[179,28,180,28],[179,29,180,29],[179,30,180,30],[179,31,180,31],[179,32,180,32],[179,33,180,33],[181,32,182,32],[181,33,182,33],[183,0,184,0],[183,1,184,1],[183,17,184,19],[183,26,184,26],[183,27,184,27],[183,28,184,28],[183,29,184,29],[183,30,184,30],[183,31,184,31],[183,32,184,32],[183,33,184,33],[181,0,182,0],[181,1,182,1],[181,14,182,16],[181,26,182,26],[181,27,182,27],[181,28,182,28],[181,29,182,29],[181,30,182,30],[175,29,176,29],[175,30,176,30],[175,31,176,31],[175,32,176,32],[175,33,176,33],[177,0,178,0],[177,1,178,1],[177,8,178,10],[177,26,178,26],[177,27,178,27],[177,28,178,28],[177,29,178,29],[177,30,178,30],[177,31,178,31],[177,32,178,32],[177,33,178,33],[172,2,172,4],[172,5,172,7],[172,11,172,13],[172,14,172,16],[172,17,172,19],[173,33,174,33],[175,0,176,0],[175,1,176,1],[175,5,176,7],[175,26,176,26],[175,27,176,27],[175,28,176,28],[164,33,165,33],[166,0,167,0],[166,1,167,1],[166,20,167,22],[166,26,167,26],[166,27,167,27],[166,28,167,28],[166,29,167,29],[166,30,167,30],[166,31,167,31],[166,32,167,32],[166,33,167,33],[168,0,169,0],[168,1,169,1],[168,23,169,25],[168,26,169,26],[168,27,169,27],[168,28,169,28],[168,29,169,29],[168,30,169,30],[168,31,169,31],[168,32,169,32],[168,33,169,33],[160,27,161,27],[160,28,161,28],[160,29,161,29],[160,30,161,30],[160,31,161,31],[160,32,161,32],[160,33,161,33],[158,8,159,10],[160,26,161,26],[162,0,163,0],[162,1,163,1],[162,14,163,16],[162,26,163,26],[162,27,163,27],[162,28,163,28],[162,29,163,29],[162,30,163,30],[162,31,163,31],[162,32,163,32],[162,33,163,33],[154,0,155,0],[154,1,155,1],[154,2,155,4],[154,26,155,26],[154,27,155,27],[154,28,155,28],[154,29,155,29],[154,30,155,30],[154,31,155,31],[154,32,155,32],[154,33,155,33],[156,0,157,0],[156,1,157,1],[156,5,157,7],[156,26,157,26],[156,27,157,27],[156,28,157,28],[156,29,157,29],[156,30,157,30],[156,31,157,31],[156,32,157,32],[156,33,157,33],[147,32,148,32],[147,33,148,33],[149,0,150,0],[149,1,150,1],[149,23,150,25],[149,26,150,26],[149,27,150,27],[149,28,150,28],[149,29,150,29],[149,30,150,30],[149,31,150,31],[149,32,150,32],[149,33,150,33],[153,2,153,4],[153,5,153,7],[153,8,153,10],[153,11,153,13],[153,14,153,16],[153,17,153,19],[153,20,153,22],[153,23,153,25],[143,0,144,0],[143,1,144,1],[143,14,144,16],[143,26,144,26],[143,27,144,27],[143,28,144,28],[143,29,144,29],[143,30,144,30],[143,31,144,31],[147,0,148,0],[147,1,148,1],[147,20,148,22],[147,26,148,26],[147,27,148,27],[147,28,148,28],[147,29,148,29],[147,30,148,30],[147,31,148,31],[134,2,134,4],[134,5,134,7],[134,8,134,10],[134,11,134,13],[134,14,134,16],[134,17,134,19],[134,20,134,22],[134,23,134,25],[137,26,138,26],[137,27,138,27],[137,28,138,28],[137,29,138,29],[137,30,138,30],[137,31,138,31],[137,32,138,32],[137,33,138,33],[139,0,140,0],[139,1,140,1],[139,8,140,10],[139,26,140,26],[139,27,140,27],[139,28,140,28],[139,29,140,29],[139,30,140,30],[139,31,140,31],[139,32,140,32],[139,33,140,33],[135,33,136,33],[135,27,136,27],[135,28,136,28],[135,29,136,29],[135,30,136,30],[126,33,127,33],[128,0,129,0],[128,1,129,1],[128,20,129,22],[128,26,129,26],[128,27,129,27],[128,28,129,28],[128,29,129,29],[128,30,129,30],[128,31,129,31],[128,33,129,33],[130,0,131,0],[130,1,131,1],[130,23,131,25],[130,26,131,26],[130,27,131,27],[130,28,131,28],[130,29,131,29],[130,30,131,30],[130,31,131,31],[130,33,131,33],[120,0,121,0],[120,1,121,1],[120,8,121,10],[120,26,121,26],[120,27,121,27],[120,28,121,28],[120,29,121,29],[122,33,123,33],[124,0,125,0],[124,1,125,1],[124,14,125,16],[124,26,125,26],[124,27,125,27],[124,28,125,28],[124,29,125,29],[124,30,125,30],[124,31,125,31],[124,33,125,33],[120,31,121,31],[120,33,121,33],[122,30,123,30],[122,31,123,31],[122,29,123,29],[111,0,112,0],[111,1,112,1],[111,23,112,25],[111,26,112,26],[111,27,112,27],[111,28,112,28],[111,29,112,29],[111,30,112,30],[111,31,112,31],[111,32,112,32],[111,33,112,33],[109,0,110,0],[109,1,110,1],[109,20,110,22],[109,26,110,26],[109,27,110,27],[115,2,115,4],[115,5,115,7],[115,8,115,10],[115,11,115,13],[115,14,115,16],[115,17,115,19],[115,20,115,22],[115,23,115,25],[105,1,106,1],[105,14,106,16],[105,26,106,26],[105,27,106,27],[105,28,106,28],[105,29,106,29],[105,30,106,30],[105,31,106,31],[105,32,106,32],[105,33,106,33],[101,8,102,10],[109,28,110,28],[109,29,110,29],[109,30,110,30],[109,31,110,31],[109,32,110,32],[109,33,110,33],[101,31,102,31],[101,32,102,32],[101,33,102,33],[107,28,108,28],[107,29,108,29],[107,30,108,30],[107,31,108,31],[107,32,108,32],[107,33,108,33],[96,2,96,4],[96,5,96,7],[96,8,96,10],[96,11,96,13],[96,14,96,16],[96,17,96,19],[96,20,96,22],[96,23,96,25],[101,26,102,26],[101,27,102,27],[101,28,102,28],[101,29,102,29],[101,30,102,30],[103,0,104,0],[103,1,104,1],[103,11,104,13],[103,26,104,26],[103,27,104,27],[103,28,104,28],[103,29,104,29],[103,30,104,30],[101,1,102,1],[99,5,100,7],[97,0,98,0],[97,1,98,1],[97,29,98,29],[97,30,98,30],[99,29,100,29],[99,30,100,30],[90,0,91,0],[90,1,91,1],[90,20,91,22],[90,26,91,26],[90,27,91,27],[90,28,91,28],[90,29,91,29],[90,30,91,30],[90,31,91,31],[90,32,91,32],[90,33,91,33],[92,0,93,0],[92,1,93,1],[92,23,93,25],[92,26,93,26],[92,27,93,27],[92,28,93,28],[92,29,93,29],[92,30,93,30],[92,31,93,31],[92,32,93,32],[92,33,93,33],[86,28,87,28],[86,29,87,29],[86,30,87,30],[86,31,87,31],[86,32,87,32],[86,33,87,33],[78,0,79,0],[78,1,79,1],[78,26,79,26],[78,27,79,27],[78,28,79,28],[78,29,79,29],[78,30,79,30],[78,31,79,31],[88,0,89,0],[88,1,89,1],[88,17,89,19],[88,26,89,26],[88,27,89,27],[88,28,89,28],[88,29,89,29],[88,30,89,30],[88,31,89,31],[88,32,89,32],[88,33,89,33],[78,32,79,32],[78,33,79,33],[80,28,81,28],[80,29,81,29],[80,30,81,30],[80,31,81,31],[80,32,81,32],[77,2,77,4],[77,5,77,7],[77,8,77,10],[77,11,77,13],[77,14,77,16],[77,17,77,19],[77,20,77,22],[77,23,77,25],[78,2,79,4],[80,5,81,7],[82,8,83,10],[84,11,85,13],[86,0,87,0],[86,1,87,1],[86,14,87,16],[86,26,87,26],[86,27,87,27],[80,0,81,0],[80,1,81,1],[80,26,81,26],[80,27,81,27],[42,5,43,7],[44,8,45,10],[46,11,47,13],[48,14,49,16],[50,17,51,19],[52,0,53,0],[52,1,53,1],[52,20,53,22],[52,26,53,26],[52,27,53,27],[52,28,53,28],[52,29,53,29],[52,30,53,30],[52,31,53,31],[52,32,53,32],[52,33,53,33],[44,0,45,0],[44,1,45,1],[44,26,45,26],[44,27,45,27],[44,28,45,28],[44,30,45,30],[44,32,45,32],[46,33,47,33],[42,0,43,0],[42,1,43,1],[42,26,43,26],[42,27,43,27],[42,28,43,28],[42,33,43,33],[48,0,49,0],[48,1,49,1],[40,1,41,1],[40,26,41,26],[40,27,41,27],[40,28,41,28],[40,29,41,29],[33,0,34,0],[33,27,34,27],[33,28,34,28],[31,27,32,27],[31,28,32,28],[29,28,30,28],[35,33,36,33],[39,2,39,4],[39,5,39,7],[39,8,39,10],[39,11,39,13],[39,14,39,16],[39,17,39,19],[39,20,39,22],[39,23,39,25],[40,2,41,4],[40,33,41,33],[35,30,36,30],[35,31,36,31],[31,26,32,26],[31,33,32,33],[35,32,36,32],[141,28,142,28],[141,29,142,29],[141,30,142,30],[141,31,142,31],[141,32,142,32],[141,33,142,33],[143,33,144,33],[143,32,144,32],[164,0,165,0],[164,1,165,1],[164,17,165,19],[164,26,165,26],[164,27,165,27],[164,28,165,28],[164,29,165,29],[164,30,165,30],[164,31,165,31],[164,32,165,32],[160,0,161,0],[160,1,161,1],[160,11,161,13],[145,0,146,0],[145,1,146,1],[145,17,146,19],[145,26,146,26],[145,27,146,27],[145,28,146,28],[145,29,146,29],[145,30,146,30],[145,31,146,31],[145,32,146,32],[145,33,146,33],[97,33,98,33],[158,0,159,0],[158,1,159,1],[158,26,159,26],[158,27,159,27],[158,28,159,28],[158,29,159,29],[158,30,159,30],[158,31,159,31],[158,32,159,32],[158,33,159,33],[135,1,136,1],[135,26,136,26],[116,30,117,30],[120,30,121,30],[122,0,123,0],[122,1,123,1],[122,11,123,13],[122,26,123,26],[122,27,123,27],[122,28,123,28],[97,26,98,26],[97,27,98,27],[97,28,98,28],[97,2,98,4],[107,0,108,0],[107,1,108,1],[107,17,108,19],[107,26,108,26],[107,27,108,27],[135,0,136,0],[135,2,136,4],[69,32,70,32],[63,29,64,29],[63,30,64,30],[29,29,30,29],[29,30,30,30],[97,31,98,31],[97,32,98,32],[35,29,36,29],[54,29,55,29],[44,29,45,29],[46,31,47,31],[46,32,47,32],[40,30,41,30],[40,31,41,31],[40,32,41,32],[42,29,43,29],[42,30,43,30],[42,31,43,31],[42,32,43,32],[54,32,55,32],[31,32,32,32],[29,32,30,32],[25,0,26,0],[25,30,26,30],[25,31,26,31],[25,8,26,10],[27,11,28,13],[25,1,26,1],[25,26,26,26],[25,27,26,27],[23,0,24,0],[25,28,26,28],[44,31,45,31],[31,29,32,29],[31,30,32,30],[31,31,32,31],[21,29,22,29],[21,30,22,30],[21,31,22,31],[27,30,28,30],[27,31,28,31],[27,29,28,29],[29,14,30,16],[31,17,32,19],[33,20,34,22],[35,0,36,0],[35,1,36,1],[35,23,36,25],[35,26,36,26],[35,27,36,27],[35,28,36,28],[31,0,32,0],[31,1,32,1],[40,0,41,0],[21,33,22,33],[27,33,28,33],[27,26,28,26],[27,27,28,27],[27,28,28,28],[23,1,24,1],[23,5,24,7],[23,26,24,26],[23,27,24,27],[23,28,24,28],[23,29,24,29],[23,30,24,30],[23,31,24,31],[23,32,24,32],[23,33,24,33],[21,32,22,32],[27,32,28,32],[25,29,26,29],[4,32,5,32],[4,33,5,33],[6,8,7,10],[29,31,30,31],[29,0,30,0],[29,1,30,1],[29,26,30,26],[29,27,30,27],[33,33,34,33],[33,1,34,1],[33,26,34,26],[14,30,15,30],[14,29,15,29],[12,28,13,28],[10,28,11,28],[20,14,20,16],[20,17,20,19],[20,20,20,22],[20,23,20,25],[21,2,22,4],[21,26,22,26],[21,27,22,27],[21,28,22,28],[25,32,26,32],[25,33,26,33],[33,29,34,29],[33,30,34,30],[33,31,34,31],[33,32,34,32],[20,2,20,4],[16,33,17,33],[29,33,30,33],[2,33,3,33],[2,30,3,30],[10,33,11,33],[2,31,3,31],[10,30,11,30],[12,33,13,33],[12,30,13,30],[8,29,9,29],[12,31,13,31],[10,26,11,26],[14,26,15,26],[8,26,9,26],[2,32,3,32],[8,32,9,32],[10,32,11,32],[12,32,13,32],[14,32,15,32],[10,29,11,29],[14,33,15,33],[14,31,15,31],[2,27,3,27],[10,27,11,27],[8,33,9,33],[8,30,9,30],[6,26,7,26],[6,27,7,27],[6,28,7,28],[6,29,7,29],[6,30,7,30],[6,31,7,31],[6,32,7,32],[6,33,7,33],[16,31,17,31],[21,0,22,0],[21,1,22,1],[27,1,28,1],[27,0,28,0],[8,31,9,31],[10,31,11,31],[16,29,17,29],[14,28,15,28],[12,29,13,29],[4,0,5,0],[1,8,1,10],[16,32,17,32],[14,0,15,0],[10,1,11,1],[14,1,15,1],[2,28,3,28],[12,27,13,27],[8,28,9,28],[20,8,20,10],[20,5,20,7],[20,11,20,13],[12,17,13,19],[6,1,7,1],[4,1,5,1],[4,5,5,7],[4,26,5,26],[4,27,5,27],[4,28,5,28],[4,29,5,29],[4,30,5,30],[4,31,5,31],[1,2,1,4],[1,11,1,13],[1,14,1,16],[1,17,1,19],[16,26,17,26],[16,27,17,27],[1,20,1,22],[12,26,13,26],[16,23,17,25],[16,30,17,30],[2,29,3,29],[2,0,3,0],[8,0,9,0],[2,1,3,1],[2,26,3,26],[2,2,3,4],[8,11,9,13],[6,0,7,0],[8,1,9,1],[10,14,11,16],[1,5,1,7],[1,23,1,25],[8,27,9,27],[16,28,17,28],[14,27,15,27],[16,1,17,1],[16,0,17,0],[14,20,15,22]],"merged_total":1336,"flags":["merged_cut"]}
[null,{"$f":"+データ１!$B$2","v":"2023/2/25"},{"$f":"+データ１!$B$4","v":"２０２３年 "}]
[null,{"$f":"+データ１!B6","v":"スーパーリ－グ 　　                  　　　 第１７回大会  　　　        　Aブロック     　　              ２０２３"},{"$f":"+IF(B3=\"\",\"\",+B3)","v":"有馬スワローズ"},null,null,{"$f":"+IF(B5=\"\",\"\",+B5)","v":"麹町ドリームス"},null,null,{"$f":"+IF(B7=\"\",\"\",+B7)","v":"山野レッドイーグルス"},null,null,{"$f":"+IF(B9=\"\",\"\",+B9)","v":"リトルジャイアンツ"},null,null,{"$f":"+IF(B11=\"\",\"\",+B11)","v":"大島タイガース"},null,null,{"$f":"+IF(B13=\"\",\"\",+B13)","v":"麻布キッズ"},null,null,{"$f":"+IF(B15=\"\",\"\",+B15)","v":"葛西ファイターズ"},null,null,{"$f":"+IF(B17=\"\",\"\",+B17)","v":"コンバッツ"},null,null,"勝","負","分","勝点","失点","得点","順位決定要素","順位"]
[1,{"$f":"IF(データ２!B2=\"\",\"\",VLOOKUP(A3,データ２!$A$2:$B$224,2))","v":"有馬スワローズ"},"＊",{"$nulls":8},"A","-",3,"A","-",4,"A","-",5,{"$nulls":6},{"$f":"COUNTIF(C3:Z4,\"○\")","v":1},{"$f":"COUNTIF(C3:Z4,\"●\")","v":3},{"$f":"COUNTIF(C3:Z4,\"△\")","v":0},{"$f":"+AA3*3+AC3*1","v":3},{"$f":"+H4+K4+N4+Q4+T4+W4+Z4","v":40},{"$f":"+F4+I4+L4+O4+R4+U4+X4","v":23},{"$f":"+RANK(AD3,$AD$3:$AD$18,0)*100+RANK(AE3,$AE$3:$AE$18,1)*10+RANK(AF3,$AF$3:$AF$18,0)","v":383},{"$f":"+RANK(AG3,$AG$3:$AG$18,1)","v":4}]
[{"$nulls":5},6,"○",1,6,"●",15,null,"-",null,null,"-",null,null,"-",null,3,"●",12,8,"●",12]
[2,{"$f":"IF(データ２!B4=\"\",\"\",VLOOKUP(A5,データ２!$A$2:$B$224,2))","v":"麹町ドリームス"},null,null,null,"＊",{"$nulls":5},"A","-",9,"A","-",10,"A","-",11,"A","-",12,"A","-",13,{"$f":"COUNTIF(C5:Z6,\"○\")","v":0},{"$f":"COUNTIF(C5:Z6,\"●\")","v":2},{"$f":"COUNTIF(C5:Z6,\"△\")","v":0},{"$f":"+AA5*3+AC5*1","v":0},{"$f":"+E6+K6+N6+Q6+T6+W6+Z6","v":23},{"$f":"+C6+I6+L6+O6+R6+U6+X6","v":1},{"$f":"+RANK(AD5,$AD$3:$AD$18,0)*100+RANK(AE5,$AE$3:$AE$18,1)*10+RANK(AF5,$AF$3:$AF$18,0)","v":567},{"$f":"+RANK(AG5,$AG$3:$AG$18,1)","v":8}]
[null,null,1,"●",6,null,null,null,0,"●",17,null,"-",null,null,"-",null,null,"-",null,null,"-",null,null,"-"]
[3,{"$f":"IF(データ２!B6=\"\",\"\",VLOOKUP(A7,データ２!$A$2:$B$224,2))","v":"山野レッドイーグルス"},{"$nulls":6},"＊",{"$nulls":5},"A","-",15,"A","-",16,{"$nulls":6},{"$f":"COUNTIF(C7:Z8,\"○\")","v":4},{"$f":"COUNTIF(C7:Z8,\"●\")","v":1},{"$f":"COUNTIF(C7:Z8,\"△\")","v":0},{"$f":"+AA7*3+AC7*1","v":12},{"$f":"+E8+H8+N8+Q8+T8+W8+Z8","v":18},{"$f":"C8+F8+L8+O8+R8+U8+X8","v":58},{"$f":"+RANK(AD7,$AD$3:$AD$18,0)*100+RANK(AE7,$AE$3:$AE$18,1)*10+RANK(AF7,$AF$3:$AF$18,0)","v":151},{"$f":"+RANK(AG7,$AG$3:$AG$18,1)","v":2}]
[null,null,15,"○",6,17,"○",0,null,null,null,16,"○",5,null,"-",null,null,"-",null,2,"●",5,8,"○",2]
[4,{"$f":"IF(データ２!B8=\"\",\"\",VLOOKUP(A9,データ２!$A$2:$B$224,2))","v":"リトルジャイアンツ"},"A","-",3,"A","-",9,null,null,null,"＊",null,null,"A","-",19,"A","-",20,"A","-",21,"A","-",22,{"$f":"COUNTIF(C9:Z10,\"○\")","v":0},{"$f":"COUNTIF(C9:Z10,\"●\")","v":1},{"$f":"COUNTIF(C9:Z10,\"△\")","v":0},{"$f":"+AA9*3+AC9*1","v":0},{"$f":"+E10+H10+K10+Q10+T10+W10+Z10","v":16},{"$f":"C10+F10+I10+O10+R10+U10+X10","v":5},{"$f":"+RANK(AD9,$AD$3:$AD$18,0)*100+RANK(AE9,$AE$3:$AE$18,1)*10+RANK(AF9,$AF$3:$AF$18,0)","v":545},{"$f":"+RANK(AG9,$AG$3:$AG$18,1)","v":7}]
[null,null,null,"-",null,null,"-",null,5,"●",16,{"$nulls":4},"-",null,null,"-",null,null,"-",null,null,"-"]
[5,{"$f":"IF(データ２!B10=\"\",\"\",VLOOKUP(A11,データ２!$A$2:$B$224,2))","v":"大島タイガース"},"A","-",4,"A","-",10,"A","-",15,"A","-",19,"＊",null,null,"A","-",23,null,null,null,"A","-",25,{"$f":"COUNTIF(C11:Z12,\"○\")","v":0},{"$f":"COUNTIF(C11:Z12,\"●\")","v":1},{"$f":"COUNTIF(C11:Z12,\"△\")","v":0},{"$f":"+AA11*3+AC11*1","v":0},{"$f":"+E12+H12+K12+N12+T12+W12+Z12","v":13},{"$f":"C12+F12+I12+L12+R12+U12+X12+AA12","v":2},{"$f":"+RANK(AD11,$AD$3:$AD$18,0)*100+RANK(AE11,$AE$3:$AE$18,1)*10+RANK(AF11,$AF$3:$AF$18,0)","v":536},{"$f":"+RANK(AG11,$AG$3:$AG$18,1)","v":6}]
[null,null,null,"-",null,null,"-",null,null,"-",null,null,"-",{"$nulls":5},"-",null,2,"●",13,null,"-"]
[6,{"$f":"IF(データ２!B12=\"\",\"\",VLOOKUP(A13,データ２!$A$2:$B$224,2))","v":"麻布キッズ"},"A","-",5,"A","-",11,"A","-",16,"A","-",20,"A","-",23,"＊",null,null,"A","-",26,"A","-",27,{"$f":"COUNTIF(C13:Z14,\"○\")","v":0},{"$f":"COUNTIF(C13:Z14,\"●\")","v":0},{"$f":"COUNTIF(C13:Z14,\"△\")","v":0},{"$f":"+AA13*3+AC13*1","v":0},{"$f":"+E14+H14+K14+N14+Q14+W14+Z14","v":0},{"$f":"C14+F14+I14+L14+O14+U14+X14","v":0},{"$f":"+RANK(AD13,$AD$3:$AD$18,0)*100+RANK(AE13,$AE$3:$AE$18,1)*10+RANK(AF13,$AF$3:$AF$18,0)","v":518},{"$f":"+RANK(AG13,$AG$3:$AG$18,1)","v":5}]
[null,null,null,"-",null,null,"-",null,null,"-",null,null,"-",null,null,"-",{"$nulls":5},"-",null,null,"-"]
[7,{"$f":"IF(データ２!B14=\"\",\"\",VLOOKUP(A15,データ２!$A$2:$B$224,2))","v":"葛西ファイターズ"},null,null,null,"A","-",12,null,null,null,"A","-",21,null,null,null,"A","-",26,"＊",{"$nulls":5},{"$f":"COUNTIF(C15:Z16,\"○\")","v":4},{"$f":"COUNTIF(C15:Z16,\"●\")","v":0},{"$f":"COUNTIF(C15:Z16,\"△\")","v":0},{"$f":"+AA15*3+AC15*1","v":12},{"$f":"+E16+H16+K16+N16+Q16+T16+Z16","v":10},{"$f":"C16+F16+I16+L16+O16+R16+U16+X16","v":47},{"$f":"+RANK(AD15,$AD$3:$AD$18,0)*100+RANK(AE15,$AE$3:$AE$18,1)*10+RANK(AF15,$AF$3:$AF$18,0)","v":122},{"$f":"+RANK(AG15,$AG$3:$AG$18,1)","v":1}]
[null,null,12,"○",3,null,"-",null,5,"○",2,null,"-",null,13,"○",2,null,"-",{"$nulls":4},17,"○",3]
[8,{"$f":"IF(データ２!B16=\"\",\"\",VLOOKUP(A17,データ２!$A$2:$B$224,2))","v":"コンバッツ"},null,null,null,"A","-",13,null,null,null,"A","-",22,"A","-",25,"A","-",27,null,null,null,"＊",null,null,{"$f":"COUNTIF(C17:Z18,\"○\")","v":1},{"$f":"COUNTIF(C17:Z18,\"●\")","v":2},{"$f":"COUNTIF(C17:Z18,\"△\")","v":0},{"$f":"+AA17*3+AC17*1","v":3},{"$f":"+E18+H18+K18+N18+Q18+T18+W18","v":33},{"$f":"C18+F18+I18+L18+O18+R18+U18+X18","v":17},{"$f":"+RANK(AD17,$AD$3:$AD$18,0)*100+RANK(AE17,$AE$3:$AE$18,1)*10+RANK(AF17,$AF$3:$AF$18,0)","v":374},{"$f":"+RANK(AG17,$AG$3:$AG$18,1)","v":3}]
[null,null,12,"○",8,null,"-",null,2,"●",8,null,"-",null,null,"-",null,null,"-",null,3,"●",17]
[{"$nulls":26},{"$f":"SUM(AA3:AA18)","v":10},{"$f":"SUM(AB3:AB18)","v":10},{"$f":"SUM(AC3:AC18)","v":0},null,{"$f":"SUM(AE3:AE18)","v":153},153,null,{"$f":"28-AA19-(AC19/2)","v":18}]
[null,{"$f":"+データ１!$B$2","v":"2023/2/25"},{"$f":"+データ１!$B$4","v":"２０２３年 "}]
[null,{"$f":"+データ１!B8","v":"スーパーリ－グ 　　                  　　　 第１７回大会  　　　        　Ｂブロック     　　              ２０２３"},{"$f":"+IF(B22=\"\",\"\",+B22)","v":"葛飾アニマルズ"},null,null,{"$f":"+IF(B24=\"\",\"\",+B24)","v":"淀四ライオンズ"},null,null,{"$f":"+IF(B26=\"\",\"\",+B26)","v":"エンジェルス"},null,null,{"$f":"+IF(B28=\"\",\"\",+B28)","v":"初台ビクトリー"},null,null,{"$f":"+IF(B30=\"\",\"\",+B30)","v":"ニュー愛宕"},null,null,{"$f":"+IF(B32=\"\",\"\",+B32)","v":"高輪クラブ"},null,null,{"$f":"+IF(B34=\"\",\"\",+B34)","v":"南篠崎ランチャーズ"},null,null,{"$f":"+IF(B36=\"\",\"\",+B36)","v":"勝どきドリームN"},null,null,"勝","負","分","勝点","失点","得点","順位決定要素","順位"]
[9,{"$f":"IF(データ２!B18=\"\",\"\",VLOOKUP(A22,データ２!$A$2:$B$224,2))","v":"葛飾アニマルズ"},"＊",null,null,"Ｂ","-",1,null,null,null,"Ｂ","-",3,null,null,null,"Ｂ","-",5,"Ｂ","-",6,"Ｂ","-",7,{"$f":"COUNTIF(C22:Z23,\"○\")","v":1},{"$f":"COUNTIF(C22:Z23,\"●\")","v":1},{"$f":"COUNTIF(C22:Z23,\"△\")","v":0},{"$f":"+AA22*3+AC22*1","v":3},{"$f":"+H23+K23+N23+Q23+T23+W23+Z23","v":14},{"$f":"+F23+I23+L23+O23+R23+U23+X23","v":8},{"$f":"+RANK(AD22,$AD$22:$AD$37,0)*100+RANK(AE22,$AE$22:$AE$37,1)*10+RANK(AF22,$AF$22:$AF$37,0)","v":536},{"$f":"+RANK(AG22,$AG$22:$AG$37,1)","v":5}]
[{"$nulls":6},"-",null,5,"○",3,null,"-",null,3,"●",11,null,"-",null,null,"-",null,null,"-"]
[10,{"$f":"IF(データ２!B20=\"\",\"\",VLOOKUP(A24,データ２!$A$2:$B$224,2))","v":"淀四ライオンズ"},"Ｂ","-",1,"＊",null,null,"Ｂ","-",8,"Ｂ","-",9,{"$nulls":6},"Ｂ","-",12,null,null,null,{"$f":"COUNTIF(C24:Z25,\"○\")","v":1},{"$f":"COUNTIF(C24:Z25,\"●\")","v":1},{"$f":"COUNTIF(C24:Z25,\"△\")","v":1},{"$f":"+AA24*3+AC24*1","v":4},{"$f":"+E25+K25+N25+Q25+T25+W25+Z25","v":18},{"$f":"+C25+I25+L25+O25+R25+U25+X25","v":13},{"$f":"+RANK(AD24,$AD$22:$AD$37,0)*100+RANK(AE24,$AE$22:$AE$37,1)*10+RANK(AF24,$AF$22:$AF$37,0)","v":355},{"$f":"+RANK(AG24,$AG$22:$AG$37,1)","v":3}]
[null,null,null,"-",{"$nulls":5},"-",null,null,"-",null,6,"○",3,1,"●",9,null,"-",null,6,"△",6]
[11,{"$f":"IF(データ２!B22=\"\",\"\",VLOOKUP(A26,データ２!$A$2:$B$224,2))","v":"エンジェルス"},null,null,null,"Ｂ","-",8,"＊",null,null,"Ｂ","-",14,null,null,null,"Ｂ","-",16,"Ｂ","-",17,null,null,null,{"$f":"COUNTIF(C26:Z27,\"○\")","v":1},{"$f":"COUNTIF(C26:Z27,\"●\")","v":2},{"$f":"COUNTIF(C26:Z27,\"△\")","v":0},{"$f":"+AA26*3+AC26*1","v":3},{"$f":"+E27+H27+N27+Q27+T27+W27+Z27","v":22},{"$f":"C27+F27+L27+O27+R27+U27+X27","v":15},{"$f":"+RANK(AD26,$AD$22:$AD$37,0)*100+RANK(AE26,$AE$22:$AE$37,1)*10+RANK(AF26,$AF$22:$AF$37,0)","v":574},{"$f":"+RANK(AG26,$AG$22:$AG$37,1)","v":6}]
[null,null,3,"●",5,null,"-",{"$nulls":5},"-",null,5,"●",11,null,"-",null,null,"-",null,7,"○",6]
[12,{"$f":"IF(データ２!B24=\"\",\"\",VLOOKUP(A28,データ２!$A$2:$B$224,2))","v":"初台ビクトリー"},"Ｂ","-",3,"Ｂ","-",9,"Ｂ","-",14,"＊",{"$nulls":5},"Ｂ","-",20,"Ｂ","-",21,"Ｂ","-",22,{"$f":"COUNTIF(C28:Z29,\"○\")","v":0},{"$f":"COUNTIF(C28:Z29,\"●\")","v":1},{"$f":"COUNTIF(C28:Z29,\"△\")","v":0},{"$f":"+AA28*3+AC28*1","v":0},{"$f":"+E29+H29+K29+Q29+T29+W29+Z29","v":6},{"$f":"C29+F29+I29+O29+R29+U29+X29","v":2},{"$f":"+RANK(AD28,$AD$22:$AD$37,0)*100+RANK(AE28,$AE$22:$AE$37,1)*10+RANK(AF28,$AF$22:$AF$37,0)","v":728},{"$f":"+RANK(AG28,$AG$22:$AG$37,1)","v":7}]
[null,null,null,"-",null,null,"-",null,null,"-",{"$nulls":4},2,"●",6,null,"-",null,null,"-",null,null,"-"]
[13,{"$f":"IF(データ２!B26=\"\",\"\",VLOOKUP(A30,データ２!$A$2:$B$224,2))","v":"ニュー愛宕"},{"$nulls":12},"＊",null,null,"Ｂ","-",23,"Ｂ","-",24,"Ｂ","-",25,{"$f":"COUNTIF(C30:Z31,\"○\")","v":3},{"$f":"COUNTIF(C30:Z31,\"●\")","v":1},{"$f":"COUNTIF(C30:Z31,\"△\")","v":0},{"$f":"+AA30*3+AC30*1","v":9},{"$f":"+E31+H31+K31+N31+T31+W31+Z31","v":16},{"$f":"C31+F31+I31+L31+R31+U31+X31+AA31","v":31},{"$f":"+RANK(AD30,$AD$22:$AD$37,0)*100+RANK(AE30,$AE$22:$AE$37,1)*10+RANK(AF30,$AF$22:$AF$37,0)","v":142},{"$f":"+RANK(AG30,$AG$22:$AG$37,1)","v":2}]
[null,null,11,"○",3,3,"●",6,11,"○",5,6,"○",2,{"$nulls":4},"-",null,null,"-",null,null,"-"]
[14,{"$f":"IF(データ２!B28=\"\",\"\",VLOOKUP(A32,データ２!$A$2:$B$224,2))","v":"高輪クラブ"},"Ｂ","-",5,null,null,null,"Ｂ","-",16,"Ｂ","-",20,"Ｂ","-",23,"＊",{"$nulls":8},{"$f":"COUNTIF(C32:Z33,\"○\")","v":3},{"$f":"COUNTIF(C32:Z33,\"●\")","v":0},{"$f":"COUNTIF(C32:Z33,\"△\")","v":0},{"$f":"+AA32*3+AC32*1","v":9},{"$f":"+E33+H33+K33+N33+Q33+W33+Z33","v":3},{"$f":"C33+F33+I33+L33+O33+U33+X33","v":33},{"$f":"+RANK(AD32,$AD$22:$AD$37,0)*100+RANK(AE32,$AE$22:$AE$37,1)*10+RANK(AF32,$AF$22:$AF$37,0)","v":111},{"$f":"+RANK(AG32,$AG$22:$AG$37,1)","v":1}]
[null,null,null,"-",null,9,"○",1,null,"-",null,null,"-",null,null,"-",{"$nulls":4},12,"○",2,12,"○",0]
[15,{"$f":"IF(データ２!B30=\"\",\"\",VLOOKUP(A34,データ２!$A$2:$B$224,2))","v":"南篠崎ランチャーズ"},"Ｂ","-",6,"Ｂ","-",12,"Ｂ","-",17,"Ｂ","-",21,"Ｂ","-",24,null,null,null,"＊",{"$nulls":5},{"$f":"COUNTIF(C34:Z35,\"○\")","v":0},{"$f":"COUNTIF(C34:Z35,\"●\")","v":2},{"$f":"COUNTIF(C34:Z35,\"△\")","v":0},{"$f":"+AA34*3+AC34*1","v":0},{"$f":"+E35+H35+K35+N35+Q35+T35+Z35","v":19},{"$f":"C35+F35+I35+L35+O35+R35+U35+X35","v":8},{"$f":"+RANK(AD34,$AD$22:$AD$37,0)*100+RANK(AE34,$AE$22:$AE$37,1)*10+RANK(AF34,$AF$22:$AF$37,0)","v":766},{"$f":"+RANK(AG34,$AG$22:$AG$37,1)","v":8}]
[null,null,null,"-",null,null,"-",null,null,"-",null,null,"-",null,null,"-",null,2,"●",12,null,null,null,6,"●",7]
[16,{"$f":"IF(データ２!B32=\"\",\"\",VLOOKUP(A36,データ２!$A$2:$B$224,2))","v":"勝どきドリームN"},"Ｂ","-",7,{"$nulls":6},"Ｂ","-",22,"Ｂ","-",25,{"$nulls":6},"＊",null,null,{"$f":"COUNTIF(C36:Z37,\"○\")","v":1},{"$f":"COUNTIF(C36:Z37,\"●\")","v":2},{"$f":"COUNTIF(C36:Z37,\"△\")","v":1},{"$f":"+AA36*3+AC36*1","v":4},{"$f":"+E37+H37+K37+N37+Q37+T37+W37","v":31},{"$f":"C37+F37+I37+L37+O37+R37+U37+X37","v":19},{"$f":"+RANK(AD36,$AD$22:$AD$37,0)*100+RANK(AE36,$AE$22:$AE$37,1)*10+RANK(AF36,$AF$22:$AF$37,0)","v":383},{"$f":"+RANK(AG36,$AG$22:$AG$37,1)","v":4}]
[null,null,null,"-",null,6,"△",6,6,"●",7,null,"-",null,null,"-",null,0,"●",12,7,"○",6]
[{"$nulls":26},{"$f":"SUM(AA22:AA37)","v":10},{"$f":"SUM(AB22:AB37)","v":10},{"$f":"SUM(AC22:AC37)","v":2},null,{"$f":"SUM(AE22:AE37)","v":129},{"$f":"SUM(AF22:AF37)","v":129},null,{"$f":"28-AA38-(AC38/2)","v":17}]
[null,{"$f":"+データ１!$B$2","v":"2023/2/25"},{"$f":"+データ１!$B$4","v":"２０２３年 "}]
[null,{"$f":"+データ１!B10","v":"スーパーリ－グ 　　                  　　　 第１７回大会  　　　        　Ｃブロック     　　              ２０２３"},{"$f":"+IF(B41=\"\",\"\",+B41)","v":"高島エイト"},null,null,{"$f":"+IF(B43=\"\",\"\",+B43)","v":"新宿ドリーム"},null,null,{"$f":"+IF(B45=\"\",\"\",+B45)","v":"糀谷イーグルス"},null,null,{"$f":"+IF(B47=\"\",\"\",+B47)","v":"富ヶ谷ノーティーボーイズ"},null,null,{"$f":"+IF(B49=\"\",\"\",+B49)","v":"深川レッドソックス"},null,null,{"$f":"+IF(B51=\"\",\"\",+B51)","v":"御殿山ファイターズ"},null,null,{"$f":"+IF(B53=\"\",\"\",+B53)","v":"堀小スワローズ"},null,null,{"$f":"+IF(B55=\"\",\"\",+B55)","v":"豊島ブレイズ"},null,null,"勝","負","分","勝点","失点","得点","順位決定要素","順位"]
[17,{"$f":"IF(データ２!B34=\"\",\"\",VLOOKUP(A41,データ２!$A$2:$B$224,2))","v":"高島エイト"},"＊",null,null,"Ｃ","-",1,"Ｃ","-",2,null,null,null,"Ｃ","-",4,null,null,null,"Ｃ","-",6,null,null,null,{"$f":"COUNTIF(C41:Z42,\"○\")","v":2},{"$f":"COUNTIF(C41:Z42,\"●\")","v":1},{"$f":"COUNTIF(C41:Z42,\"△\")","v":0},{"$f":"+AA41*3+AC41*1","v":6},{"$f":"+H42+K42+N42+Q42+T42+W42+Z42","v":15},{"$f":"+F42+I42+L42+O42+R42+U42+X42","v":28},{"$f":"+RANK(AD41,$AD$41:$AD$56,0)*100+RANK(AE41,$AE$41:$AE$56,1)*10+RANK(AF41,$AF$41:$AF$56,0)","v":333},{"$f":"+RANK(AG41,$AG$41:$AG$56,1)","v":3}]
[{"$nulls":6},"-",null,null,"-",null,9,"○",4,null,"-",null,16,"○",5,null,"-",null,3,"●",6]
[18,{"$f":"IF(データ２!B36=\"\",\"\",VLOOKUP(A43,データ２!$A$2:$B$224,2))","v":"新宿ドリーム"},"Ｃ","-",1,"＊",null,null,"Ｃ","-",8,"Ｃ","-",9,null,null,null,"Ｃ","-",11,null,null,null,"Ｃ","-",13,{"$f":"COUNTIF(C43:Z44,\"○\")","v":0},{"$f":"COUNTIF(C43:Z44,\"●\")","v":2},{"$f":"COUNTIF(C43:Z44,\"△\")","v":0},{"$f":"+AA43*3+AC43*1","v":0},{"$f":"+E44+K44+N44+Q44+T44+W44+Z44","v":36},{"$f":"+C44+I44+L44+O44+R44+U44+X44","v":1},{"$f":"+RANK(AD43,$AD$41:$AD$56,0)*100+RANK(AE43,$AE$41:$AE$56,1)*10+RANK(AF43,$AF$41:$AF$56,0)","v":688},{"$f":"+RANK(AG43,$AG$41:$AG$56,1)","v":8}]
[null,null,null,"-",{"$nulls":5},"-",null,null,"-",null,0,"●",17,null,"-",null,1,"●",19,null,"-"]
[19,{"$f":"IF(データ２!B38=\"\",\"\",VLOOKUP(A45,データ２!$A$2:$B$224,2))","v":"糀谷イーグルス"},"Ｃ","-",2,"Ｃ","-",8,"＊",null,null,"Ｃ","-",14,null,null,null,"Ｃ","-",16,{"$nulls":6},{"$f":"COUNTIF(C45:Z46,\"○\")","v":1},{"$f":"COUNTIF(C45:Z46,\"●\")","v":1},{"$f":"COUNTIF(C45:Z46,\"△\")","v":1},{"$f":"+AA45*3+AC45*1","v":4},{"$f":"+E46+H46+N46+Q46+T46+W46+Z46","v":24},{"$f":"C46+F46+L46+O46+R46+U46+X46","v":15},{"$f":"+RANK(AD45,$AD$41:$AD$56,0)*100+RANK(AE45,$AE$41:$AE$56,1)*10+RANK(AF45,$AF$41:$AF$56,0)","v":555},{"$f":"+RANK(AG45,$AG$41:$AG$56,1)","v":5}]
[null,null,null,"-",null,null,"-",{"$nulls":5},"-",null,10,"○",3,null,"-",null,4,"△",4,1,"●",17]
[20,{"$f":"IF(データ２!B40=\"\",\"\",VLOOKUP(A47,データ２!$A$2:$B$224,2))","v":"富ヶ谷ノーティーボーイズ"},null,null,null,"Ｃ","-",9,"Ｃ","-",14,"＊",null,null,"Ｃ","-",19,"Ｃ","-",20,"Ｃ","-",21,null,null,null,{"$f":"COUNTIF(C47:Z48,\"○\")","v":0},{"$f":"COUNTIF(C47:Z48,\"●\")","v":2},{"$f":"COUNTIF(C47:Z48,\"△\")","v":0},{"$f":"+AA47*3+AC47*1","v":0},{"$f":"+E48+H48+K48+Q48+T48+W48+Z48","v":18},{"$f":"C48+F48+I48+O48+R48+U48+X48","v":7},{"$f":"+RANK(AD47,$AD$41:$AD$56,0)*100+RANK(AE47,$AE$41:$AE$56,1)*10+RANK(AF47,$AF$41:$AF$56,0)","v":647},{"$f":"+RANK(AG47,$AG$41:$AG$56,1)","v":6}]
[null,null,4,"●",9,null,"-",null,null,"-",{"$nulls":5},"-",null,null,"-",null,null,"-",null,3,"●",9]
[21,{"$f":"IF(データ２!B42=\"\",\"\",VLOOKUP(A49,データ２!$A$2:$B$224,2))","v":"深川レッドソックス"},"Ｃ","-",4,{"$nulls":6},"Ｃ","-",19,"＊",{"$nulls":11},{"$f":"COUNTIF(C49:Z50,\"○\")","v":2},{"$f":"COUNTIF(C49:Z50,\"●\")","v":2},{"$f":"COUNTIF(C49:Z50,\"△\")","v":1},{"$f":"+AA49*3+AC49*1","v":7},{"$f":"+E50+H50+K50+N50+T50+W50+Z50","v":27},{"$f":"C50+F50+I50+L50+R50+U50+X50+AA50","v":45},{"$f":"+RANK(AD49,$AD$41:$AD$56,0)*100+RANK(AE49,$AE$41:$AE$56,1)*10+RANK(AF49,$AF$41:$AF$56,0)","v":261},{"$f":"+RANK(AG49,$AG$41:$AG$56,1)","v":2}]
[null,null,null,"-",null,17,"○",0,3,"●",10,null,"-",{"$nulls":4},18,"○",5,4,"△",4,3,"●",8]
[22,{"$f":"IF(データ２!B44=\"\",\"\",VLOOKUP(A51,データ２!$A$2:$B$224,2))","v":"御殿山ファイターズ"},null,null,null,"Ｃ","-",11,"Ｃ","-",16,"Ｃ","-",20,null,null,null,"＊",null,null,"Ｃ","-",26,"Ｃ","-",27,{"$f":"COUNTIF(C51:Z52,\"○\")","v":0},{"$f":"COUNTIF(C51:Z52,\"●\")","v":2},{"$f":"COUNTIF(C51:Z52,\"△\")","v":0},{"$f":"+AA51*3+AC51*1","v":0},{"$f":"+E52+H52+K52+N52+Q52+W52+Z52","v":34},{"$f":"C52+F52+I52+L52+O52+U52+X52","v":10},{"$f":"+RANK(AD51,$AD$41:$AD$56,0)*100+RANK(AE51,$AE$41:$AE$56,1)*10+RANK(AF51,$AF$41:$AF$56,0)","v":676},{"$f":"+RANK(AG51,$AG$41:$AG$56,1)","v":7}]
[null,null,5,"●",16,null,"-",null,null,"-",null,null,"-",null,5,"●",18,{"$nulls":4},"-",null,null,"-"]
[23,{"$f":"IF(データ２!B46=\"\",\"\",VLOOKUP(A53,データ２!$A$2:$B$224,2))","v":"堀小スワローズ"},"Ｃ","-",6,{"$nulls":6},"Ｃ","-",21,null,null,null,"Ｃ","-",26,"＊",null,null,"Ｃ","-",28,{"$f":"COUNTIF(C53:Z54,\"○\")","v":1},{"$f":"COUNTIF(C53:Z54,\"●\")","v":0},{"$f":"COUNTIF(C53:Z54,\"△\")","v":2},{"$f":"+AA53*3+AC53*1","v":5},{"$f":"+E54+H54+K54+N54+Q54+T54+Z54","v":9},{"$f":"C54+F54+I54+L54+O54+R54+U54+X54","v":27},{"$f":"+RANK(AD53,$AD$41:$AD$56,0)*100+RANK(AE53,$AE$41:$AE$56,1)*10+RANK(AF53,$AF$41:$AF$56,0)","v":414},{"$f":"+RANK(AG53,$AG$41:$AG$56,1)","v":4}]
[null,null,null,"-",null,19,"○",1,4,"△",4,null,"-",null,4,"△",4,null,"-",{"$nulls":5},"-"]
[24,{"$f":"IF(データ２!B48=\"\",\"\",VLOOKUP(A55,データ２!$A$2:$B$224,2))","v":"豊島ブレイズ"},null,null,null,"Ｃ","-",13,{"$nulls":9},"Ｃ","-",27,"Ｃ","-",28,"＊",null,null,{"$f":"COUNTIF(C55:Z56,\"○\")","v":4},{"$f":"COUNTIF(C55:Z56,\"●\")","v":0},{"$f":"COUNTIF(C55:Z56,\"△\")","v":0},{"$f":"+AA55*3+AC55*1","v":12},{"$f":"+E56+H56+K56+N56+Q56+T56+W56","v":10},{"$f":"C56+F56+I56+L56+O56+R56+U56+X56","v":40},{"$f":"+RANK(AD55,$AD$41:$AD$56,0)*100+RANK(AE55,$AE$41:$AE$56,1)*10+RANK(AF55,$AF$41:$AF$56,0)","v":122},{"$f":"+RANK(AG55,$AG$41:$AG$56,1)","v":1}]
[null,null,6,"○",3,null,"-",null,17,"○",1,9,"○",3,8,"○",3,null,"-",null,null,"-"]
[{"$nulls":26},{"$f":"SUM(AA41:AA56)","v":10},{"$f":"SUM(AB41:AB56)","v":10},{"$f":"SUM(AC41:AC56)","v":4},null,{"$f":"SUM(AE41:AE56)","v":173},{"$f":"SUM(AF41:AF56)","v":173},null,{"$f":"28-AA57-(AC57/2)","v":16}]
[null,{"$f":"+データ１!$B$2","v":"2023/2/25"},{"$f":"+データ１!$B$4","v":"２０２３年 "}]
[null,{"$f":"+データ１!B12","v":"スーパーリ－グ 　　                  　　　 第１７回大会  　　　        　Ｄブロック     　　              ２０２３"},{"$f":"+IF(B60=\"\",\"\",+B60)","v":"品川ドリームキッズ"},null,null,{"$f":"+IF(B62=\"\",\"\",+B62)","v":"扇ターキーズ"},null,null,{"$f":"+IF(B64=\"\",\"\",+B64)","v":"トゥールスジュニア"},null,null,{"$f":"+IF(B66=\"\",\"\",+B66)","v":"文京パワーズ"},null,null,{"$f":"+IF(B68=\"\",\"\",+B68)","v":"江東ジョーズ"},null,null,{"$f":"+IF(B70=\"\",\"\",+B70)","v":"サンジュニア"},null,null,{"$f":"+IF(B72=\"\",\"\",+B72)","v":"興宮ファイターズ"},null,null,{"$f":"+IF(B74=\"\",\"\",+B74)","v":"不動パイレーツ"},null,null,"勝","負","分","勝点","失点","得点","順位決定要素","順位"]
[25,{"$f":"IF(データ２!B50=\"\",\"\",VLOOKUP(A60,データ２!$A$2:$B$224,2))","v":"品川ドリームキッズ"},"＊",null,null,"Ｄ","-",1,"Ｄ","-",2,{"$nulls":9},"Ｄ","-",6,null,null,null,{"$f":"COUNTIF(C60:Z61,\"○\")","v":1},{"$f":"COUNTIF(C60:Z61,\"●\")","v":3},{"$f":"COUNTIF(C60:Z61,\"△\")","v":0},{"$f":"+AA60*3+AC60*1","v":3},{"$f":"+H61+K61+N61+Q61+T61+W61+Z61","v":22},{"$f":"+F61+I61+L61+O61+R61+U61+X61","v":16},{"$f":"+RANK(AD60,$AD$60:$AD$75,0)*100+RANK(AE60,$AE$60:$AE$75,1)*10+RANK(AF60,$AF$60:$AF$75,0)","v":646},{"$f":"+RANK(AG60,$AG$60:$AG$75,1)","v":6}]
[{"$nulls":6},"-",null,null,"-",null,3,"●",4,2,"●",4,7,"○",4,null,"-",null,4,"●",10]
[26,{"$f":"IF(データ２!B52=\"\",\"\",VLOOKUP(A62,データ２!$A$2:$B$224,2))","v":"扇ターキーズ"},"Ｄ","-",1,"＊",{"$nulls":17},"Ｄ","-",13,{"$f":"COUNTIF(C62:Z63,\"○\")","v":4},{"$f":"COUNTIF(C62:Z63,\"●\")","v":1},{"$f":"COUNTIF(C62:Z63,\"△\")","v":0},{"$f":"+AA62*3+AC62*1","v":12},{"$f":"+E63+K63+N63+Q63+T63+W63+Z63","v":24},{"$f":"+C63+I63+L63+O63+R63+U63+X63","v":31},{"$f":"+RANK(AD62,$AD$60:$AD$75,0)*100+RANK(AE62,$AE$60:$AE$75,1)*10+RANK(AF62,$AF$60:$AF$75,0)","v":152},{"$f":"+RANK(AG62,$AG$60:$AG$75,1)","v":1}]
[null,null,null,"-",{"$nulls":4},4,"○",3,4,"●",5,7,"○",3,10,"○",8,6,"○",5,null,"-"]
[27,{"$f":"IF(データ２!B54=\"\",\"\",VLOOKUP(A64,データ２!$A$2:$B$224,2))","v":"トゥールスジュニア"},"Ｄ","-",2,null,null,null,"＊",null,null,"Ｄ","-",14,"Ｄ","-",15,{"$nulls":6},"Ｄ","-",18,{"$f":"COUNTIF(C64:Z65,\"○\")","v":0},{"$f":"COUNTIF(C64:Z65,\"●\")","v":3},{"$f":"COUNTIF(C64:Z65,\"△\")","v":0},{"$f":"+AA64*3+AC64*1","v":0},{"$f":"+E65+H65+N65+Q65+T65+W65+Z65","v":17},{"$f":"C65+F65+L65+O65+R65+U65+X65","v":13},{"$f":"+RANK(AD64,$AD$60:$AD$75,0)*100+RANK(AE64,$AE$60:$AE$75,1)*10+RANK(AF64,$AF$60:$AF$75,0)","v":838},{"$f":"+RANK(AG64,$AG$60:$AG$75,1)","v":8}]
[null,null,null,"-",null,3,"●",4,{"$nulls":4},"-",null,null,"-",null,4,"●",5,6,"●",8,null,"-"]
[28,{"$f":"IF(データ２!B56=\"\",\"\",VLOOKUP(A66,データ２!$A$2:$B$224,2))","v":"文京パワーズ"},{"$nulls":6},"Ｄ","-",14,"＊",null,null,"Ｄ","-",19,null,null,null,"Ｄ","-",21,"Ｄ","-",22,{"$f":"COUNTIF(C66:Z67,\"○\")","v":3},{"$f":"COUNTIF(C66:Z67,\"●\")","v":0},{"$f":"COUNTIF(C66:Z67,\"△\")","v":0},{"$f":"+AA66*3+AC66*1","v":9},{"$f":"+E67+H67+K67+Q67+T67+W67+Z67","v":11},{"$f":"C67+F67+I67+O67+R67+U67+X67","v":15},{"$f":"+RANK(AD66,$AD$60:$AD$75,0)*100+RANK(AE66,$AE$60:$AE$75,1)*10+RANK(AF66,$AF$60:$AF$75,0)","v":227},{"$f":"+RANK(AG66,$AG$60:$AG$75,1)","v":3}]
[null,null,4,"○",3,5,"○",4,null,"-",{"$nulls":5},"-",null,6,"○",4,null,"-",null,null,"-"]
[29,{"$f":"IF(データ２!B58=\"\",\"\",VLOOKUP(A68,データ２!$A$2:$B$224,2))","v":"江東ジョーズ"},{"$nulls":6},"Ｄ","-",15,"Ｄ","-",19,"＊",{"$nulls":8},"Ｄ","-",25,{"$f":"COUNTIF(C68:Z69,\"○\")","v":1},{"$f":"COUNTIF(C68:Z69,\"●\")","v":3},{"$f":"COUNTIF(C68:Z69,\"△\")","v":0},{"$f":"+AA68*3+AC68*1","v":3},{"$f":"+E69+H69+K69+N69+T69+W69+Z69","v":26},{"$f":"C69+F69+I69+L69+R69+U69+X69+AA69","v":20},{"$f":"+RANK(AD68,$AD$60:$AD$75,0)*100+RANK(AE68,$AE$60:$AE$75,1)*10+RANK(AF68,$AF$60:$AF$75,0)","v":665},{"$f":"+RANK(AG68,$AG$60:$AG$75,1)","v":7}]
[null,null,4,"○",2,3,"●",7,null,"-",null,null,"-",{"$nulls":4},6,"●",7,7,"●",10,null,"-"]
[30,{"$f":"IF(データ２!B60=\"\",\"\",VLOOKUP(A70,データ２!$A$2:$B$224,2))","v":"サンジュニア"},{"$nulls":15},"＊",{"$nulls":8},{"$f":"COUNTIF(C70:Z71,\"○\")","v":2},{"$f":"COUNTIF(C70:Z71,\"●\")","v":5},{"$f":"COUNTIF(C70:Z71,\"△\")","v":0},{"$f":"+AA70*3+AC70*1","v":6},{"$f":"+E71+H71+K71+N71+Q71+W71+Z71","v":45},{"$f":"C71+F71+I71+L71+O71+U71+X71","v":33},{"$f":"+RANK(AD70,$AD$60:$AD$75,0)*100+RANK(AE70,$AE$60:$AE$75,1)*10+RANK(AF70,$AF$60:$AF$75,0)","v":581},{"$f":"+RANK(AG70,$AG$60:$AG$75,1)","v":5}]
[null,null,4,"●",7,8,"●",10,5,"○",4,4,"●",6,7,"○",6,null,null,null,0,"●",3,5,"●",9]
[31,{"$f":"IF(データ２!B62=\"\",\"\",VLOOKUP(A72,データ２!$A$2:$B$224,2))","v":"興宮ファイターズ"},"Ｄ","-",6,{"$nulls":6},"Ｄ","-",21,{"$nulls":6},"＊",{"$nulls":5},{"$f":"COUNTIF(C72:Z73,\"○\")","v":3},{"$f":"COUNTIF(C72:Z73,\"●\")","v":2},{"$f":"COUNTIF(C72:Z73,\"△\")","v":0},{"$f":"+AA72*3+AC72*1","v":9},{"$f":"+E73+H73+K73+N73+Q73+T73+Z73","v":27},{"$f":"C73+F73+I73+L73+O73+R73+U73+X73","v":26},{"$f":"+RANK(AD72,$AD$60:$AD$75,0)*100+RANK(AE72,$AE$60:$AE$75,1)*10+RANK(AF72,$AF$60:$AF$75,0)","v":274},{"$f":"+RANK(AG72,$AG$60:$AG$75,1)","v":4}]
[null,null,null,"-",null,5,"●",6,8,"○",6,null,"-",null,10,"○",7,3,"○",0,null,null,null,0,"●",8]
[32,{"$f":"IF(データ２!B64=\"\",\"\",VLOOKUP(A74,データ２!$A$2:$B$224,2))","v":"不動パイレーツ"},null,null,null,"Ｄ","-",13,"Ｄ","-",18,"Ｄ","-",22,"Ｄ","-",25,{"$nulls":6},"＊",null,null,{"$f":"COUNTIF(C74:Z75,\"○\")","v":3},{"$f":"COUNTIF(C74:Z75,\"●\")","v":0},{"$f":"COUNTIF(C74:Z75,\"△\")","v":0},{"$f":"+AA74*3+AC74*1","v":9},{"$f":"+E75+H75+K75+N75+Q75+T75+W75","v":9},{"$f":"C75+F75+I75+L75+O75+R75+U75+X75","v":27},{"$f":"+RANK(AD74,$AD$60:$AD$75,0)*100+RANK(AE74,$AE$60:$AE$75,1)*10+RANK(AF74,$AF$60:$AF$75,0)","v":213},{"$f":"+RANK(AG74,$AG$60:$AG$75,1)","v":2}]
[null,null,10,"○",4,null,"-",null,null,"-",null,null,"-",null,null,"-",null,9,"○",5,8,"○",0]
[{"$nulls":26},{"$f":"SUM(AA60:AA75)","v":17},{"$f":"SUM(AB60:AB75)","v":17},{"$f":"SUM(AC60:AC75)","v":0},null,{"$f":"SUM(AE60:AE75)","v":181},{"$f":"SUM(AF60:AF75)","v":181},null,{"$f":"28-AA76-(AC76/2)","v":11}]
[null,{"$f":"+データ１!$B$2","v":"2023/2/25"},{"$f":"+データ１!$B$4","v":"２０２３年 "}]
[null,{"$f":"+データ１!B14","v":"スーパーリ－グ 　　                  　　　 第１７回大会  　　　        　Ｅブロック     　　              ２０２３"},{"$f":"+IF(B79=\"\",\"\",+B79)","v":"オール麻布"},null,null,{"$f":"+IF(B81=\"\",\"\",+B81)","v":"ブラックキラーズ"},null,null,{"$f":"+IF(B83=\"\",\"\",+B83)","v":"ブラザースクラブ"},null,null,{"$f":"+IF(B85=\"\",\"\",+B85)","v":"茗荷谷クラブ"},null,null,{"$f":"+IF(B87=\"\",\"\",+B87)","v":"深川ライナーズ"},null,null,{"$f":"+IF(B89=\"\",\"\",+B89)","v":"浅草ベースボールクラブ"},null,null,{"$f":"+IF(B91=\"\",\"\",+B91)","v":"向陽台スターキッズ"},null,null,{"$f":"+IF(B93=\"\",\"\",+B93)","v":"中央バンディーズ "},null,null,"勝","負","分","勝点","失点","得点","順位決定要素","順位"]
[33,{"$f":"IF(データ２!B66=\"\",\"\",VLOOKUP(A79,データ２!$A$2:$B$224,2))","v":"オール麻布"},"＊",null,null,"Ｅ","-",1,"Ｅ","-",2,null,null,null,"Ｅ","-",4,"Ｅ","-",5,{"$nulls":6},{"$f":"COUNTIF(C79:Z80,\"○\")","v":0},{"$f":"COUNTIF(C79:Z80,\"●\")","v":3},{"$f":"COUNTIF(C79:Z80,\"△\")","v":0},{"$f":"+AA79*3+AC79*1","v":0},{"$f":"+H80+K80+N80+Q80+T80+W80+Z80","v":31},{"$f":"+F80+I80+L80+O80+R80+U80+X80","v":13},{"$f":"+RANK(AD79,$AD$79:$AD$94,0)*100+RANK(AE79,$AE$79:$AE$94,1)*10+RANK(AF79,$AF$79:$AF$94,0)","v":675},{"$f":"+RANK(AG79,$AG$79:$AG$94,1)","v":7}]
[{"$nulls":6},"-",null,null,"-",null,3,"●",15,null,"-",null,null,"-",null,6,"●",7,4,"●",9]
[34,{"$f":"IF(データ２!B68=\"\",\"\",VLOOKUP(A81,データ２!$A$2:$B$224,2))","v":"ブラックキラーズ"},"Ｅ","-",1,"＊",null,null,"Ｅ","-",8,"Ｅ","-",9,"Ｅ","-",10,null,null,null,"Ｅ","-",12,null,null,null,{"$f":"COUNTIF(C81:Z82,\"○\")","v":0},{"$f":"COUNTIF(C81:Z82,\"●\")","v":2},{"$f":"COUNTIF(C81:Z82,\"△\")","v":0},{"$f":"+AA81*3+AC81*1","v":0},{"$f":"+E82+K82+N82+Q82+T82+W82+Z82","v":38},{"$f":"+C82+I82+L82+O82+R82+U82+X82","v":2},{"$f":"+RANK(AD81,$AD$79:$AD$94,0)*100+RANK(AE81,$AE$79:$AE$94,1)*10+RANK(AF81,$AF$79:$AF$94,0)","v":687},{"$f":"+RANK(AG81,$AG$79:$AG$94,1)","v":8}]
[null,null,null,"-",{"$nulls":5},"-",null,null,"-",null,null,"-",null,2,"●",20,null,"-",null,0,"●",18]
[35,{"$f":"IF(データ２!B70=\"\",\"\",VLOOKUP(A83,データ２!$A$2:$B$224,2))","v":"ブラザースクラブ"},"Ｅ","-",2,"Ｅ","-",8,"＊",null,null,"Ｅ","-",14,"Ｅ","-",15,"Ｅ","-",16,"Ｅ","-",17,"Ｅ","-",18,{"$f":"COUNTIF(C83:Z84,\"○\")","v":0},{"$f":"COUNTIF(C83:Z84,\"●\")","v":0},{"$f":"COUNTIF(C83:Z84,\"△\")","v":0},{"$f":"+AA83*3+AC83*1","v":0},{"$f":"+E84+H84+N84+Q84+T84+W84+Z84","v":0},{"$f":"C84+F84+L84+O84+R84+U84+X84","v":0},{"$f":"+RANK(AD83,$AD$79:$AD$94,0)*100+RANK(AE83,$AE$79:$AE$94,1)*10+RANK(AF83,$AF$79:$AF$94,0)","v":618},{"$f":"+RANK(AG83,$AG$79:$AG$94,1)","v":6}]
[null,null,null,"-",null,null,"-",{"$nulls":5},"-",null,null,"-",null,null,"-",null,null,"-",null,null,"-"]
[36,{"$f":"IF(データ２!B72=\"\",\"\",VLOOKUP(A85,データ２!$A$2:$B$224,2))","v":"茗荷谷クラブ"},null,null,null,"Ｅ","-",9,"Ｅ","-",14,"＊",{"$nulls":5},"Ｅ","-",20,null,null,null,"Ｅ","-",22,{"$f":"COUNTIF(C85:Z86,\"○\")","v":3},{"$f":"COUNTIF(C85:Z86,\"●\")","v":0},{"$f":"COUNTIF(C85:Z86,\"△\")","v":0},{"$f":"+AA85*3+AC85*1","v":9},{"$f":"+E86+H86+K86+Q86+T86+W86+Z86","v":7},{"$f":"C86+F86+I86+O86+R86+U86+X86","v":45},{"$f":"+RANK(AD85,$AD$79:$AD$94,0)*100+RANK(AE85,$AE$79:$AE$94,1)*10+RANK(AF85,$AF$79:$AF$94,0)","v":121},{"$f":"+RANK(AG85,$AG$79:$AG$94,1)","v":1}]
[null,null,15,"○",3,null,"-",null,null,"-",{"$nulls":4},9,"○",2,null,"-",null,21,"○",2,null,"-"]
[37,{"$f":"IF(データ２!B74=\"\",\"\",VLOOKUP(A87,データ２!$A$2:$B$224,2))","v":"深川ライナーズ"},"Ｅ","-",4,"Ｅ","-",10,"Ｅ","-",15,null,null,null,"＊",{"$nulls":5},"Ｅ","-",24,null,null,null,{"$f":"COUNTIF(C87:Z88,\"○\")","v":1},{"$f":"COUNTIF(C87:Z88,\"●\")","v":2},{"$f":"COUNTIF(C87:Z88,\"△\")","v":0},{"$f":"+AA87*3+AC87*1","v":3},{"$f":"+E88+H88+K88+N88+T88+W88+Z88","v":24},{"$f":"C88+F88+I88+L88+R88+U88+X88+AA88","v":17},{"$f":"+RANK(AD87,$AD$79:$AD$94,0)*100+RANK(AE87,$AE$79:$AE$94,1)*10+RANK(AF87,$AF$79:$AF$94,0)","v":354},{"$f":"+RANK(AG87,$AG$79:$AG$94,1)","v":4}]
[null,null,null,"-",null,null,"-",null,null,"-",null,2,"●",9,null,null,null,12,"○",3,null,"-",null,3,"●",12]
[38,{"$f":"IF(データ２!B76=\"\",\"\",VLOOKUP(A89,データ２!$A$2:$B$224,2))","v":"浅草ベースボールクラブ"},"Ｅ","-",5,null,null,null,"Ｅ","-",16,"Ｅ","-",20,null,null,null,"＊",null,null,"Ｅ","-",26,"Ｅ","-",27,{"$f":"COUNTIF(C89:Z90,\"○\")","v":1},{"$f":"COUNTIF(C89:Z90,\"●\")","v":1},{"$f":"COUNTIF(C89:Z90,\"△\")","v":0},{"$f":"+AA89*3+AC89*1","v":3},{"$f":"+E90+H90+K90+N90+Q90+W90+Z90","v":14},{"$f":"C90+F90+I90+L90+O90+U90+X90","v":23},{"$f":"+RANK(AD89,$AD$79:$AD$94,0)*100+RANK(AE89,$AE$79:$AE$94,1)*10+RANK(AF89,$AF$79:$AF$94,0)","v":343},{"$f":"+RANK(AG89,$AG$79:$AG$94,1)","v":3}]
[null,null,null,"-",null,20,"○",2,null,"-",null,null,"-",null,3,"●",12,{"$nulls":4},"-",null,null,"-"]
[39,{"$f":"IF(データ２!B78=\"\",\"\",VLOOKUP(A91,データ２!$A$2:$B$224,2))","v":"向陽台スターキッズ"},null,null,null,"Ｅ","-",12,"Ｅ","-",17,null,null,null,"Ｅ","-",24,"Ｅ","-",26,"＊",null,null,"Ｅ","-",28,{"$f":"COUNTIF(C91:Z92,\"○\")","v":1},{"$f":"COUNTIF(C91:Z92,\"●\")","v":1},{"$f":"COUNTIF(C91:Z92,\"△\")","v":0},{"$f":"+AA91*3+AC91*1","v":3},{"$f":"+E92+H92+K92+N92+Q92+T92+Z92","v":27},{"$f":"C92+F92+I92+L92+O92+R92+U92+X92","v":9},{"$f":"+RANK(AD91,$AD$79:$AD$94,0)*100+RANK(AE91,$AE$79:$AE$94,1)*10+RANK(AF91,$AF$79:$AF$94,0)","v":366},{"$f":"+RANK(AG91,$AG$79:$AG$94,1)","v":5}]
[null,null,7,"○",6,null,"-",null,null,"-",null,2,"●",21,null,"-",null,null,"-",{"$nulls":5},"-"]
[40,{"$f":"IF(データ２!B80=\"\",\"\",VLOOKUP(A93,データ２!$A$2:$B$224,2))","v":"中央バンディーズ "},{"$nulls":6},"Ｅ","-",18,"Ｅ","-",22,null,null,null,"Ｅ","-",27,"Ｅ","-",28,"＊",null,null,{"$f":"COUNTIF(C93:Z94,\"○\")","v":3},{"$f":"COUNTIF(C93:Z94,\"●\")","v":0},{"$f":"COUNTIF(C93:Z94,\"△\")","v":0},{"$f":"+AA93*3+AC93*1","v":9},{"$f":"+E94+H94+K94+N94+Q94+T94+W94","v":7},{"$f":"C94+F94+I94+L94+O94+R94+U94+X94","v":39},{"$f":"+RANK(AD93,$AD$79:$AD$94,0)*100+RANK(AE93,$AE$79:$AE$94,1)*10+RANK(AF93,$AF$79:$AF$94,0)","v":122},{"$f":"+RANK(AG93,$AG$79:$AG$94,1)","v":2}]
[null,null,9,"○",4,18,"○",0,null,"-",null,null,"-",null,12,"○",3,null,"-",null,null,"-"]
[{"$nulls":26},{"$f":"SUM(AA79:AA94)","v":9},{"$f":"SUM(AB79:AB94)","v":9},{"$f":"SUM(AC79:AC94)","v":0},null,{"$f":"SUM(AE79:AE94)","v":148},{"$f":"SUM(AF79:AF94)","v":148},null,{"$f":"28-AA95-(AC95/2)","v":19}]
[null,{"$f":"+データ１!$B$2","v":"2023/2/25"},{"$f":"+データ１!$B$4","v":"２０２３年 "}]
[null,{"$f":"+データ１!B16","v":"スーパーリ－グ 　　                  　　　 第１７回大会  　　　        　Ｆブロック     　　              ２０２３"},{"$f":"+IF(B98=\"\",\"\",+B98)","v":"大島中央"},null,null,{"$f":"+IF(B100=\"\",\"\",+B100)","v":"ジュニアヤンガース"},null,null,{"$f":"+IF(B102=\"\",\"\",+B102)","v":"KCレッドジャッカル"},null,null,{"$f":"+IF(B104=\"\",\"\",+B104)","v":"菊坂ファイヤーズ"},null,null,{"$f":"+IF(B106=\"\",\"\",+B106)","v":"亀戸合同"},null,null,{"$f":"+IF(B108=\"\",\"\",+B108)","v":"本村クラブ"},null,null,{"$f":"+IF(B110=\"\",\"\",+B110)","v":"高井戸東少年野球クラブ"},null,null,{"$f":"+IF(B112=\"\",\"\",+B112)","v":"駒込ベアーズ"},null,null,"勝","負","分","勝点","失点","得点","順位決定要素","順位"]
[41,{"$f":"IF(データ２!B82=\"\",\"\",VLOOKUP(A98,データ２!$A$2:$B$224,2))","v":"大島中央"},"＊",null,null,"Ｆ","-",1,"Ｆ","-",2,"Ｆ","-",3,null,null,null,"Ｆ","-",5,"Ｆ","-",6,null,null,null,{"$f":"COUNTIF(C98:Z99,\"○\")","v":2},{"$f":"COUNTIF(C98:Z99,\"●\")","v":0},{"$f":"COUNTIF(C98:Z99,\"△\")","v":0},{"$f":"+AA98*3+AC98*1","v":6},{"$f":"+H99+K99+N99+Q99+T99+W99+Z99","v":6},{"$f":"+F99+I99+L99+O99+R99+U99+X99","v":23},{"$f":"+RANK(AD98,$AD$98:$AD$113,0)*100+RANK(AE98,$AE$98:$AE$113,1)*10+RANK(AF98,$AF$98:$AF$113,0)","v":233},{"$f":"+RANK(AG98,$AG$98:$AG$113,1)","v":3}]
[{"$nulls":6},"-",null,null,"-",null,null,"-",null,10,"○",1,null,"-",null,null,"-",null,13,"○",5]
[42,{"$f":"IF(データ２!B84=\"\",\"\",VLOOKUP(A100,データ２!$A$2:$B$224,2))","v":"ジュニアヤンガース"},"Ｆ","-",1,"＊",null,null,"Ｆ","-",8,{"$nulls":12},"Ｆ","-",13,{"$f":"COUNTIF(C100:Z101,\"○\")","v":0},{"$f":"COUNTIF(C100:Z101,\"●\")","v":4},{"$f":"COUNTIF(C100:Z101,\"△\")","v":0},{"$f":"+AA100*3+AC100*1","v":0},{"$f":"+E101+K101+N101+Q101+T101+W101+Z101","v":57},{"$f":"+C101+I101+L101+O101+R101+U101+X101","v":14},{"$f":"+RANK(AD100,$AD$98:$AD$113,0)*100+RANK(AE100,$AE$98:$AE$113,1)*10+RANK(AF100,$AF$98:$AF$113,0)","v":686},{"$f":"+RANK(AG100,$AG$98:$AG$113,1)","v":8}]
[null,null,null,"-",{"$nulls":5},"-",null,6,"●",8,4,"●",14,4,"●",17,0,"●",18,null,"-"]
[43,{"$f":"IF(データ２!B86=\"\",\"\",VLOOKUP(A102,データ２!$A$2:$B$224,2))","v":"KCレッドジャッカル"},"Ｆ","-",2,"Ｆ","-",8,"＊",{"$nulls":5},"Ｆ","-",15,{"$nulls":6},"Ｆ","-",18,{"$f":"COUNTIF(C102:Z103,\"○\")","v":0},{"$f":"COUNTIF(C102:Z103,\"●\")","v":3},{"$f":"COUNTIF(C102:Z103,\"△\")","v":0},{"$f":"+AA102*3+AC102*1","v":0},{"$f":"+E103+H103+N103+Q103+T103+W103+Z103","v":37},{"$f":"C103+F103+L103+O103+R103+U103+X103","v":6},{"$f":"+RANK(AD102,$AD$98:$AD$113,0)*100+RANK(AE102,$AE$98:$AE$113,1)*10+RANK(AF102,$AF$98:$AF$113,0)","v":677},{"$f":"+RANK(AG102,$AG$98:$AG$113,1)","v":7}]
[null,null,null,"-",null,null,"-",{"$nulls":4},5,"●",13,null,"-",null,0,"●",12,1,"●",12,null,"-"]
[44,{"$f":"IF(データ２!B88=\"\",\"\",VLOOKUP(A104,データ２!$A$2:$B$224,2))","v":"菊坂ファイヤーズ"},"Ｆ","-",3,{"$nulls":6},"＊",null,null,"Ｆ","-",19,"Ｆ","-",20,"Ｆ","-",21,"Ｆ","-",22,{"$f":"COUNTIF(C104:Z105,\"○\")","v":2},{"$f":"COUNTIF(C104:Z105,\"●\")","v":0},{"$f":"COUNTIF(C104:Z105,\"△\")","v":0},{"$f":"+AA104*3+AC104*1","v":6},{"$f":"+E105+H105+K105+Q105+T105+W105+Z105","v":11},{"$f":"C105+F105+I105+O105+R105+U105+X105","v":21},{"$f":"+RANK(AD104,$AD$98:$AD$113,0)*100+RANK(AE104,$AE$98:$AE$113,1)*10+RANK(AF104,$AF$98:$AF$113,0)","v":244},{"$f":"+RANK(AG104,$AG$98:$AG$113,1)","v":4}]
[null,null,null,"-",null,8,"○",6,13,"○",5,{"$nulls":4},"-",null,null,"-",null,null,"-",null,null,"-"]
[45,{"$f":"IF(データ２!B90=\"\",\"\",VLOOKUP(A106,データ２!$A$2:$B$224,2))","v":"亀戸合同"},{"$nulls":6},"Ｆ","-",15,"Ｆ","-",19,"＊",null,null,"Ｆ","-",23,"Ｆ","-",24,"Ｆ","-",25,{"$f":"COUNTIF(C106:Z107,\"○\")","v":1},{"$f":"COUNTIF(C106:Z107,\"●\")","v":1},{"$f":"COUNTIF(C106:Z107,\"△\")","v":0},{"$f":"+AA106*3+AC106*1","v":3},{"$f":"+E107+H107+K107+N107+T107+W107+Z107","v":14},{"$f":"C107+F107+I107+L107+R107+U107+X107+AA107","v":15},{"$f":"+RANK(AD106,$AD$98:$AD$113,0)*100+RANK(AE106,$AE$98:$AE$113,1)*10+RANK(AF106,$AF$98:$AF$113,0)","v":555},{"$f":"+RANK(AG106,$AG$98:$AG$113,1)+1","v":6}]
[null,null,1,"●",10,14,"○",4,null,"-",null,null,"-",{"$nulls":5},"-",null,null,"-",null,null,"-"]
[46,{"$f":"IF(データ２!B92=\"\",\"\",VLOOKUP(A108,データ２!$A$2:$B$224,2))","v":"本村クラブ"},"Ｆ","-",5,{"$nulls":6},"Ｆ","-",20,"Ｆ","-",23,"＊",null,null,"Ｆ","-",26,"Ｆ","-",27,{"$f":"COUNTIF(C108:Z109,\"○\")","v":2},{"$f":"COUNTIF(C108:Z109,\"●\")","v":0},{"$f":"COUNTIF(C108:Z109,\"△\")","v":0},{"$f":"+AA108*3+AC108*1","v":6},{"$f":"+E109+H109+K109+N109+Q109+W109+Z109","v":4},{"$f":"C109+F109+I109+L109+O109+U109+X109","v":29},{"$f":"+RANK(AD108,$AD$98:$AD$113,0)*100+RANK(AE108,$AE$98:$AE$113,1)*10+RANK(AF108,$AF$98:$AF$113,0)","v":222},{"$f":"+RANK(AG108,$AG$98:$AG$113,1)","v":2}]
[null,null,null,"-",null,17,"○",4,12,"○",0,null,"-",null,null,"-",{"$nulls":5},"-",null,null,"-"]
[47,{"$f":"IF(データ２!B94=\"\",\"\",VLOOKUP(A110,データ２!$A$2:$B$224,2))","v":"高井戸東少年野球クラブ"},"Ｆ","-",6,{"$nulls":6},"Ｆ","-",21,"Ｆ","-",24,"Ｆ","-",26,"＊",{"$nulls":5},{"$f":"COUNTIF(C110:Z111,\"○\")","v":3},{"$f":"COUNTIF(C110:Z111,\"●\")","v":0},{"$f":"COUNTIF(C110:Z111,\"△\")","v":0},{"$f":"+AA110*3+AC110*1","v":9},{"$f":"+E111+H111+K111+N111+Q111+T111+Z111","v":1},{"$f":"C111+F111+I111+L111+O111+R111+U111+X111","v":41},{"$f":"+RANK(AD110,$AD$98:$AD$113,0)*100+RANK(AE110,$AE$98:$AE$113,1)*10+RANK(AF110,$AF$98:$AF$113,0)","v":111},{"$f":"+RANK(AG110,$AG$98:$AG$113,1)","v":1}]
[null,null,null,"-",null,18,"○",0,12,"○",1,null,"-",null,null,"-",null,null,"-",{"$nulls":4},11,"○",0]
[48,{"$f":"IF(データ２!B96=\"\",\"\",VLOOKUP(A112,データ２!$A$2:$B$224,2))","v":"駒込ベアーズ"},null,null,null,"Ｆ","-",13,"Ｆ","-",18,"Ｆ","-",22,"Ｆ","-",25,"Ｆ","-",27,null,null,null,"＊",null,null,{"$f":"COUNTIF(C112:Z113,\"○\")","v":0},{"$f":"COUNTIF(C112:Z113,\"●\")","v":2},{"$f":"COUNTIF(C112:Z113,\"△\")","v":0},{"$f":"+AA112*3+AC112*1","v":0},{"$f":"+E113+H113+K113+N113+Q113+T113+W113","v":24},{"$f":"C113+F113+I113+L113+O113+R113+U113+X113","v":5},{"$f":"+RANK(AD112,$AD$98:$AD$113,0)*100+RANK(AE112,$AE$98:$AE$113,1)*10+RANK(AF112,$AF$98:$AF$113,0)","v":668},{"$f":"+RANK(AG112,$AG$98:$AG$113,1)","v":6}]
[null,null,5,"●",13,null,"-",null,null,"-",null,null,"-",null,null,"-",null,null,"-",null,0,"●",11]
[{"$nulls":26},{"$f":"SUM(AA98:AA113)","v":10},{"$f":"SUM(AB98:AB113)","v":10},{"$f":"SUM(AC98:AC113)","v":0},null,{"$f":"SUM(AE98:AE113)","v":154},{"$f":"SUM(AF98:AF113)","v":154},null,{"$f":"28-AA114-(AC114/2)","v":18}]
[null,{"$f":"+データ１!$B$2","v":"2023/2/25"},{"$f":"+データ１!$B$4","v":"２０２３年 "}]
[null,{"$f":"+データ１!B18","v":"スーパーリ－グ 　　                  　　　 第１７回大会  　　　        　Ｇブロック     　　              ２０２３"},{"$f":"+IF(B117=\"\",\"\",+B117)","v":"レッドサンズ"},null,null,{"$f":"+IF(B119=\"\",\"\",+B119)","v":"いちがやチーターズ"},null,null,{"$f":"+IF(B121=\"\",\"\",+B121)","v":"馬込ジャガース"},null,null,{"$f":"+IF(B123=\"\",\"\",+B123)","v":"金町ジャイアンツ"},null,null,{"$f":"+IF(B125=\"\",\"\",+B125)","v":"元加賀"},null,null,{"$f":"+IF(B127=\"\",\"\",+B127)","v":"品川ブルーレーシング"},null,null,{"$f":"+IF(B129=\"\",\"\",+B129)","v":"本一色イーグルス"},null,null,{"$f":"+IF(B131=\"\",\"\",+B131)","v":"月島ライオンズ"},null,null,"勝","負","分","勝点","失点","得点","順位決定要素","順位"]
[49,{"$f":"IF(データ２!B98=\"\",\"\",VLOOKUP(A117,データ２!$A$2:$B$224,2))","v":"レッドサンズ"},"＊",{"$nulls":5},"Ｇ","-",2,"Ｇ","-",3,null,null,null,"Ｇ","-",5,"Ｇ","-",6,"Ｇ","-",7,{"$f":"COUNTIF(C117:Z118,\"○\")","v":2},{"$f":"COUNTIF(C117:Z118,\"●\")","v":0},{"$f":"COUNTIF(C117:Z118,\"△\")","v":0},{"$f":"+AA117*3+AC117*1","v":6},{"$f":"+H118+K118+N118+Q118+T118+W118+Z118","v":3},{"$f":"+F118+I118+L118+O118+R118+U118+X118","v":24},{"$f":"+RANK(AD117,$AD$117:$AD$132,0)*100+RANK(AE117,$AE$117:$AE$132,1)*10+RANK(AF117,$AF$117:$AF$132,0)","v":313},{"$f":"+RANK(AG117,$AG$117:$AG$132,1)","v":3}]
[{"$nulls":5},12,"○",2,null,"-",null,null,"-",null,12,"○",1,null,"-",null,null,"-",null,null,"-"]
[50,{"$f":"IF(データ２!B100=\"\",\"\",VLOOKUP(A119,データ２!$A$2:$B$224,2))","v":"いちがやチーターズ"},null,null,null,"＊",null,null,"Ｇ","-",8,"Ｇ","-",9,{"$nulls":6},"Ｇ","-",12,"Ｇ","-",13,{"$f":"COUNTIF(C119:Z120,\"○\")","v":0},{"$f":"COUNTIF(C119:Z120,\"●\")","v":3},{"$f":"COUNTIF(C119:Z120,\"△\")","v":0},{"$f":"+AA119*3+AC119*1","v":0},{"$f":"+E120+K120+N120+Q120+T120+W120+Z120","v":25},{"$f":"+C120+I120+L120+O120+R120+U120+X120","v":5},{"$f":"+RANK(AD119,$AD$117:$AD$132,0)*100+RANK(AE119,$AE$117:$AE$132,1)*10+RANK(AF119,$AF$117:$AF$132,0)","v":566},{"$f":"+RANK(AG119,$AG$117:$AG$132,1)","v":6}]
[null,null,2,"●",12,{"$nulls":4},"-",null,null,"-",null,1,"●",5,2,"●",8,null,"-",null,null,"-"]
[51,{"$f":"IF(データ２!B102=\"\",\"\",VLOOKUP(A121,データ２!$A$2:$B$224,2))","v":"馬込ジャガース"},"Ｇ","-",2,"Ｇ","-",8,"＊",{"$nulls":11},"Ｇ","-",17,"Ｇ","-",18,{"$f":"COUNTIF(C121:Z122,\"○\")","v":0},{"$f":"COUNTIF(C121:Z122,\"●\")","v":3},{"$f":"COUNTIF(C121:Z122,\"△\")","v":0},{"$f":"+AA121*3+AC121*1","v":0},{"$f":"+E122+H122+N122+Q122+T122+W122+Z122","v":42},{"$f":"C122+F122+L122+O122+R122+U122+X122","v":8},{"$f":"+RANK(AD121,$AD$117:$AD$132,0)*100+RANK(AE121,$AE$117:$AE$132,1)*10+RANK(AF121,$AF$117:$AF$132,0)","v":585},{"$f":"+RANK(AG121,$AG$117:$AG$132,1)","v":8}]
[null,null,null,"-",null,null,"-",{"$nulls":4},5,"●",11,2,"●",19,1,"●",12,null,"-",null,null,"-"]
[52,{"$f":"IF(データ２!B104=\"\",\"\",VLOOKUP(A123,データ２!$A$2:$B$224,2))","v":"金町ジャイアンツ"},"Ｇ","-",3,"Ｇ","-",9,null,null,null,"＊",null,null,"Ｇ","-",19,"Ｇ","-",20,null,null,null,"Ｇ","-",22,{"$f":"COUNTIF(C123:Z124,\"○\")","v":2},{"$f":"COUNTIF(C123:Z124,\"●\")","v":0},{"$f":"COUNTIF(C123:Z124,\"△\")","v":0},{"$f":"+AA123*3+AC123*1","v":6},{"$f":"+E124+H124+K124+Q124+T124+W124+Z124","v":7},{"$f":"C124+F124+I124+O124+R124+U124+X124","v":24},{"$f":"+RANK(AD123,$AD$117:$AD$132,0)*100+RANK(AE123,$AE$117:$AE$132,1)*10+RANK(AF123,$AF$117:$AF$132,0)","v":323},{"$f":"+RANK(AG123,$AG$117:$AG$132,1)","v":4}]
[null,null,null,"-",null,null,"-",null,11,"○",5,{"$nulls":4},"-",null,null,"-",null,13,"○",2,null,"-"]
[53,{"$f":"IF(データ２!B106=\"\",\"\",VLOOKUP(A125,データ２!$A$2:$B$224,2))","v":"元加賀"},{"$nulls":9},"Ｇ","-",19,"＊",{"$nulls":5},"Ｇ","-",24,null,null,null,{"$f":"COUNTIF(C125:Z126,\"○\")","v":4},{"$f":"COUNTIF(C125:Z126,\"●\")","v":1},{"$f":"COUNTIF(C125:Z126,\"△\")","v":0},{"$f":"+AA125*3+AC125*1","v":12},{"$f":"+E126+H126+K126+N126+T126+W126+Z126","v":20},{"$f":"C126+F126+I126+L126+R126+U126+X126+AA126","v":50},{"$f":"+RANK(AD125,$AD$117:$AD$132,0)*100+RANK(AE125,$AE$117:$AE$132,1)*10+RANK(AF125,$AF$117:$AF$132,0)","v":151},{"$f":"+RANK(AG125,$AG$117:$AG$132,1)","v":1}]
[null,null,1,"●",12,5,"○",1,19,"○",2,null,"-",{"$nulls":4},5,"○",4,null,"-",null,20,"○",1]
[54,{"$f":"IF(データ２!B108=\"\",\"\",VLOOKUP(A127,データ２!$A$2:$B$224,2))","v":"品川ブルーレーシング"},"Ｇ","-",5,{"$nulls":6},"Ｇ","-",20,null,null,null,"＊",null,null,"Ｇ","-",26,null,null,null,{"$f":"COUNTIF(C127:Z128,\"○\")","v":3},{"$f":"COUNTIF(C127:Z128,\"●\")","v":1},{"$f":"COUNTIF(C127:Z128,\"△\")","v":0},{"$f":"+AA127*3+AC127*1","v":9},{"$f":"+E128+H128+K128+N128+Q128+W128+Z128","v":8},{"$f":"C128+F128+I128+L128+O128+U128+X128","v":37},{"$f":"+RANK(AD127,$AD$117:$AD$132,0)*100+RANK(AE127,$AE$117:$AE$132,1)*10+RANK(AF127,$AF$117:$AF$132,0)","v":232},{"$f":"+RANK(AG127,$AG$117:$AG$132,1)","v":2}]
[null,null,null,"-",null,8,"○",2,12,"○",1,null,"-",null,4,"●",5,{"$nulls":4},"-",null,13,"○",0]
[55,{"$f":"IF(データ２!B110=\"\",\"\",VLOOKUP(A129,データ２!$A$2:$B$224,2))","v":"本一色イーグルス"},"Ｇ","-",6,"Ｇ","-",12,"Ｇ","-",17,null,null,null,"Ｇ","-",24,"Ｇ","-",26,"＊",null,null,"Ｇ","-",28,{"$f":"COUNTIF(C129:Z130,\"○\")","v":0},{"$f":"COUNTIF(C129:Z130,\"●\")","v":1},{"$f":"COUNTIF(C129:Z130,\"△\")","v":0},{"$f":"+AA129*3+AC129*1","v":0},{"$f":"+E130+H130+K130+N130+Q130+T130+Z130","v":13},{"$f":"C130+F130+I130+L130+O130+R130+U130+X130","v":2},{"$f":"+RANK(AD129,$AD$117:$AD$132,0)*100+RANK(AE129,$AE$117:$AE$132,1)*10+RANK(AF129,$AF$117:$AF$132,0)","v":547},{"$f":"+RANK(AG129,$AG$117:$AG$132,1)","v":5}]
[null,null,null,"-",null,null,"-",null,null,"-",null,2,"●",13,null,"-",null,null,"-",{"$nulls":5},"-"]
[56,{"$f":"IF(データ２!B112=\"\",\"\",VLOOKUP(A131,データ２!$A$2:$B$224,2))","v":"月島ライオンズ"},"Ｇ","-",7,"Ｇ","-",13,"Ｇ","-",18,"Ｇ","-",22,{"$nulls":6},"Ｇ","-",28,"＊",null,null,{"$f":"COUNTIF(C131:Z132,\"○\")","v":0},{"$f":"COUNTIF(C131:Z132,\"●\")","v":2},{"$f":"COUNTIF(C131:Z132,\"△\")","v":0},{"$f":"+AA131*3+AC131*1","v":0},{"$f":"+E132+H132+K132+N132+Q132+T132+W132","v":33},{"$f":"C132+F132+I132+L132+O132+R132+U132+X132","v":1},{"$f":"+RANK(AD131,$AD$117:$AD$132,0)*100+RANK(AE131,$AE$117:$AE$132,1)*10+RANK(AF131,$AF$117:$AF$132,0)","v":578},{"$f":"+RANK(AG131,$AG$117:$AG$132,1)","v":7}]
[null,null,null,"-",null,null,"-",null,null,"-",null,null,"-",null,1,"●",20,0,"●",13,null,"-"]
[{"$nulls":26},{"$f":"SUM(AA117:AA132)","v":11},{"$f":"SUM(AB117:AB132)","v":11},{"$f":"SUM(AC117:AC132)","v":0},null,{"$f":"SUM(AE117:AE132)","v":151},{"$f":"SUM(AF117:AF132)","v":151},null,{"$f":"28-AA133-(AC133/2)","v":17}]
[null,{"$f":"+データ１!$B$2","v":"2023/2/25"},{"$f":"+データ１!$B$4","v":"２０２３年 "}]
[null,{"$f":"+データ１!B20","v":"スーパーリ－グ 　　                  　　　 第１７回大会  　　　        　Ｈブロック     　　              ２０２３"},{"$f":"+IF(B136=\"\",\"\",+B136)","v":"南千住ペガサス"},null,null,{"$f":"+IF(B138=\"\",\"\",+B138)","v":"竹仲"},null,null,{"$f":"+IF(B140=\"\",\"\",+B140)","v":"九品仏ペガサス"},null,null,{"$f":"+IF(B142=\"\",\"\",+B142)","v":"駒込チャイルド"},null,null,{"$f":"+IF(B144=\"\",\"\",+B144)","v":"東陽フェニックス"},null,null,{"$f":"+IF(B146=\"\",\"\",+B146)","v":"港南メッツ"},null,null,{"$f":"+IF(B148=\"\",\"\",+B148)","v":"サンダースターズ"},null,null,{"$f":"+IF(B150=\"\",\"\",+B150)","v":"大塚スネイクス"},null,null,"勝","負","分","勝点","失点","得点","順位決定要素","順位"]
[57,{"$f":"IF(データ２!B114=\"\",\"\",VLOOKUP(A136,データ２!$A$2:$B$224,2))","v":"南千住ペガサス"},"＊",null,null,"Ｈ","-",1,"Ｈ","-",2,{"$nulls":12},"Ｈ","-",7,{"$f":"COUNTIF(C136:Z137,\"○\")","v":2},{"$f":"COUNTIF(C136:Z137,\"●\")","v":2},{"$f":"COUNTIF(C136:Z137,\"△\")","v":0},{"$f":"+AA136*3+AC136*1","v":6},{"$f":"+H137+K137+N137+Q137+T137+W137+Z137","v":19},{"$f":"+F137+I137+L137+O137+R137+U137+X137","v":23},{"$f":"+RANK(AD136,$AD$136:$AD$151,0)*100+RANK(AE136,$AE$136:$AE$151,1)*10+RANK(AF136,$AF$136:$AF$151,0)","v":253},{"$f":"+RANK(AG136,$AG$136:$AG$151,1)","v":3}]
[{"$nulls":6},"-",null,null,"-",null,11,"○",0,2,"●",8,3,"●",8,7,"○",3,null,"-"]
[58,{"$f":"IF(データ２!B116=\"\",\"\",VLOOKUP(A138,データ２!$A$2:$B$224,2))","v":"竹仲"},"Ｈ","-",1,"＊",{"$nulls":5},"Ｈ","-",9,"Ｈ","-",10,"Ｈ","-",11,null,null,null,"Ｈ","-",13,{"$f":"COUNTIF(C138:Z139,\"○\")","v":2},{"$f":"COUNTIF(C138:Z139,\"●\")","v":0},{"$f":"COUNTIF(C138:Z139,\"△\")","v":0},{"$f":"+AA138*3+AC138*1","v":6},{"$f":"+E139+K139+N139+Q139+T139+W139+Z139","v":11},{"$f":"+C139+I139+L139+O139+R139+U139+X139","v":14},{"$f":"+RANK(AD138,$AD$136:$AD$151,0)*100+RANK(AE138,$AE$136:$AE$151,1)*10+RANK(AF138,$AF$136:$AF$151,0)","v":236},{"$f":"+RANK(AG138,$AG$136:$AG$151,1)","v":2}]
[null,null,null,"-",{"$nulls":4},7,"○",6,null,"-",null,null,"-",null,null,"-",null,7,"○",5,null,"-"]
[59,{"$f":"IF(データ２!B118=\"\",\"\",VLOOKUP(A140,データ２!$A$2:$B$224,2))","v":"九品仏ペガサス"},"Ｈ","-",2,null,null,null,"＊",null,null,"Ｈ","-",14,"Ｈ","-",15,null,null,null,"Ｈ","-",17,"Ｈ","-",18,{"$f":"COUNTIF(C140:Z141,\"○\")","v":1},{"$f":"COUNTIF(C140:Z141,\"●\")","v":1},{"$f":"COUNTIF(C140:Z141,\"△\")","v":0},{"$f":"+AA140*3+AC140*1","v":3},{"$f":"+E141+H141+N141+Q141+T141+W141+Z141","v":12},{"$f":"C141+F141+L141+O141+R141+U141+X141","v":21},{"$f":"+RANK(AD140,$AD$136:$AD$151,0)*100+RANK(AE140,$AE$136:$AE$151,1)*10+RANK(AF140,$AF$136:$AF$151,0)","v":444},{"$f":"+RANK(AG140,$AG$136:$AG$151,1)","v":5}]
[null,null,null,"-",null,6,"●",7,{"$nulls":4},"-",null,null,"-",null,15,"○",5,null,"-",null,null,"-"]
[60,{"$f":"IF(データ２!B120=\"\",\"\",VLOOKUP(A142,データ２!$A$2:$B$224,2))","v":"駒込チャイルド"},null,null,null,"Ｈ","-",9,"Ｈ","-",14,"＊",{"$nulls":5},"Ｈ","-",20,null,null,null,"Ｈ","-",22,{"$f":"COUNTIF(C142:Z143,\"○\")","v":0},{"$f":"COUNTIF(C142:Z143,\"●\")","v":3},{"$f":"COUNTIF(C142:Z143,\"△\")","v":0},{"$f":"+AA142*3+AC142*1","v":0},{"$f":"+E143+H143+K143+Q143+T143+W143+Z143","v":45},{"$f":"C143+F143+I143+O143+R143+U143+X143","v":1},{"$f":"+RANK(AD142,$AD$136:$AD$151,0)*100+RANK(AE142,$AE$136:$AE$151,1)*10+RANK(AF142,$AF$136:$AF$151,0)","v":888},{"$f":"+RANK(AG142,$AG$136:$AG$151,1)","v":8}]
[null,null,0,"●",11,null,"-",null,null,"-",{"$nulls":4},1,"●",20,null,"-",null,0,"●",14,null,"-"]
[61,{"$f":"IF(データ２!B122=\"\",\"\",VLOOKUP(A144,データ２!$A$2:$B$224,2))","v":"東陽フェニックス"},null,null,null,"Ｈ","-",10,"Ｈ","-",15,null,null,null,"＊",{"$nulls":5},"Ｈ","-",24,"Ｈ","-",25,{"$f":"COUNTIF(C144:Z145,\"○\")","v":3},{"$f":"COUNTIF(C144:Z145,\"●\")","v":0},{"$f":"COUNTIF(C144:Z145,\"△\")","v":0},{"$f":"+AA144*3+AC144*1","v":9},{"$f":"+E145+H145+K145+N145+T145+W145+Z145","v":7},{"$f":"C145+F145+I145+L145+R145+U145+X145+AA145","v":33},{"$f":"+RANK(AD144,$AD$136:$AD$151,0)*100+RANK(AE144,$AE$136:$AE$151,1)*10+RANK(AF144,$AF$136:$AF$151,0)","v":121},{"$f":"+RANK(AG144,$AG$136:$AG$151,1)","v":1}]
[null,null,8,"○",2,null,"-",null,null,"-",null,20,"○",1,null,null,null,5,"○",4,null,"-",null,null,"-"]
[62,{"$f":"IF(データ２!B124=\"\",\"\",VLOOKUP(A146,データ２!$A$2:$B$224,2))","v":"港南メッツ"},null,null,null,"Ｈ","-",11,null,null,null,"Ｈ","-",20,null,null,null,"＊",null,null,"Ｈ","-",26,"Ｈ","-",27,{"$f":"COUNTIF(C146:Z147,\"○\")","v":1},{"$f":"COUNTIF(C146:Z147,\"●\")","v":2},{"$f":"COUNTIF(C146:Z147,\"△\")","v":0},{"$f":"+AA146*3+AC146*1","v":3},{"$f":"+E147+H147+K147+N147+Q147+W147+Z147","v":23},{"$f":"C147+F147+I147+L147+O147+U147+X147","v":17},{"$f":"+RANK(AD146,$AD$136:$AD$151,0)*100+RANK(AE146,$AE$136:$AE$151,1)*10+RANK(AF146,$AF$136:$AF$151,0)","v":475},{"$f":"+RANK(AG146,$AG$136:$AG$151,1)","v":7}]
[null,null,8,"○",3,null,"-",null,5,"●",15,null,"-",null,4,"●",5,{"$nulls":4},"-",null,null,"-"]
[63,{"$f":"IF(データ２!B126=\"\",\"\",VLOOKUP(A148,データ２!$A$2:$B$224,2))","v":"サンダースターズ"},{"$nulls":6},"Ｈ","-",17,null,null,null,"Ｈ","-",24,"Ｈ","-",26,"＊",{"$nulls":5},{"$f":"COUNTIF(C148:Z149,\"○\")","v":1},{"$f":"COUNTIF(C148:Z149,\"●\")","v":3},{"$f":"COUNTIF(C148:Z149,\"△\")","v":0},{"$f":"+AA148*3+AC148*1","v":3},{"$f":"+E149+H149+K149+N149+Q149+T149+Z149","v":20},{"$f":"C149+F149+I149+L149+O149+R149+U149+X149","v":24},{"$f":"+RANK(AD148,$AD$136:$AD$151,0)*100+RANK(AE148,$AE$136:$AE$151,1)*10+RANK(AF148,$AF$136:$AF$151,0)","v":462},{"$f":"+RANK(AG148,$AG$136:$AG$151,1)","v":6}]
[null,null,3,"●",7,5,"●",7,null,"-",null,14,"○",0,null,"-",null,null,"-",{"$nulls":4},2,"●",6]
[64,{"$f":"IF(データ２!B128=\"\",\"\",VLOOKUP(A150,データ２!$A$2:$B$224,2))","v":"大塚スネイクス"},"Ｈ","-",7,"Ｈ","-",13,"Ｈ","-",18,"Ｈ","-",22,"Ｈ","-",25,"Ｈ","-",27,null,null,null,"＊",null,null,{"$f":"COUNTIF(C150:Z151,\"○\")","v":1},{"$f":"COUNTIF(C150:Z151,\"●\")","v":0},{"$f":"COUNTIF(C150:Z151,\"△\")","v":0},{"$f":"+AA150*3+AC150*1","v":3},{"$f":"+E151+H151+K151+N151+Q151+T151+W151","v":2},{"$f":"C151+F151+I151+L151+O151+R151+U151+X151","v":6},{"$f":"+RANK(AD150,$AD$136:$AD$151,0)*100+RANK(AE150,$AE$136:$AE$151,1)*10+RANK(AF150,$AF$136:$AF$151,0)","v":417},{"$f":"+RANK(AG150,$AG$136:$AG$151,1)","v":4}]
[null,null,null,"-",null,null,"-",null,null,"-",null,null,"-",null,null,"-",null,null,"-",null,6,"○",2]
[{"$nulls":26},{"$f":"SUM(AA136:AA151)","v":11},{"$f":"SUM(AB136:AB151)","v":11},{"$f":"SUM(AC136:AC151)","v":0},null,{"$f":"SUM(AE136:AE151)","v":139},{"$f":"SUM(AF136:AF151)","v":139},null,{"$f":"28-AA152-(AC152/2)","v":17}]
[null,{"$f":"+データ１!$B$2","v":"2023/2/25"},{"$f":"+データ１!$B$4","v":"２０２３年 "}]
[null,{"$f":"+データ１!B22","v":"スーパーリ－グ 　　                  　　　 第１７回大会  　　　        　Ｉブロック     　　   　           ２０２３"},{"$f":"+IF(B155=\"\",\"\",+B155)","v":"カバラホークス"},null,null,{"$f":"+IF(B157=\"\",\"\",+B157)","v":"落合コメッツ"},null,null,{"$f":"+IF(B159=\"\",\"\",+B159)","v":"池雪ジュニアストロング"},null,null,{"$f":"+IF(B161=\"\",\"\",+B161)","v":"若羽クラブ"},null,null,{"$f":"+IF(B163=\"\",\"\",+B163)","v":"東雲メッツ"},null,null,{"$f":"+IF(B165=\"\",\"\",+B165)","v":"元芝ハヤブサ"},null,null,{"$f":"+IF(B167=\"\",\"\",+B167)","v":"雷サンダース"},null,null,{"$f":"+IF(B169=\"\",\"\",+B169)","v":"目黒ペガサス"},null,null,"勝","負","分","勝点","失点","得点","順位決定要素","順位"]
[65,{"$f":"IF(データ２!B130=\"\",\"\",VLOOKUP(A155,データ２!$A$2:$B$224,2))","v":"カバラホークス"},"＊",null,null,"Ｉ","-",1,"Ｉ","-",2,"Ｉ","-",3,{"$nulls":6},"Ｉ","-",6,null,null,null,{"$f":"COUNTIF(C155:Z156,\"○\")","v":3},{"$f":"COUNTIF(C155:Z156,\"●\")","v":0},{"$f":"COUNTIF(C155:Z156,\"△\")","v":0},{"$f":"+AA155*3+AC155*1","v":9},{"$f":"+H156+K156+N156+Q156+T156+W156+Z156","v":8},{"$f":"+F156+I156+L156+O156+R156+U156+X156","v":41},{"$f":"+RANK(AD155,$AD$155:$AD$170,0)*100+RANK(AE155,$AE$155:$AE$170,1)*10+RANK(AF155,$AF$155:$AF$170,0)","v":131},{"$f":"+RANK(AG155,$AG$155:$AG$170,1)","v":1}]
[{"$nulls":6},"-",null,null,"-",null,null,"-",null,20,"○",2,12,"○",4,null,"-",null,9,"○",2]
[66,{"$f":"IF(データ２!B132=\"\",\"\",VLOOKUP(A157,データ２!$A$2:$B$224,2))","v":"落合コメッツ"},"Ｉ","-",1,"＊",null,null,"Ｉ","-",8,"Ｉ","-",9,"Ｉ","-",10,"Ｉ","-",11,{"$nulls":6},{"$f":"COUNTIF(C157:Z158,\"○\")","v":0},{"$f":"COUNTIF(C157:Z158,\"●\")","v":2},{"$f":"COUNTIF(C157:Z158,\"△\")","v":0},{"$f":"+AA157*3+AC157*1","v":0},{"$f":"+E158+K158+N158+Q158+T158+W158+Z158","v":18},{"$f":"+C158+I158+L158+O158+R158+U158+X158","v":3},{"$f":"+RANK(AD157,$AD$155:$AD$170,0)*100+RANK(AE157,$AE$155:$AE$170,1)*10+RANK(AF157,$AF$155:$AF$170,0)","v":858},{"$f":"+RANK(AG157,$AG$155:$AG$170,1)","v":8}]
[null,null,null,"-",{"$nulls":5},"-",null,null,"-",null,null,"-",null,null,"-",null,3,"●",9,0,"●",9]
[67,{"$f":"IF(データ２!B134=\"\",\"\",VLOOKUP(A159,データ２!$A$2:$B$224,2))","v":"池雪ジュニアストロング"},"Ｉ","-",2,"Ｉ","-",8,"＊",{"$nulls":11},"Ｉ","-",17,"Ｉ","-",18,{"$f":"COUNTIF(C159:Z160,\"○\")","v":2},{"$f":"COUNTIF(C159:Z160,\"●\")","v":1},{"$f":"COUNTIF(C159:Z160,\"△\")","v":0},{"$f":"+AA159*3+AC159*1","v":6},{"$f":"+E160+H160+N160+Q160+T160+W160+Z160","v":7},{"$f":"C160+F160+L160+O160+R160+U160+X160","v":11},{"$f":"+RANK(AD159,$AD$155:$AD$170,0)*100+RANK(AE159,$AE$155:$AE$170,1)*10+RANK(AF159,$AF$155:$AF$170,0)","v":225},{"$f":"+RANK(AG159,$AG$155:$AG$170,1)","v":2}]
[null,null,null,"-",null,null,"-",{"$nulls":4},4,"●",6,2,"○",1,5,"○",0,null,"-",null,null,"-"]
[68,{"$f":"IF(データ２!B136=\"\",\"\",VLOOKUP(A161,データ２!$A$2:$B$224,2))","v":"若羽クラブ"},"Ｉ","-",3,"Ｉ","-",9,null,null,null,"＊",null,null,"Ｉ","-",19,"Ｉ","-",20,"Ｉ","-",21,null,null,null,{"$f":"COUNTIF(C161:Z162,\"○\")","v":1},{"$f":"COUNTIF(C161:Z162,\"●\")","v":0},{"$f":"COUNTIF(C161:Z162,\"△\")","v":1},{"$f":"+AA161*3+AC161*1","v":4},{"$f":"+E162+H162+K162+Q162+T162+W162+Z162","v":11},{"$f":"C162+F162+I162+O162+R162+U162+X162","v":13},{"$f":"+RANK(AD161,$AD$155:$AD$170,0)*100+RANK(AE161,$AE$155:$AE$170,1)*10+RANK(AF161,$AF$155:$AF$170,0)","v":344},{"$f":"+RANK(AG161,$AG$155:$AG$170,1)","v":3}]
[null,null,null,"-",null,null,"-",null,6,"○",4,{"$nulls":4},"-",null,null,"-",null,null,"-",null,7,"△",7]
[69,{"$f":"IF(データ２!B138=\"\",\"\",VLOOKUP(A163,データ２!$A$2:$B$224,2))","v":"東雲メッツ"},null,null,null,"Ｉ","-",10,null,null,null,"Ｉ","-",19,"＊",null,null,"Ｉ","-",23,"Ｉ","-",24,null,null,null,{"$f":"COUNTIF(C163:Z164,\"○\")","v":1},{"$f":"COUNTIF(C163:Z164,\"●\")","v":2},{"$f":"COUNTIF(C163:Z164,\"△\")","v":0},{"$f":"+AA163*3+AC163*1","v":3},{"$f":"+E164+H164+K164+N164+T164+W164+Z164","v":25},{"$f":"C164+F164+I164+L164+R164+U164+X164+AA164","v":18},{"$f":"+RANK(AD163,$AD$155:$AD$170,0)*100+RANK(AE163,$AE$155:$AE$170,1)*10+RANK(AF163,$AF$155:$AF$170,0)","v":573},{"$f":"+RANK(AG163,$AG$155:$AG$170,1)","v":7}]
[null,null,2,"●",20,null,"-",null,1,"●",2,null,"-",{"$nulls":5},"-",null,null,"-",null,15,"○",3]
[70,{"$f":"IF(データ２!B140=\"\",\"\",VLOOKUP(A165,データ２!$A$2:$B$224,2))","v":"元芝ハヤブサ"},null,null,null,"Ｉ","-",11,null,null,null,"Ｉ","-",20,"Ｉ","-",23,"＊",{"$nulls":5},"Ｉ","-",27,{"$f":"COUNTIF(C165:Z166,\"○\")","v":1},{"$f":"COUNTIF(C165:Z166,\"●\")","v":2},{"$f":"COUNTIF(C165:Z166,\"△\")","v":0},{"$f":"+AA165*3+AC165*1","v":3},{"$f":"+E166+H166+K166+N166+Q166+W166+Z166","v":18},{"$f":"C166+F166+I166+L166+O166+U166+X166","v":7},{"$f":"+RANK(AD165,$AD$155:$AD$170,0)*100+RANK(AE165,$AE$155:$AE$170,1)*10+RANK(AF165,$AF$155:$AF$170,0)","v":557},{"$f":"+RANK(AG165,$AG$155:$AG$170,1)","v":6}]
[null,null,4,"●",12,null,"-",null,0,"●",5,null,"-",null,null,"-",{"$nulls":4},3,"○",1,null,"-"]
[71,{"$f":"IF(データ２!B142=\"\",\"\",VLOOKUP(A167,データ２!$A$2:$B$224,2))","v":"雷サンダース"},"Ｉ","-",6,null,null,null,"Ｉ","-",17,"Ｉ","-",21,"Ｉ","-",24,null,null,null,"＊",null,null,"Ｉ","-",28,{"$f":"COUNTIF(C167:Z168,\"○\")","v":1},{"$f":"COUNTIF(C167:Z168,\"●\")","v":1},{"$f":"COUNTIF(C167:Z168,\"△\")","v":0},{"$f":"+AA167*3+AC167*1","v":3},{"$f":"+E168+H168+K168+N168+Q168+T168+Z168","v":6},{"$f":"C168+F168+I168+L168+O168+R168+U168+X168","v":10},{"$f":"+RANK(AD167,$AD$155:$AD$170,0)*100+RANK(AE167,$AE$155:$AE$170,1)*10+RANK(AF167,$AF$155:$AF$170,0)","v":516},{"$f":"+RANK(AG167,$AG$155:$AG$170,1)","v":5}]
[null,null,null,"-",null,9,"○",3,null,"-",null,null,"-",null,null,"-",null,1,"●",3,{"$nulls":4},"-"]
[72,{"$f":"IF(データ２!B144=\"\",\"\",VLOOKUP(A169,データ２!$A$2:$B$224,2))","v":"目黒ペガサス"},{"$nulls":6},"Ｉ","-",18,{"$nulls":6},"Ｉ","-",27,"Ｉ","-",28,"＊",null,null,{"$f":"COUNTIF(C169:Z170,\"○\")","v":1},{"$f":"COUNTIF(C169:Z170,\"●\")","v":2},{"$f":"COUNTIF(C169:Z170,\"△\")","v":1},{"$f":"+AA169*3+AC169*1","v":4},{"$f":"+E170+H170+K170+N170+Q170+T170+W170","v":31},{"$f":"C170+F170+I170+L170+O170+R170+U170+X170","v":21},{"$f":"+RANK(AD169,$AD$155:$AD$170,0)*100+RANK(AE169,$AE$155:$AE$170,1)*10+RANK(AF169,$AF$155:$AF$170,0)","v":382},{"$f":"+RANK(AG169,$AG$155:$AG$170,1)","v":4}]
[null,null,2,"●",9,9,"○",0,null,"-",null,7,"△",7,3,"●",15,null,"-",null,null,"-"]
[{"$nulls":26},{"$f":"SUM(AA155:AA170)","v":10},{"$f":"SUM(AB155:AB170)","v":10},{"$f":"SUM(AC155:AC170)","v":2},null,{"$f":"SUM(AE155:AE170)","v":124},{"$f":"SUM(AF155:AF170)","v":124},null,{"$f":"28-AA171-(AC171/2)","v":17}]
[null,{"$f":"+データ１!$B$2","v":"2023/2/25"},{"$f":"+データ１!$B$4","v":"２０２３年 "}]
[null,{"$f":"+データ１!B24","v":"スーパーリ－グ 　　                  　　　 第１７回大会  　　　        　Ｊブロック     　　              ２０２３"},{"$f":"+IF(B174=\"\",\"\",+B174)","v":"大雲寺スターズ"},null,null,{"$f":"+IF(B176=\"\",\"\",+B176)","v":"西伊興若潮ジュニア"},null,null,{"$f":"+IF(B178=\"\",\"\",+B178)","v":"球友ジュニアーズ"},null,null,{"$f":"+IF(B180=\"\",\"\",+B180)","v":"礫川"},null,null,{"$f":"+IF(B182=\"\",\"\",+B182)","v":"越中島ブレーブス"},null,null,{"$f":"+IF(B184=\"\",\"\",+B184)","v":"リトルロジャース"},null,null,{"$f":"+IF(B186=\"\",\"\",+B186)","v":"調布メンパース"},null,null,{"$f":"+IF(B188=\"\",\"\",+B188)","v":"晴海アポローズ"},null,null,"勝","負","分","勝点","失点","得点","順位決定要素","順位"]
[73,{"$f":"IF(データ２!B146=\"\",\"\",VLOOKUP(A174,データ２!$A$2:$B$224,2))","v":"大雲寺スターズ"},"＊",null,null,"Ｊ","-",1,"Ｊ","-",2,{"$nulls":12},"Ｊ","-",7,{"$f":"COUNTIF(C174:Z175,\"○\")","v":2},{"$f":"COUNTIF(C174:Z175,\"●\")","v":2},{"$f":"COUNTIF(C174:Z175,\"△\")","v":0},{"$f":"+AA174*3+AC174*1","v":6},{"$f":"+H175+K175+N175+Q175+T175+W175+Z175","v":22},{"$f":"+F175+I175+L175+O175+R175+U175+X175","v":30},{"$f":"+RANK(AD174,$AD$174:$AD$189,0)*100+RANK(AE174,$AE$174:$AE$189,1)*10+RANK(AF174,$AF$174:$AF$189,0)","v":253},{"$f":"+RANK(AG174,$AG$174:$AG$189,1)","v":3}]
[{"$nulls":6},"-",null,null,"-",null,7,"●",11,1,"●",9,5,"○",0,17,"○",2,null,"-"]
[74,{"$f":"IF(データ２!B148=\"\",\"\",VLOOKUP(A176,データ２!$A$2:$B$224,2))","v":"西伊興若潮ジュニア"},"Ｊ","-",1,"＊",{"$nulls":5},"Ｊ","-",9,null,null,null,"Ｊ","-",11,"Ｊ","-",12,null,null,null,{"$f":"COUNTIF(C176:Z177,\"○\")","v":2},{"$f":"COUNTIF(C176:Z177,\"●\")","v":1},{"$f":"COUNTIF(C176:Z177,\"△\")","v":0},{"$f":"+AA176*3+AC176*1","v":6},{"$f":"+E177+K177+N177+Q177+T177+W177+Z177","v":7},{"$f":"+C177+I177+L177+O177+R177+U177+X177","v":35},{"$f":"+RANK(AD176,$AD$174:$AD$189,0)*100+RANK(AE176,$AE$174:$AE$189,1)*10+RANK(AF176,$AF$174:$AF$189,0)","v":212},{"$f":"+RANK(AG176,$AG$174:$AG$189,1)","v":2}]
[null,null,null,"-",{"$nulls":4},20,"○",1,null,"-",null,0,"●",5,null,"-",null,null,"-",null,15,"○",1]
[75,{"$f":"IF(データ２!B150=\"\",\"\",VLOOKUP(A178,データ２!$A$2:$B$224,2))","v":"球友ジュニアーズ"},"Ｊ","-",2,null,null,null,"＊",null,null,"Ｊ","-",14,{"$nulls":6},"Ｊ","-",17,"Ｊ","-",18,{"$f":"COUNTIF(C178:Z179,\"○\")","v":0},{"$f":"COUNTIF(C178:Z179,\"●\")","v":3},{"$f":"COUNTIF(C178:Z179,\"△\")","v":0},{"$f":"+AA178*3+AC178*1","v":0},{"$f":"+E179+H179+N179+Q179+T179+W179+Z179","v":56},{"$f":"C179+F179+L179+O179+R179+U179+X179","v":5},{"$f":"+RANK(AD178,$AD$174:$AD$189,0)*100+RANK(AE178,$AE$174:$AE$189,1)*10+RANK(AF178,$AF$174:$AF$189,0)","v":686},{"$f":"+RANK(AG178,$AG$174:$AG$189,1)","v":8}]
[null,null,null,"-",null,1,"●",20,{"$nulls":4},"-",null,1,"●",21,3,"●",15,null,"-",null,null,"-"]
[76,{"$f":"IF(データ２!B152=\"\",\"\",VLOOKUP(A180,データ２!$A$2:$B$224,2))","v":"礫川"},null,null,null,"Ｊ","-",9,"Ｊ","-",14,"＊",null,null,"Ｊ","-",19,"Ｊ","-",20,"Ｊ","-",21,"Ｊ","-",22,{"$f":"COUNTIF(C180:Z181,\"○\")","v":1},{"$f":"COUNTIF(C180:Z181,\"●\")","v":0},{"$f":"COUNTIF(C180:Z181,\"△\")","v":0},{"$f":"+AA180*3+AC180*1","v":3},{"$f":"+E181+H181+K181+Q181+T181+W181+Z181","v":7},{"$f":"C181+F181+I181+O181+R181+U181+X181","v":11},{"$f":"+RANK(AD180,$AD$174:$AD$189,0)*100+RANK(AE180,$AE$174:$AE$189,1)*10+RANK(AF180,$AF$174:$AF$189,0)","v":415},{"$f":"+RANK(AG180,$AG$174:$AG$189,1)","v":4}]
[null,null,11,"○",7,null,"-",null,null,"-",{"$nulls":5},"-",null,null,"-",null,null,"-",null,null,"-"]
[77,{"$f":"IF(データ２!B154=\"\",\"\",VLOOKUP(A182,データ２!$A$2:$B$224,2))","v":"越中島ブレーブス"},{"$nulls":9},"Ｊ","-",19,"＊",{"$nulls":5},"Ｊ","-",24,null,null,null,{"$f":"COUNTIF(C182:Z183,\"○\")","v":5},{"$f":"COUNTIF(C182:Z183,\"●\")","v":0},{"$f":"COUNTIF(C182:Z183,\"△\")","v":0},{"$f":"+AA182*3+AC182*1","v":15},{"$f":"+E183+H183+K183+N183+T183+W183+Z183","v":10},{"$f":"C183+F183+I183+L183+R183+U183+X183+AA183","v":65},{"$f":"+RANK(AD182,$AD$174:$AD$189,0)*100+RANK(AE182,$AE$174:$AE$189,1)*10+RANK(AF182,$AF$174:$AF$189,0)","v":131},{"$f":"+RANK(AG182,$AG$174:$AG$189,1)","v":1}]
[null,null,9,"○",1,5,"○",0,21,"○",1,null,"-",{"$nulls":4},16,"○",7,null,"-",null,14,"○",1]
[78,{"$f":"IF(データ２!B156=\"\",\"\",VLOOKUP(A184,データ２!$A$2:$B$224,2))","v":"リトルロジャース"},null,null,null,"Ｊ","-",11,null,null,null,"Ｊ","-",20,null,null,null,"＊",null,null,"Ｊ","-",26,"Ｊ","-",27,{"$f":"COUNTIF(C184:Z185,\"○\")","v":1},{"$f":"COUNTIF(C184:Z185,\"●\")","v":2},{"$f":"COUNTIF(C184:Z185,\"△\")","v":0},{"$f":"+AA184*3+AC184*1","v":3},{"$f":"+E185+H185+K185+N185+Q185+W185+Z185","v":24},{"$f":"C185+F185+I185+L185+O185+U185+X185","v":22},{"$f":"+RANK(AD184,$AD$174:$AD$189,0)*100+RANK(AE184,$AE$174:$AE$189,1)*10+RANK(AF184,$AF$174:$AF$189,0)","v":464},{"$f":"+RANK(AG184,$AG$174:$AG$189,1)","v":5}]
[null,null,0,"●",5,null,"-",null,15,"○",3,null,"-",null,7,"●",16,{"$nulls":4},"-",null,null,"-"]
[79,{"$f":"IF(データ２!B158=\"\",\"\",VLOOKUP(A186,データ２!$A$2:$B$224,2))","v":"調布メンパース"},null,null,null,"Ｊ","-",12,"Ｊ","-",17,"Ｊ","-",21,"Ｊ","-",24,"Ｊ","-",26,"＊",null,null,"Ｊ","-",28,{"$f":"COUNTIF(C186:Z187,\"○\")","v":0},{"$f":"COUNTIF(C186:Z187,\"●\")","v":1},{"$f":"COUNTIF(C186:Z187,\"△\")","v":0},{"$f":"+AA186*3+AC186*1","v":0},{"$f":"+E187+H187+K187+N187+Q187+T187+Z187","v":17},{"$f":"C187+F187+I187+L187+O187+R187+U187+X187","v":2},{"$f":"+RANK(AD186,$AD$174:$AD$189,0)*100+RANK(AE186,$AE$174:$AE$189,1)*10+RANK(AF186,$AF$174:$AF$189,0)","v":647},{"$f":"+RANK(AG186,$AG$174:$AG$189,1)","v":6}]
[null,null,2,"●",17,null,"-",null,null,"-",null,null,"-",null,null,"-",null,null,"-",{"$nulls":5},"-"]
[80,{"$f":"IF(データ２!B160=\"\",\"\",VLOOKUP(A188,データ２!$A$2:$B$224,2))","v":"晴海アポローズ"},"Ｊ","-",7,null,null,null,"Ｊ","-",18,"Ｊ","-",22,null,null,null,"Ｊ","-",27,"Ｊ","-",28,"＊",null,null,{"$f":"COUNTIF(C188:Z189,\"○\")","v":0},{"$f":"COUNTIF(C188:Z189,\"●\")","v":2},{"$f":"COUNTIF(C188:Z189,\"△\")","v":0},{"$f":"+AA188*3+AC188*1","v":0},{"$f":"+E189+H189+K189+N189+Q189+T189+W189","v":29},{"$f":"C189+F189+I189+L189+O189+R189+U189+X189","v":2},{"$f":"+RANK(AD188,$AD$174:$AD$189,0)*100+RANK(AE188,$AE$174:$AE$189,1)*10+RANK(AF188,$AF$174:$AF$189,0)","v":677},{"$f":"+RANK(AG188,$AG$174:$AG$189,1)","v":7}]
[null,null,null,"-",null,1,"●",15,null,"-",null,null,"-",null,1,"●",14,null,"-",null,null,"-"]
[{"$nulls":26},{"$f":"SUM(AA174:AA189)","v":11},{"$f":"SUM(AB174:AB189)","v":11},{"$f":"SUM(AC174:AC189)","v":0},null,{"$f":"SUM(AE174:AE189)","v":172},{"$f":"SUM(AF174:AF189)","v":172},null,{"$f":"28-AA190-(AC190/2)","v":17}]
[null,{"$f":"+データ１!$B$2","v":"2023/2/25"},{"$f":"+データ１!$B$4","v":"２０２３年 "}]
[null,{"$f":"+データ１!B26","v":"スーパーリ－グ 　　                  　　　 第１７回大会  　　　        　Ｋブロック     　　              ２０２３"},{"$f":"+IF(B193=\"\",\"\",+B193)","v":"北原少年野球クラブ"},null,null,{"$f":"+IF(B195=\"\",\"\",+B195)","v":"東伊興シャインズ"},null,null,{"$f":"+IF(B197=\"\",\"\",+B197)","v":"船橋フェニックス"},null,null,{"$f":"+IF(B199=\"\",\"\",+B199)","v":"城北メッツ"},null,null,{"$f":"+IF(B201=\"\",\"\",+B201)","v":"深川ジャイアンツ"},null,null,{"$f":"+IF(B203=\"\",\"\",+B203)","v":"中板橋ボーイズ"},null,null,{"$f":"+IF(B205=\"\",\"\",+B205)","v":"桃五少年野球クラブ"},null,null,{"$f":"+IF(B207=\"\",\"\",+B207)","v":"日本橋ファイターズ"},null,null,"勝","負","分","勝点","失点","得点","順位決定要素","順位"]
[81,{"$f":"IF(データ２!B162=\"\",\"\",VLOOKUP(A193,データ２!$A$2:$B$224,2))","v":"北原少年野球クラブ"},"＊",{"$nulls":8},"Ｋ","-",3,{"$nulls":9},"Ｋ","-",7,{"$f":"COUNTIF(C193:Z194,\"○\")","v":3},{"$f":"COUNTIF(C193:Z194,\"●\")","v":2},{"$f":"COUNTIF(C193:Z194,\"△\")","v":0},{"$f":"+AA193*3+AC193*1","v":9},{"$f":"+H194+K194+N194+Q194+T194+W194+Z194","v":28},{"$f":"+F194+I194+L194+O194+R194+U194+X194","v":31},{"$f":"+RANK(AD193,$AD$193:$AD$208,0)*100+RANK(AE193,$AE$193:$AE$208,1)*10+RANK(AF193,$AF$193:$AF$208,0)","v":262},{"$f":"+RANK(AG193,$AG$193:$AG$208,1)","v":3}]
[{"$nulls":5},12,"○",1,0,"●",11,null,"-",null,2,"●",13,11,"○",2,6,"○",1,null,"-"]
[82,{"$f":"IF(データ２!B164=\"\",\"\",VLOOKUP(A195,データ２!$A$2:$B$224,2))","v":"東伊興シャインズ"},null,null,null,"＊",{"$nulls":5},"Ｋ","-",9,null,null,null,"Ｋ","-",11,{"$nulls":6},{"$f":"COUNTIF(C195:Z196,\"○\")","v":0},{"$f":"COUNTIF(C195:Z196,\"●\")","v":5},{"$f":"COUNTIF(C195:Z196,\"△\")","v":0},{"$f":"+AA195*3+AC195*1","v":0},{"$f":"+E196+K196+N196+Q196+T196+W196+Z196","v":58},{"$f":"+C196+I196+L196+O196+R196+U196+X196","v":8},{"$f":"+RANK(AD195,$AD$193:$AD$208,0)*100+RANK(AE195,$AE$193:$AE$208,1)*10+RANK(AF195,$AF$193:$AF$208,0)","v":786},{"$f":"+RANK(AG195,$AG$193:$AG$208,1)","v":8}]
[null,null,1,"●",12,null,null,null,3,"●",7,null,"-",null,1,"●",17,null,"-",null,3,"●",5,0,"●",17]
[83,{"$f":"IF(データ２!B166=\"\",\"\",VLOOKUP(A197,データ２!$A$2:$B$224,2))","v":"船橋フェニックス"},{"$nulls":6},"＊",{"$nulls":8},"Ｋ","-",16,"Ｋ","-",17,"Ｋ","-",18,{"$f":"COUNTIF(C197:Z198,\"○\")","v":3},{"$f":"COUNTIF(C197:Z198,\"●\")","v":1},{"$f":"COUNTIF(C197:Z198,\"△\")","v":0},{"$f":"+AA197*3+AC197*1","v":9},{"$f":"+E198+H198+N198+Q198+T198+W198+Z198","v":12},{"$f":"C198+F198+L198+O198+R198+U198+X198","v":30},{"$f":"+RANK(AD197,$AD$193:$AD$208,0)*100+RANK(AE197,$AE$193:$AE$208,1)*10+RANK(AF197,$AF$193:$AF$208,0)","v":223},{"$f":"+RANK(AG197,$AG$193:$AG$208,1)","v":2}]
[null,null,11,"○",0,7,"○",3,null,null,null,8,"○",2,4,"●",7,null,"-",null,null,"-",null,null,"-"]
[84,{"$f":"IF(データ２!B168=\"\",\"\",VLOOKUP(A199,データ２!$A$2:$B$224,2))","v":"城北メッツ"},"Ｋ","-",3,"Ｋ","-",9,null,null,null,"＊",null,null,"Ｋ","-",19,null,null,null,"Ｋ","-",21,"Ｋ","-",22,{"$f":"COUNTIF(C199:Z200,\"○\")","v":0},{"$f":"COUNTIF(C199:Z200,\"●\")","v":2},{"$f":"COUNTIF(C199:Z200,\"△\")","v":0},{"$f":"+AA199*3+AC199*1","v":0},{"$f":"+E200+H200+K200+Q200+T200+W200+Z200","v":15},{"$f":"C200+F200+I200+O200+R200+U200+X200","v":7},{"$f":"+RANK(AD199,$AD$193:$AD$208,0)*100+RANK(AE199,$AE$193:$AE$208,1)*10+RANK(AF199,$AF$193:$AF$208,0)","v":747},{"$f":"+RANK(AG199,$AG$193:$AG$208,1)","v":7}]
[null,null,null,"-",null,null,"-",null,2,"●",8,{"$nulls":4},"-",null,5,"●",7,null,"-",null,null,"-"]
[85,{"$f":"IF(データ２!B170=\"\",\"\",VLOOKUP(A201,データ２!$A$2:$B$224,2))","v":"深川ジャイアンツ"},{"$nulls":9},"Ｋ","-",19,"＊",{"$nulls":11},{"$f":"COUNTIF(C201:Z202,\"○\")","v":6},{"$f":"COUNTIF(C201:Z202,\"●\")","v":0},{"$f":"COUNTIF(C201:Z202,\"△\")","v":0},{"$f":"+AA201*3+AC201*1","v":18},{"$f":"+E202+H202+K202+N202+T202+W202+Z202","v":13},{"$f":"C202+F202+I202+L202+R202+U202+X202+AA202","v":76},{"$f":"+RANK(AD201,$AD$193:$AD$208,0)*100+RANK(AE201,$AE$193:$AE$208,1)*10+RANK(AF201,$AF$193:$AF$208,0)","v":131},{"$f":"+RANK(AG201,$AG$193:$AG$208,1)","v":1}]
[null,null,13,"○",2,17,"○",1,7,"○",4,null,"-",{"$nulls":4},20,"○",1,13,"○",0,6,"○",5]
[86,{"$f":"IF(データ２!B172=\"\",\"\",VLOOKUP(A203,データ２!$A$2:$B$224,2))","v":"中板橋ボーイズ"},null,null,null,"Ｋ","-",11,"Ｋ","-",16,{"$nulls":6},"＊",null,null,"Ｋ","-",26,"Ｋ","-",27,{"$f":"COUNTIF(C203:Z204,\"○\")","v":1},{"$f":"COUNTIF(C203:Z204,\"●\")","v":2},{"$f":"COUNTIF(C203:Z204,\"△\")","v":0},{"$f":"+AA203*3+AC203*1","v":3},{"$f":"+E204+H204+K204+N204+Q204+W204+Z204","v":36},{"$f":"C204+F204+I204+L204+O204+U204+X204","v":10},{"$f":"+RANK(AD203,$AD$193:$AD$208,0)*100+RANK(AE203,$AE$193:$AE$208,1)*10+RANK(AF203,$AF$193:$AF$208,0)","v":475},{"$f":"+RANK(AG203,$AG$193:$AG$208,1)","v":6}]
[null,null,2,"●",11,null,"-",null,null,"-",null,7,"○",5,1,"●",20,{"$nulls":4},"-",null,null,"-"]
[87,{"$f":"IF(データ２!B174=\"\",\"\",VLOOKUP(A205,データ２!$A$2:$B$224,2))","v":"桃五少年野球クラブ"},{"$nulls":6},"Ｋ","-",17,"Ｋ","-",21,null,null,null,"Ｋ","-",26,"＊",null,null,"Ｋ","-",28,{"$f":"COUNTIF(C205:Z206,\"○\")","v":1},{"$f":"COUNTIF(C205:Z206,\"●\")","v":2},{"$f":"COUNTIF(C205:Z206,\"△\")","v":0},{"$f":"+AA205*3+AC205*1","v":3},{"$f":"+E206+H206+K206+N206+Q206+T206+Z206","v":22},{"$f":"C206+F206+I206+L206+O206+R206+U206+X206","v":6},{"$f":"+RANK(AD205,$AD$193:$AD$208,0)*100+RANK(AE205,$AE$193:$AE$208,1)*10+RANK(AF205,$AF$193:$AF$208,0)","v":458},{"$f":"+RANK(AG205,$AG$193:$AG$208,1)","v":5}]
[null,null,1,"●",6,5,"○",3,null,"-",null,null,"-",null,0,"●",13,null,"-",{"$nulls":5},"-"]
[88,{"$f":"IF(データ２!B176=\"\",\"\",VLOOKUP(A207,データ２!$A$2:$B$224,2))","v":"日本橋ファイターズ"},"Ｋ","-",7,null,null,null,"Ｋ","-",18,"Ｋ","-",22,null,null,null,"Ｋ","-",27,"Ｋ","-",28,"＊",null,null,{"$f":"COUNTIF(C207:Z208,\"○\")","v":1},{"$f":"COUNTIF(C207:Z208,\"●\")","v":1},{"$f":"COUNTIF(C207:Z208,\"△\")","v":0},{"$f":"+AA207*3+AC207*1","v":3},{"$f":"+E208+H208+K208+N208+Q208+T208+W208","v":6},{"$f":"C208+F208+I208+L208+O208+R208+U208+X208","v":22},{"$f":"+RANK(AD207,$AD$193:$AD$208,0)*100+RANK(AE207,$AE$193:$AE$208,1)*10+RANK(AF207,$AF$193:$AF$208,0)","v":414},{"$f":"+RANK(AG207,$AG$193:$AG$208,1)","v":4}]
[null,null,null,"-",null,17,"○",0,null,"-",null,null,"-",null,5,"●",6,null,"-",null,null,"-"]
[{"$nulls":26},{"$f":"SUM(AA193:AA208)","v":15},{"$f":"SUM(AB193:AB208)","v":15},{"$f":"SUM(AC193:AC208)","v":0},null,{"$f":"SUM(AE193:AE208)","v":190},{"$f":"SUM(AF193:AF208)","v":190},null,{"$f":"28-AA209-(AC209/2)","v":13}]
[null,{"$f":"+データ１!$B$2","v":"2023/2/25"},{"$f":"+データ１!$B$4","v":"２０２３年 "}]
[null,{"$f":"+データ１!B28","v":"スーパーリ－グ 　　                  　　　 第１７回大会  　　　        　Ｌブロック     　　              ２０２３"},{"$f":"+IF(B212=\"\",\"\",+B212)","v":"ゼットタイガー"},null,null,{"$f":"+IF(B214=\"\",\"\",+B214)","v":"新田ファイヤーズ"},null,null,{"$f":"+IF(B216=\"\",\"\",+B216)","v":"用賀ベアーズ"},null,null,{"$f":"+IF(B218=\"\",\"\",+B218)","v":"西千タイガース"},null,null,{"$f":"+IF(B220=\"\",\"\",+B220)","v":"七北クラブ"},null,null,{"$f":"+IF(B222=\"\",\"\",+B222)","v":"旗の台クラブ"},null,null,{"$f":"+IF(B224=\"\",\"\",+B224)","v":"松島ファルコンズ"},null,null,{"$f":"+IF(B226=\"\",\"\",+B226)","v":"練馬ペガサス"},null,null,"勝","負","分","勝点","失点","得点","順位決定要素","順位"]
[89,{"$f":"IF(データ２!B178=\"\",\"\",VLOOKUP(A212,データ２!$A$2:$B$224,2))","v":"ゼットタイガー"},"＊",null,null,"Ｌ","-",1,null,null,null,"Ｌ","-",3,{"$nulls":6},"Ｌ","-",6,"Ｌ","-",7,{"$f":"COUNTIF(C212:Z213,\"○\")","v":1},{"$f":"COUNTIF(C212:Z213,\"●\")","v":2},{"$f":"COUNTIF(C212:Z213,\"△\")","v":0},{"$f":"+AA212*3+AC212*1","v":3},{"$f":"+H213+K213+N213+Q213+T213+W213+Z213","v":44},{"$f":"+F213+I213+L213+O213+R213+U213+X213","v":16},{"$f":"+RANK(AD212,$AD$212:$AD$227,0)*100+RANK(AE212,$AE$212:$AE$227,1)*10+RANK(AF212,$AF$212:$AF$227,0)","v":484},{"$f":"+RANK(AG212,$AG$212:$AG$227,1)","v":4}]
[{"$nulls":6},"-",null,2,"●",18,null,"-",null,12,"○",5,2,"●",21,null,"-",null,null,"-"]
[90,{"$f":"IF(データ２!B180=\"\",\"\",VLOOKUP(A214,データ２!$A$2:$B$224,2))","v":"新田ファイヤーズ"},"Ｌ","-",1,"＊",null,null,"Ｌ","-",8,"Ｌ","-",9,"Ｌ","-",10,"Ｌ","-",11,"Ｌ","-",12,"Ｌ","-",13,{"$f":"COUNTIF(C214:Z215,\"○\")","v":0},{"$f":"COUNTIF(C214:Z215,\"●\")","v":0},{"$f":"COUNTIF(C214:Z215,\"△\")","v":0},{"$f":"+AA214*3+AC214*1","v":0},{"$f":"+E215+K215+N215+Q215+T215+W215+Z215","v":0},{"$f":"+C215+I215+L215+O215+R215+U215+X215","v":0},{"$f":"+RANK(AD214,$AD$212:$AD$227,0)*100+RANK(AE214,$AE$212:$AE$227,1)*10+RANK(AF214,$AF$212:$AF$227,0)","v":517},{"$f":"+RANK(AG214,$AG$212:$AG$227,1)","v":5}]
[null,null,null,"-",{"$nulls":5},"-",null,null,"-",null,null,"-",null,null,"-",null,null,"-",null,null,"-"]
[91,{"$f":"IF(データ２!B182=\"\",\"\",VLOOKUP(A216,データ２!$A$2:$B$224,2))","v":"用賀ベアーズ"},null,null,null,"Ｌ","-",8,"＊",{"$nulls":5},"Ｌ","-",15,"Ｌ","-",16,"Ｌ","-",17,null,null,null,{"$f":"COUNTIF(C216:Z217,\"○\")","v":3},{"$f":"COUNTIF(C216:Z217,\"●\")","v":0},{"$f":"COUNTIF(C216:Z217,\"△\")","v":0},{"$f":"+AA216*3+AC216*1","v":9},{"$f":"+E217+H217+N217+Q217+T217+W217+Z217","v":3},{"$f":"C217+F217+L217+O217+R217+U217+X217","v":59},{"$f":"+RANK(AD216,$AD$212:$AD$227,0)*100+RANK(AE216,$AE$212:$AE$227,1)*10+RANK(AF216,$AF$212:$AF$227,0)","v":222},{"$f":"+RANK(AG216,$AG$212:$AG$227,1)","v":2}]
[null,null,18,"○",2,null,"-",{"$nulls":4},21,"○",1,null,"-",null,null,"-",null,null,"-",null,20,"○",0]
[92,{"$f":"IF(データ２!B184=\"\",\"\",VLOOKUP(A218,データ２!$A$2:$B$224,2))","v":"西千タイガース"},"Ｌ","-",3,"Ｌ","-",9,null,null,null,"＊",null,null,"Ｌ","-",19,"Ｌ","-",20,null,null,null,"Ｌ","-",22,{"$f":"COUNTIF(C218:Z219,\"○\")","v":0},{"$f":"COUNTIF(C218:Z219,\"●\")","v":2},{"$f":"COUNTIF(C218:Z219,\"△\")","v":0},{"$f":"+AA218*3+AC218*1","v":0},{"$f":"+E219+H219+K219+Q219+T219+W219+Z219","v":35},{"$f":"C219+F219+I219+O219+R219+U219+X219","v":4},{"$f":"+RANK(AD218,$AD$212:$AD$227,0)*100+RANK(AE218,$AE$212:$AE$227,1)*10+RANK(AF218,$AF$212:$AF$227,0)","v":566},{"$f":"+RANK(AG218,$AG$212:$AG$227,1)","v":7}]
[null,null,null,"-",null,null,"-",null,1,"●",21,{"$nulls":4},"-",null,null,"-",null,3,"●",14,null,"-"]
[93,{"$f":"IF(データ２!B186=\"\",\"\",VLOOKUP(A220,データ２!$A$2:$B$224,2))","v":"七北クラブ"},null,null,null,"Ｌ","-",10,"Ｌ","-",15,"Ｌ","-",19,"＊",{"$nulls":8},"Ｌ","-",25,{"$f":"COUNTIF(C220:Z221,\"○\")","v":0},{"$f":"COUNTIF(C220:Z221,\"●\")","v":3},{"$f":"COUNTIF(C220:Z221,\"△\")","v":0},{"$f":"+AA220*3+AC220*1","v":0},{"$f":"+E221+H221+K221+N221+T221+W221+Z221","v":39},{"$f":"C221+F221+I221+L221+R221+U221+X221+AA221","v":8},{"$f":"+RANK(AD220,$AD$212:$AD$227,0)*100+RANK(AE220,$AE$212:$AE$227,1)*10+RANK(AF220,$AF$212:$AF$227,0)","v":575},{"$f":"+RANK(AG220,$AG$212:$AG$227,1)","v":8}]
[null,null,5,"●",12,null,"-",null,null,"-",null,null,"-",{"$nulls":4},2,"●",16,1,"●",11,null,"-"]
[94,{"$f":"IF(データ２!B188=\"\",\"\",VLOOKUP(A222,データ２!$A$2:$B$224,2))","v":"旗の台クラブ"},null,null,null,"Ｌ","-",11,"Ｌ","-",16,"Ｌ","-",20,null,null,null,"＊",{"$nulls":8},{"$f":"COUNTIF(C222:Z223,\"○\")","v":4},{"$f":"COUNTIF(C222:Z223,\"●\")","v":0},{"$f":"COUNTIF(C222:Z223,\"△\")","v":0},{"$f":"+AA222*3+AC222*1","v":12},{"$f":"+E223+H223+K223+N223+Q223+W223+Z223","v":5},{"$f":"C223+F223+I223+L223+O223+U223+X223","v":78},{"$f":"+RANK(AD222,$AD$212:$AD$227,0)*100+RANK(AE222,$AE$212:$AE$227,1)*10+RANK(AF222,$AF$212:$AF$227,0)","v":131},{"$f":"+RANK(AG222,$AG$212:$AG$227,1)","v":1}]
[null,null,21,"○",2,null,"-",null,null,"-",null,null,"-",null,16,"○",2,null,null,null,27,"○",1,14,"○",0]
[95,{"$f":"IF(データ２!B190=\"\",\"\",VLOOKUP(A224,データ２!$A$2:$B$224,2))","v":"松島ファルコンズ"},"Ｌ","-",6,"Ｌ","-",12,"Ｌ","-",17,{"$nulls":9},"＊",null,null,"Ｌ","-",28,{"$f":"COUNTIF(C224:Z225,\"○\")","v":2},{"$f":"COUNTIF(C224:Z225,\"●\")","v":1},{"$f":"COUNTIF(C224:Z225,\"△\")","v":0},{"$f":"+AA224*3+AC224*1","v":6},{"$f":"+E225+H225+K225+N225+Q225+T225+Z225","v":31},{"$f":"C225+F225+I225+L225+O225+R225+U225+X225","v":26},{"$f":"+RANK(AD224,$AD$212:$AD$227,0)*100+RANK(AE224,$AE$212:$AE$227,1)*10+RANK(AF224,$AF$212:$AF$227,0)","v":343},{"$f":"+RANK(AG224,$AG$212:$AG$227,1)","v":3}]
[null,null,null,"-",null,null,"-",null,null,"-",null,14,"○",3,11,"○",1,1,"●",27,{"$nulls":4},"-"]
[96,{"$f":"IF(データ２!B192=\"\",\"\",VLOOKUP(A226,データ２!$A$2:$B$224,2))","v":"練馬ペガサス"},"Ｌ","-",7,"Ｌ","-",13,null,null,null,"Ｌ","-",22,"Ｌ","-",25,null,null,null,"Ｌ","-",28,"＊",null,null,{"$f":"COUNTIF(C226:Z227,\"○\")","v":0},{"$f":"COUNTIF(C226:Z227,\"●\")","v":2},{"$f":"COUNTIF(C226:Z227,\"△\")","v":0},{"$f":"+AA226*3+AC226*1","v":0},{"$f":"+E227+H227+K227+N227+Q227+T227+W227","v":34},{"$f":"C227+F227+I227+L227+O227+R227+U227+X227","v":0},{"$f":"+RANK(AD226,$AD$212:$AD$227,0)*100+RANK(AE226,$AE$212:$AE$227,1)*10+RANK(AF226,$AF$212:$AF$227,0)","v":557},{"$f":"+RANK(AG226,$AG$212:$AG$227,1)","v":6}]
[null,null,null,"-",null,null,"-",null,0,"●",20,null,"-",null,null,"-",null,0,"●",14,null,"-"]
[{"$nulls":26},{"$f":"SUM(AA212:AA227)","v":10},{"$f":"SUM(AB212:AB227)","v":10},{"$f":"SUM(AC212:AC227)","v":0},null,{"$f":"SUM(AE212:AE227)","v":191},{"$f":"SUM(AF212:AF227)","v":191},null,{"$f":"28-AA228-(AC228/2)","v":18}]
[null,{"$f":"+データ１!$B$2","v":"2023/2/25"},{"$f":"+データ１!$B$4","v":"２０２３年 "}]
[null,{"$f":"+データ１!B30","v":"スーパーリ－グ 　　                  　　　 第１７回大会  　　　        　Ｍブロック     　　              ２０２３"},{"$f":"+IF(B231=\"\",\"\",+B231)","v":"西田野球クラブ"},null,null,{"$f":"+IF(B233=\"\",\"\",+B233)","v":"落一アポロ"},null,null,{"$f":"+IF(B235=\"\",\"\",+B235)","v":"ナインスターズ"},null,null,{"$f":"+IF(B237=\"\",\"\",+B237)","v":"マッハブレーブス"},null,null,{"$f":"+IF(B239=\"\",\"\",+B239)","v":"東王ジュニア"},null,null,{"$f":"+IF(B241=\"\",\"\",+B241)","v":"高輪台ファイターズ"},null,null,{"$f":"+IF(B243=\"\",\"\",+B243)","v":"しらさぎ"},null,null,{"$f":"+IF(B245=\"\",\"\",+B245)","v":"東山エイターズ"},null,null,"勝","負","分","勝点","失点","得点","順位決定要素","順位"]
[97,{"$f":"IF(データ２!B194=\"\",\"\",VLOOKUP(A231,データ２!$A$2:$B$224,2))","v":"西田野球クラブ"},"＊",{"$nulls":8},"Ｍ","-",3,"Ｍ","-",4,"Ｍ","-",5,{"$nulls":6},{"$f":"COUNTIF(C231:Z232,\"○\")","v":1},{"$f":"COUNTIF(C231:Z232,\"●\")","v":3},{"$f":"COUNTIF(C231:Z232,\"△\")","v":0},{"$f":"+AA231*3+AC231*1","v":3},{"$f":"+H232+K232+N232+Q232+T232+W232+Z232","v":17},{"$f":"+F232+I232+L232+O232+R232+U232+X232","v":19},{"$f":"+RANK(AD231,$AD$231:$AD$246,0)*100+RANK(AE231,$AE$231:$AE$246,1)*10+RANK(AF231,$AF$231:$AF$246,0)","v":462},{"$f":"+RANK(AG231,$AG$231:$AG$246,1)","v":5}]
[{"$nulls":5},10,"○",1,0,"●",2,null,"-",null,null,"-",null,null,"-",null,9,"●",10,0,"●",4]
[98,{"$f":"IF(データ２!B196=\"\",\"\",VLOOKUP(A233,データ２!$A$2:$B$224,2))","v":"落一アポロ"},null,null,null,"＊",null,null,"Ｍ","-",8,null,null,null,"Ｍ","-",10,"Ｍ","-",11,"Ｍ","-",12,null,null,null,{"$f":"COUNTIF(C233:Z234,\"○\")","v":0},{"$f":"COUNTIF(C233:Z234,\"●\")","v":3},{"$f":"COUNTIF(C233:Z234,\"△\")","v":0},{"$f":"+AA233*3+AC233*1","v":0},{"$f":"+E234+K234+N234+Q234+T234+W234+Z234","v":36},{"$f":"+C234+I234+L234+O234+R234+U234+X234","v":5},{"$f":"+RANK(AD233,$AD$231:$AD$246,0)*100+RANK(AE233,$AE$231:$AE$246,1)*10+RANK(AF233,$AF$231:$AF$246,0)","v":788},{"$f":"+RANK(AG233,$AG$231:$AG$246,1)","v":8}]
[null,null,1,"●",10,{"$nulls":4},"-",null,3,"●",15,null,"-",null,null,"-",null,null,"-",null,1,"●",11]
[99,{"$f":"IF(データ２!B198=\"\",\"\",VLOOKUP(A235,データ２!$A$2:$B$224,2))","v":"ナインスターズ"},null,null,null,"Ｍ","-",8,"＊",null,null,"Ｍ","-",14,null,null,null,"Ｍ","-",16,null,null,null,"Ｍ","-",18,{"$f":"COUNTIF(C235:Z236,\"○\")","v":2},{"$f":"COUNTIF(C235:Z236,\"●\")","v":1},{"$f":"COUNTIF(C235:Z236,\"△\")","v":0},{"$f":"+AA235*3+AC235*1","v":6},{"$f":"+E236+H236+N236+Q236+T236+W236+Z236","v":14},{"$f":"C236+F236+L236+O236+R236+U236+X236","v":16},{"$f":"+RANK(AD235,$AD$231:$AD$246,0)*100+RANK(AE235,$AE$231:$AE$246,1)*10+RANK(AF235,$AF$231:$AF$246,0)","v":244},{"$f":"+RANK(AG235,$AG$231:$AG$246,1)","v":3}]
[null,null,2,"○",0,null,"-",{"$nulls":5},"-",null,2,"●",9,null,"-",null,12,"○",5,null,"-"]
[100,{"$f":"IF(データ２!B200=\"\",\"\",VLOOKUP(A237,データ２!$A$2:$B$224,2))","v":"マッハブレーブス"},"Ｍ","-",3,null,null,null,"Ｍ","-",14,"＊",null,null,"Ｍ","-",19,"Ｍ","-",20,"Ｍ","-",21,"Ｍ","-",22,{"$f":"COUNTIF(C237:Z238,\"○\")","v":1},{"$f":"COUNTIF(C237:Z238,\"●\")","v":0},{"$f":"COUNTIF(C237:Z238,\"△\")","v":0},{"$f":"+AA237*3+AC237*1","v":3},{"$f":"+E238+H238+K238+Q238+T238+W238+Z238","v":3},{"$f":"C238+F238+I238+O238+R238+U238+X238","v":15},{"$f":"+RANK(AD237,$AD$231:$AD$246,0)*100+RANK(AE237,$AE$231:$AE$246,1)*10+RANK(AF237,$AF$231:$AF$246,0)","v":415},{"$f":"+RANK(AG237,$AG$231:$AG$246,1)","v":4}]
[null,null,null,"-",null,15,"○",3,null,"-",{"$nulls":5},"-",null,null,"-",null,null,"-",null,null,"-"]
[101,{"$f":"IF(データ２!B202=\"\",\"\",VLOOKUP(A239,データ２!$A$2:$B$224,2))","v":"東王ジュニア"},"Ｍ","-",4,"Ｍ","-",10,null,null,null,"Ｍ","-",19,"＊",{"$nulls":5},"Ｍ","-",24,null,null,null,{"$f":"COUNTIF(C239:Z240,\"○\")","v":3},{"$f":"COUNTIF(C239:Z240,\"●\")","v":0},{"$f":"COUNTIF(C239:Z240,\"△\")","v":0},{"$f":"+AA239*3+AC239*1","v":9},{"$f":"+E240+H240+K240+N240+T240+W240+Z240","v":11},{"$f":"C240+F240+I240+L240+R240+U240+X240+AA240","v":29},{"$f":"+RANK(AD239,$AD$231:$AD$246,0)*100+RANK(AE239,$AE$231:$AE$246,1)*10+RANK(AF239,$AF$231:$AF$246,0)","v":131},{"$f":"+RANK(AG239,$AG$231:$AG$246,1)","v":1}]
[null,null,null,"-",null,null,"-",null,9,"○",2,null,"-",{"$nulls":4},7,"○",6,null,"-",null,13,"○",3]
[102,{"$f":"IF(データ２!B204=\"\",\"\",VLOOKUP(A241,データ２!$A$2:$B$224,2))","v":"高輪台ファイターズ"},"Ｍ","-",5,"Ｍ","-",11,"Ｍ","-",16,"Ｍ","-",20,null,null,null,"＊",null,null,"Ｍ","-",26,"Ｍ","-",27,{"$f":"COUNTIF(C241:Z242,\"○\")","v":0},{"$f":"COUNTIF(C241:Z242,\"●\")","v":1},{"$f":"COUNTIF(C241:Z242,\"△\")","v":0},{"$f":"+AA241*3+AC241*1","v":0},{"$f":"+E242+H242+K242+N242+Q242+W242+Z242","v":7},{"$f":"C242+F242+I242+L242+O242+U242+X242","v":6},{"$f":"+RANK(AD241,$AD$231:$AD$246,0)*100+RANK(AE241,$AE$231:$AE$246,1)*10+RANK(AF241,$AF$231:$AF$246,0)","v":727},{"$f":"+RANK(AG241,$AG$231:$AG$246,1)","v":7}]
[null,null,null,"-",null,null,"-",null,null,"-",null,null,"-",null,6,"●",7,{"$nulls":4},"-",null,null,"-"]
[103,{"$f":"IF(データ２!B206=\"\",\"\",VLOOKUP(A243,データ２!$A$2:$B$224,2))","v":"しらさぎ"},null,null,null,"Ｍ","-",12,null,null,null,"Ｍ","-",21,"Ｍ","-",24,"Ｍ","-",26,"＊",null,null,"Ｍ","-",28,{"$f":"COUNTIF(C243:Z244,\"○\")","v":1},{"$f":"COUNTIF(C243:Z244,\"●\")","v":1},{"$f":"COUNTIF(C243:Z244,\"△\")","v":0},{"$f":"+AA243*3+AC243*1","v":3},{"$f":"+E244+H244+K244+N244+Q244+T244+Z244","v":21},{"$f":"C244+F244+I244+L244+O244+R244+U244+X244","v":15},{"$f":"+RANK(AD243,$AD$231:$AD$246,0)*100+RANK(AE243,$AE$231:$AE$246,1)*10+RANK(AF243,$AF$231:$AF$246,0)","v":475},{"$f":"+RANK(AG243,$AG$231:$AG$246,1)","v":6}]
[null,null,10,"○",9,null,"-",null,5,"●",12,null,"-",null,null,"-",null,null,"-",{"$nulls":5},"-"]
[104,{"$f":"IF(データ２!B208=\"\",\"\",VLOOKUP(A245,データ２!$A$2:$B$224,2))","v":"東山エイターズ"},{"$nulls":6},"Ｍ","-",18,"Ｍ","-",22,null,null,null,"Ｍ","-",27,"Ｍ","-",28,"＊",null,null,{"$f":"COUNTIF(C245:Z246,\"○\")","v":2},{"$f":"COUNTIF(C245:Z246,\"●\")","v":1},{"$f":"COUNTIF(C245:Z246,\"△\")","v":0},{"$f":"+AA245*3+AC245*1","v":6},{"$f":"+E246+H246+K246+N246+Q246+T246+W246","v":14},{"$f":"C246+F246+I246+L246+O246+R246+U246+X246","v":18},{"$f":"+RANK(AD245,$AD$231:$AD$246,0)*100+RANK(AE245,$AE$231:$AE$246,1)*10+RANK(AF245,$AF$231:$AF$246,0)","v":243},{"$f":"+RANK(AG245,$AG$231:$AG$246,1)","v":2}]
[null,null,4,"○",0,11,"○",1,null,"-",null,null,"-",null,3,"●",13,null,"-",null,null,"-"]
[{"$nulls":26},{"$f":"SUM(AA231:AA246)","v":10},{"$f":"SUM(AB231:AB246)","v":10},{"$f":"SUM(AC231:AC246)","v":0},null,{"$f":"SUM(AE231:AE246)","v":123},{"$f":"SUM(AF231:AF246)","v":123},null,{"$f":"28-AA247-(AC247/2)","v":18}]
[null,{"$f":"+データ１!$B$2","v":"2023/2/25"},{"$f":"+データ１!$B$4","v":"２０２３年 "}]
[null,{"$f":"+データ１!B32","v":"スーパーリ－グ 　　                  　　　 第１７回大会  　　　        　Ｎブロック     　　              ２０２３"},{"$f":"+IF(B250=\"\",\"\",+B250)","v":"ブルースカイズ"},null,null,{"$f":"+IF(B252=\"\",\"\",+B252)","v":"レッドファイヤーズ"},null,null,{"$f":"+IF(B254=\"\",\"\",+B254)","v":"荒川コンドル"},null,null,{"$f":"+IF(B256=\"\",\"\",+B256)","v":"渋谷レッドソックス"},null,null,{"$f":"+IF(B258=\"\",\"\",+B258)","v":"江東ファイターズ"},null,null,{"$f":"+IF(B260=\"\",\"\",+B260)","v":"品川レインボーズ"},null,null,{"$f":"+IF(B262=\"\",\"\",+B262)","v":"久我山イーグルス"},null,null,{"$f":"+IF(B264=\"\",\"\",+B264)","v":"中央フェニックス"},null,null,"勝","負","分","勝点","失点","得点","順位決定要素","順位"]
[105,{"$f":"IF(データ２!B210=\"\",\"\",VLOOKUP(A250,データ２!$A$2:$B$224,2))","v":"ブルースカイズ"},"＊",{"$nulls":8},"Ｎ","-",3,{"$nulls":6},"Ｎ","-",6,null,null,null,{"$f":"COUNTIF(C250:Z251,\"○\")","v":1},{"$f":"COUNTIF(C250:Z251,\"●\")","v":3},{"$f":"COUNTIF(C250:Z251,\"△\")","v":1},{"$f":"+AA250*3+AC250*1","v":4},{"$f":"+H251+K251+N251+Q251+T251+W251+Z251","v":33},{"$f":"+F251+I251+L251+O251+R251+U251+X251","v":32},{"$f":"+RANK(AD250,$AD$250:$AD$265,0)*100+RANK(AE250,$AE$250:$AE$265,1)*10+RANK(AF250,$AF$250:$AF$265,0)","v":382},{"$f":"+RANK(AG250,$AG$250:$AG$265,1)","v":4}]
[{"$nulls":5},4,"●",5,12,"○",3,null,"-",null,4,"●",7,5,"●",11,null,"-",null,7,"△",7]
[106,{"$f":"IF(データ２!B212=\"\",\"\",VLOOKUP(A252,データ２!$A$2:$B$224,2))","v":"レッドファイヤーズ"},null,null,null,"＊",null,null,"Ｎ","-",8,"Ｎ","-",9,"Ｎ","-",10,"Ｎ","-",11,"Ｎ","-",12,"Ｎ","-",13,{"$f":"COUNTIF(C252:Z253,\"○\")","v":1},{"$f":"COUNTIF(C252:Z253,\"●\")","v":0},{"$f":"COUNTIF(C252:Z253,\"△\")","v":0},{"$f":"+AA252*3+AC252*1","v":3},{"$f":"+E253+K253+N253+Q253+T253+W253+Z253","v":4},{"$f":"+C253+I253+L253+O253+R253+U253+X253","v":5},{"$f":"+RANK(AD252,$AD$250:$AD$265,0)*100+RANK(AE252,$AE$250:$AE$265,1)*10+RANK(AF252,$AF$250:$AF$265,0)","v":525},{"$f":"+RANK(AG252,$AG$250:$AG$265,1)","v":5}]
[null,null,5,"○",4,{"$nulls":4},"-",null,null,"-",null,null,"-",null,null,"-",null,null,"-",null,null,"-"]
[107,{"$f":"IF(データ２!B214=\"\",\"\",VLOOKUP(A254,データ２!$A$2:$B$224,2))","v":"荒川コンドル"},null,null,null,"Ｎ","-",8,"＊",null,null,"Ｎ","-",14,null,null,null,"Ｎ","-",16,"Ｎ","-",17,"Ｎ","-",18,{"$f":"COUNTIF(C254:Z255,\"○\")","v":0},{"$f":"COUNTIF(C254:Z255,\"●\")","v":2},{"$f":"COUNTIF(C254:Z255,\"△\")","v":0},{"$f":"+AA254*3+AC254*1","v":0},{"$f":"+E255+H255+N255+Q255+T255+W255+Z255","v":32},{"$f":"C255+F255+L255+O255+R255+U255+X255","v":3},{"$f":"+RANK(AD254,$AD$250:$AD$265,0)*100+RANK(AE254,$AE$250:$AE$265,1)*10+RANK(AF254,$AF$250:$AF$265,0)","v":677},{"$f":"+RANK(AG254,$AG$250:$AG$265,1)","v":8}]
[null,null,3,"●",12,null,"-",{"$nulls":5},"-",null,0,"●",20,null,"-",null,null,"-",null,null,"-"]
[108,{"$f":"IF(データ２!B216=\"\",\"\",VLOOKUP(A256,データ２!$A$2:$B$224,2))","v":"渋谷レッドソックス"},"Ｎ","-",3,"Ｎ","-",9,"Ｎ","-",14,"＊",null,null,"Ｎ","-",19,"Ｎ","-",20,"Ｎ","-",21,"Ｎ","-",22,{"$f":"COUNTIF(C256:Z257,\"○\")","v":0},{"$f":"COUNTIF(C256:Z257,\"●\")","v":0},{"$f":"COUNTIF(C256:Z257,\"△\")","v":0},{"$f":"+AA256*3+AC256*1","v":0},{"$f":"+E257+H257+K257+Q257+T257+W257+Z257","v":0},{"$f":"C257+F257+I257+O257+R257+U257+X257","v":0},{"$f":"+RANK(AD256,$AD$250:$AD$265,0)*100+RANK(AE256,$AE$250:$AE$265,1)*10+RANK(AF256,$AF$250:$AF$265,0)","v":618},{"$f":"+RANK(AG256,$AG$250:$AG$265,1)","v":6}]
[null,null,null,"-",null,null,"-",null,null,"-",{"$nulls":5},"-",null,null,"-",null,null,"-",null,null,"-"]
[109,{"$f":"IF(データ２!B218=\"\",\"\",VLOOKUP(A258,データ２!$A$2:$B$224,2))","v":"江東ファイターズ"},null,null,null,"Ｎ","-",10,null,null,null,"Ｎ","-",19,"＊",{"$nulls":11},{"$f":"COUNTIF(C258:Z259,\"○\")","v":3},{"$f":"COUNTIF(C258:Z259,\"●\")","v":2},{"$f":"COUNTIF(C258:Z259,\"△\")","v":0},{"$f":"+AA258*3+AC258*1","v":9},{"$f":"+E259+H259+K259+N259+T259+W259+Z259","v":25},{"$f":"C259+F259+I259+L259+R259+U259+X259+AA259","v":36},{"$f":"+RANK(AD258,$AD$250:$AD$265,0)*100+RANK(AE258,$AE$250:$AE$265,1)*10+RANK(AF258,$AF$250:$AF$265,0)","v":161},{"$f":"+RANK(AG258,$AG$250:$AG$265,1)","v":2}]
[null,null,7,"○",4,null,"-",null,20,"○",0,null,"-",{"$nulls":4},1,"●",10,8,"○",3,0,"●",8]
[110,{"$f":"IF(データ２!B220=\"\",\"\",VLOOKUP(A260,データ２!$A$2:$B$224,2))","v":"品川レインボーズ"},null,null,null,"Ｎ","-",11,"Ｎ","-",16,"Ｎ","-",20,null,null,null,"＊",{"$nulls":5},"Ｎ","-",27,{"$f":"COUNTIF(C260:Z261,\"○\")","v":3},{"$f":"COUNTIF(C260:Z261,\"●\")","v":0},{"$f":"COUNTIF(C260:Z261,\"△\")","v":0},{"$f":"+AA260*3+AC260*1","v":9},{"$f":"+E261+H261+K261+N261+Q261+W261+Z261","v":7},{"$f":"C261+F261+I261+L261+O261+U261+X261","v":30},{"$f":"+RANK(AD260,$AD$250:$AD$265,0)*100+RANK(AE260,$AE$250:$AE$265,1)*10+RANK(AF260,$AF$250:$AF$265,0)","v":133},{"$f":"+RANK(AG260,$AG$250:$AG$265,1)","v":1}]
[null,null,11,"○",5,null,"-",null,null,"-",null,null,"-",null,10,"○",1,null,null,null,9,"○",1,null,"-"]
[111,{"$f":"IF(データ２!B222=\"\",\"\",VLOOKUP(A262,データ２!$A$2:$B$224,2))","v":"久我山イーグルス"},"Ｎ","-",6,"Ｎ","-",12,"Ｎ","-",17,"Ｎ","-",21,{"$nulls":6},"＊",null,null,"Ｎ","-",28,{"$f":"COUNTIF(C262:Z263,\"○\")","v":0},{"$f":"COUNTIF(C262:Z263,\"●\")","v":2},{"$f":"COUNTIF(C262:Z263,\"△\")","v":0},{"$f":"+AA262*3+AC262*1","v":0},{"$f":"+E263+H263+K263+N263+Q263+T263+Z263","v":17},{"$f":"C263+F263+I263+L263+O263+R263+U263+X263","v":4},{"$f":"+RANK(AD262,$AD$250:$AD$265,0)*100+RANK(AE262,$AE$250:$AE$265,1)*10+RANK(AF262,$AF$250:$AF$265,0)","v":656},{"$f":"+RANK(AG262,$AG$250:$AG$265,1)","v":7}]
[null,null,null,"-",null,null,"-",null,null,"-",null,null,"-",null,3,"●",8,1,"●",9,{"$nulls":4},"-"]
[112,{"$f":"IF(データ２!B224=\"\",\"\",VLOOKUP(A264,データ２!$A$2:$B$224,2))","v":"中央フェニックス"},null,null,null,"Ｎ","-",13,"Ｎ","-",18,"Ｎ","-",22,null,null,null,"Ｎ","-",27,"Ｎ","-",28,"＊",null,null,{"$f":"COUNTIF(C264:Z265,\"○\")","v":1},{"$f":"COUNTIF(C264:Z265,\"●\")","v":0},{"$f":"COUNTIF(C264:Z265,\"△\")","v":1},{"$f":"+AA264*3+AC264*1","v":4},{"$f":"+E265+H265+K265+N265+Q265+T265+W265","v":7},{"$f":"C265+F265+I265+L265+O265+R265+U265+X265","v":15},{"$f":"+RANK(AD264,$AD$250:$AD$265,0)*100+RANK(AE264,$AE$250:$AE$265,1)*10+RANK(AF264,$AF$250:$AF$265,0)","v":334},{"$f":"+RANK(AG264,$AG$250:$AG$265,1)","v":3}]
[null,null,7,"△",7,null,"-",null,null,"-",null,null,"-",null,8,"○",0,null,"-",null,null,"-"]
[{"$nulls":26},{"$f":"SUM(AA250:AA265)","v":9},{"$f":"SUM(AB250:AB265)","v":9},{"$f":"SUM(AC250:AC265)","v":2},null,{"$f":"SUM(AE250:AE265)","v":125},{"$f":"SUM(AF250:AF265)","v":125},null,{"$f":"28-AA266-(AC266/2)","v":18}]
[]
[{"$nulls":26},{"$f":"AA19+AA38+AA57+AA76+AA95+AA114+AA133+AA152+AA171+AA190+AA209+AA228+AA247+AA266","v":153},{"$f":"AB19+AB38+AB57+AB76+AB95+AB114+AB133+AB152+AB171+AB190+AB209+AB228+AB247+AB266","v":153},{"$f":"AC38+AC57+AC76+AC95+AC114+AC133+AC152+AC171+AC190+AC209+AC228+AC247+AC266","v":10},null,2000,2000,0,{"$f":"AH19+AH38+AH57+AH76+AH95+AH114+AH133+AH152+AH171+AH190+AH209+AH228+AH247+AH266","v":234},"残り"]

{"sheet":"データ１","index":1,"n_rows":32,"n_cols":256,"rows_kept":32,"cut":false,"hidden":false,"merged":[]}
[]
["作成日","2023/2/25","作成日","20１７/2/1","作成日","20１７/2/1","作成日","20１７/2/1","作成日","20１７/2/1","作成日","20１７/2/1","作成日","20１７/2/1","作成日","20１７/2/1","作成日","20１７/2/1","作成日","20１７/2/1","作成日","20１７/2/1","作成日","20１７/2/1","作成日","20１７/2/1","作成日","20１７/2/1","作成日","20１７/2/1","作成日","20１７/2/1","作成日","20１７/2/1","作成日","20１７/2/1","作成日","20１７/2/1","作成日","20１７/2/1","作成日","20１７/2/1","作成日","20１７/2/1","作成日","20１７/2/1","作成日","20１７/2/1","作成日","20１７/2/1","作成日","20１７/2/1","作成日","20１７/2/1","作成日","20１７/2/1","作成日","20１７/2/1","作成日","20１７/2/1","作成日","20１７/2/1","作成日","20１７/2/1","作成日","20１７/2/1","作成日","20１７/2/1","作成日","20１７/2/1","作成日","20１７/2/1","作成日","20１７/2/1","作成日","20１７/2/1","作成日","20１７/2/1","作成日","20１７/2/1","作成日","20１７/2/1","作成日","20１７/2/1","作成日","20１７/2/1","作成日","20１７/2/1","作成日","20１７/2/1","作成日","20１７/2/1","作成日","20１７/2/1","作成日","20１７/2/1","作成日","20１７/2/1","作成日","20１７/2/1","作成日","20１７/2/1","作成日","20１７/2/1","作成日","20１７/2/1","作成日","20１７/2/1","作成日","20１７/2/1","作成日","20１７/2/1","作成日","20１７/2/1","作成日","20１７/2/1","作成日","20１７/2/1","作成日","20１７/2/1","作成日","20１７/2/1","作成日","20１７/2/1","作成日","20１７/2/1","作成日","20１７/2/1","作成日","20１７/2/1","作成日","20１７/2/1","作成日","20１７/2/1","作成日","20１７/2/1","作成日","20１７/2/1","作成日","20１７/2/1","作成日","20１７/2/1","作成日","20１７/2/1","作成日","20１７/2/1","作成日","20１７/2/1","作成日","20１７/2/1","作成日","20１７/2/1","作成日","20１７/2/1","作成日","20１７/2/1","作成日","20１７/2/1","作成日","20１７/2/1","作成日","20１７/2/1","作成日","20１７/2/1","作成日","20１７/2/1","作成日","20１７/2/1","作成日","20１７/2/1","作成日","20１７/2/1","作成日","20１７/2/1","作成日","20１７/2/1","作成日","20１７/2/1","作成日","20１７/2/1","作成日","20１７/2/1","作成日","20１７/2/1","作成日","20１７/2/1","作成日","20１７/2/1","作成日","20１７/2/1","作成日","20１７/2/1","作成日","20１７/2/1","作成日","20１７/2/1","作成日","20１７/2/1","作成日","20１７/2/1","作成日","20１７/2/1","作成日","20１７/2/1","作成日","20１７/2/1","作成日","20１７/2/1","作成日","20１７/2/1","作成日","20１７/2/1","作成日","20１７/2/1","作成日","20１７/2/1","作成日","20１７/2/1","作成日","20１７/2/1","作成日","20１７/2/1","作成日","20１７/2/1","作成日","20１７/2/1","作成日","20１７/2/1","作成日","20１７/2/1","作成日","20１７/2/1","作成日","20１７/2/1","作成日","20１７/2/1","作成日","20１７/2/1","作成日","20１７/2/1","作成日","20１７/2/1","作成日","20１７/2/1","作成日","20１７/2/1","作成日","20１７/2/1","作成日","20１７/2/1","作成日","20１７/2/1","作成日","20１７/2/1","作成日","20１７/2/1"]
[]
["年度","２０２３年 ","年度","２０１７年 ","年度","２０１７年 ","年度","２０１７年 ","年度","２０１７年 ","年度","２０１７年 ","年度","２０１７年 ","年度","２０１７年 ","年度","２０１７年 ","年度","２０１７年 ","年度","２０１７年 ","年度","２０１７年 ","年度","２０１７年 ","年度","２０１７年 ","年度","２０１７年 ","年度","２０１７年 ","年度","２０１７年 ","年度","２０１７年 ","年度","２０１７年 ","年度","２０１７年 ","年度","２０１７年 ","年度","２０１７年 ","年度","２０１７年 ","年度","２０１７年 ","年度","２０１７年 ","年度","２０１７年 ","年度","２０１７年 ","年度","２０１７年 ","年度","２０１７年 ","年度","２０１７年 ","年度","２０１７年 ","年度","２０１７年 ","年度","２０１７年 ","年度","２０１７年 ","年度","２０１７年 ","年度","２０１７年 ","年度","２０１７年 ","年度","２０１７年 ","年度","２０１７年 ","年度","２０１７年 ","年度","２０１７年 ","年度","２０１７年 ","年度","２０１７年 ","年度","２０１７年 ","年度","２０１７年 ","年度","２０１７年 ","年度","２０１７年 ","年度","２０１７年 ","年度","２０１７年 ","年度","２０１７年 ","年度","２０１７年 ","年度","２０１７年 ","年度","２０１７年 ","年度","２０１７年 ","年度","２０１７年 ","年度","２０１７年 ","年度","２０１７年 ","年度","２０１７年 ","年度","２０１７年 ","年度","２０１７年 ","年度","２０１７年 ","年度","２０１７年 ","年度","２０１７年 ","年度","２０１７年 ","年度","２０１７年 ","年度","２０１７年 ","年度","２０１７年 ","年度","２０１７年 ","年度","２０１７年 ","年度","２０１７年 ","年度","２０１７年 ","年度","２０１７年 ","年度","２０１７年 ","年度","２０１７年 ","年度","２０１７年 ","年度","２０１７年 ","年度","２０１７年 ","年度","２０１７年 ","年度","２０１７年 ","年度","２０１７年 ","年度","２０１７年 ","年度","２０１７年 ","年度","２０１７年 ","年度","２０１７年 ","年度","２０１７年 ","年度","２０１７年 ","年度","２０１７年 ","年度","２０１７年 ","年度","２０１７年 ","年度","２０１７年 ","年度","２０１７年 ","年度","２０１７年 ","年度","２０１７年 ","年度","２０１７年 ","年度","２０１７年 ","年度","２０１７年 ","年度","２０１７年 ","年度","２０１７年 ","年度","２０１７年 ","年度","２０１７年 ","年度","２０１７年 ","年度","２０１７年 ","年度","２０１７年 ","年度","２０１７年 ","年度","２０１７年 ","年度","２０１７年 ","年度","２０１７年 ","年度","２０１７年 ","年度","２０１７年 ","年度","２０１７年 ","年度","２０１７年 ","年度","２０１７年 ","年度","２０１７年 ","年度","２０１７年 ","年度","２０１７年 ","年度","２０１７年 ","年度","２０１７年 ","年度","２０１７年 ","年度","２０１７年 ","年度","２０１７年 ","年度","２０１７年 ","年度","２０１７年 ","年度","２０１７年 ","年度","２０１７年 ","年度","２０１７年 ","年度","２０１７年 ","年度","２０１７年 ","年度","２０１７年 "]
[]
["表題１","スーパーリ－グ 　　                  　　　 第１７回大会  　　　        　Aブロック     　　              ２０２３","表題１","スーパーリ－グ 　　                  　　　 第１０回大会  　　　        　Aブロック     　　              ２０１７","表題１","スーパーリ－グ 　　                  　　　 第１０回大会  　　　        　Aブロック     　　              ２０１７","表題１","スーパーリ－グ 　　                  　　　 第１０回大会  　　　        　Aブロック     　　              ２０１７","表題１","スーパーリ－グ 　　                  　　　 第１０回大会  　　　        　Aブロック     　　              ２０１７","表題１","スーパーリ－グ 　　                  　　　 第１０回大会  　　　        　Aブロック     　　              ２０１７","表題１","スーパーリ－グ 　　                  　　　 第１０回大会  　　　        　Aブロック     　　              ２０１７","表題１","スーパーリ－グ 　　                  　　　 第１０回大会  　　　        　Aブロック     　　              ２０１７","表題１","スーパーリ－グ 　　                  　　　 第１０回大会  　　　        　Aブロック     　　              ２０１７","表題１","スーパーリ－グ 　　                  　　　 第１０回大会  　　　        　Aブロック     　　              ２０１７","表題１","スーパーリ－グ 　　                  　　　 第１０回大会  　　　        　Aブロック     　　              ２０１７","表題１","スーパーリ－グ 　　                  　　　 第１０回大会  　　　        　Aブロック     　　              ２０１７","表題１","スーパーリ－グ 　　                  　　　 第１０回大会  　　　        　Aブロック     　　              ２０１７","表題１","スーパーリ－グ 　　                  　　　 第１０回大会  　　　        　Aブロック     　　              ２０１７","表題１","スーパーリ－グ 　　                  　　　 第１０回大会  　　　        　Aブロック     　　              ２０１７","表題１","スーパーリ－グ 　　                  　　　 第１０回大会  　　　        　Aブロック     　　              ２０１７","表題１","スーパーリ－グ 　　                  　　　 第１０回大会  　　　        　Aブロック     　　              ２０１７","表題１","スーパーリ－グ 　　                  　　　 第１０回大会  　　　        　Aブロック     　　              ２０１７","表題１","スーパーリ－グ 　　                  　　　 第１０回大会  　　　        　Aブロック     　　              ２０１７","表題１","スーパーリ－グ 　　                  　　　 第１０回大会  　　　        　Aブロック     　　              ２０１７","表題１","スーパーリ－グ 　　                  　　　 第１０回大会  　　　        　Aブロック     　　              ２０１７","表題１","スーパーリ－グ 　　                  　　　 第１０回大会  　　　        　Aブロック     　　              ２０１７","表題１","スーパーリ－グ 　　                  　　　 第１０回大会  　　　        　Aブロック     　　              ２０１７","表題１","スーパーリ－グ 　　                  　　　 第１０回大会  　　　        　Aブロック     　　              ２０１７","表題１","スーパーリ－グ 　　                  　　　 第１０回大会  　　　        　Aブロック     　　              ２０１７","表題１","スーパーリ－グ 　　                  　　　 第１０回大会  　　　        　Aブロック     　　              ２０１７","表題１","スーパーリ－グ 　　                  　　　 第１０回大会  　　　        　Aブロック     　　              ２０１７","表題１","スーパーリ－グ 　　                  　　　 第１０回大会  　　　        　Aブロック     　　              ２０１７","表題１","スーパーリ－グ 　　                  　　　 第１０回大会  　　　        　Aブロック     　　              ２０１７","表題１","スーパーリ－グ 　　                  　　　 第１０回大会  　　　        　Aブロック     　　              ２０１７","表題１","スーパーリ－グ 　　                  　　　 第１０回大会  　　　        　Aブロック     　　              ２０１７","表題１","スーパーリ－グ 　　                  　　　 第１０回大会  　　　        　Aブロック     　　              ２０１７","表題１","スーパーリ－グ 　　                  　　　 第１０回大会  　　　        　Aブロック     　　              ２０１７","表題１","スーパーリ－グ 　　                  　　　 第１０回大会  　　　        　Aブロック     　　              ２０１７","表題１","スーパーリ－グ 　　                  　　　 第１０回大会  　　　        　Aブロック     　　              ２０１７","表題１","スーパーリ－グ 　　                  　　　 第１０回大会  　　　        　Aブロック     　　              ２０１７","表題１","スーパーリ－グ 　　                  　　　 第１０回大会  　　　        　Aブロック     　　              ２０１７","表題１","スーパーリ－グ 　　                  　　　 第１０回大会  　　　        　Aブロック     　　              ２０１７","表題１","スーパーリ－グ 　　                  　　　 第１０回大会  　　　        　Aブロック     　　              ２０１７","表題１","スーパーリ－グ 　　                  　　　 第１０回大会  　　　        　Aブロック     　　              ２０１７","表題１","スーパーリ－グ 　　                  　　　 第１０回大会  　　　        　Aブロック     　　              ２０１７","表題１","スーパーリ－グ 　　                  　　　 第１０回大会  　　　        　Aブロック     　　              ２０１７","表題１","スーパーリ－グ 　　                  　　　 第１０回大会  　　　        　Aブロック     　　              ２０１７","表題１","スーパーリ－グ 　　                  　　　 第１０回大会  　　　        　Aブロック     　　              ２０１７","表題１","スーパーリ－グ 　　                  　　　 第１０回大会  　　　        　Aブロック     　　              ２０１７","表題１","スーパーリ－グ 　　                  　　　 第１０回大会  　　　        　Aブロック     　　              ２０１７","表題１","スーパーリ－グ 　　                  　　　 第１０回大会  　　　        　Aブロック     　　              ２０１７","表題１","スーパーリ－グ 　　                  　　　 第１０回大会  　　　        　Aブロック     　　              ２０１７","表題１","スーパーリ－グ 　　                  　　　 第１０回大会  　　　        　Aブロック     　　              ２０１７","表題１","スーパーリ－グ 　　                  　　　 第１０回大会  　　　        　Aブロック     　　              ２０１７","表題１","スーパーリ－グ 　　                  　　　 第１０回大会  　　　        　Aブロック     　　              ２０１７","表題１","スーパーリ－グ 　　                  　　　 第１０回大会  　　　        　Aブロック     　　              ２０１７","表題１","スーパーリ－グ 　　                  　　　 第１０回大会  　　　        　Aブロック     　　              ２０１７","表題１","スーパーリ－グ 　　                  　　　 第１０回大会  　　　        　Aブロック     　　              ２０１７","表題１","スーパーリ－グ 　　                  　　　 第１０回大会  　　　        　Aブロック     　　              ２０１７","表題１","スーパーリ－グ 　　                  　　　 第１０回大会  　　　        　Aブロック     　　              ２０１７","表題１","スーパーリ－グ 　　                  　　　 第１０回大会  　　　        　Aブロック     　　              ２０１７","表題１","スーパーリ－グ 　　                  　　　 第１０回大会  　　　        　Aブロック     　　              ２０１７","表題１","スーパーリ－グ 　　                  　　　 第１０回大会  　　　        　Aブロック     　　              ２０１７","表題１","スーパーリ－グ 　　                  　　　 第１０回大会  　　　        　Aブロック     　　              ２０１７","表題１","スーパーリ－グ 　　                  　　　 第１０回大会  　　　        　Aブロック     　　              ２０１７","表題１","スーパーリ－グ 　　                  　　　 第１０回大会  　　　        　Aブロック     　　              ２０１７","表題１","スーパーリ－グ 　　                  　　　 第１０回大会  　　　        　Aブロック     　　              ２０１７","表題１","スーパーリ－グ 　　                  　　　 第１０回大会  　　　        　Aブロック     　　              ２０１７","表題１","スーパーリ－グ 　　                  　　　 第１０回大会  　　　        　Aブロック     　　              ２０１７","表題１","スーパーリ－グ 　　                  　　　 第１０回大会  　　　        　Aブロック     　　              ２０１７","表題１","スーパーリ－グ 　　                  　　　 第１０回大会  　　　        　Aブロック     　　              ２０１７","表題１","スーパーリ－グ 　　                  　　　 第１０回大会  　　　        　Aブロック     　　              ２０１７","表題１","スーパーリ－グ 　　                  　　　 第１０回大会  　　　        　Aブロック     　　              ２０１７","表題１","スーパーリ－グ 　　                  　　　 第１０回大会  　　　        　Aブロック     　　              ２０１７","表題１","スーパーリ－グ 　　                  　　　 第１０回大会  　　　        　Aブロック     　　              ２０１７","表題１","スーパーリ－グ 　　                  　　　 第１０回大会  　　　        　Aブロック     　　              ２０１７","表題１","スーパーリ－グ 　　                  　　　 第１０回大会  　　　        　Aブロック     　　              ２０１７","表題１","スーパーリ－グ 　　                  　　　 第１０回大会  　　　        　Aブロック     　　              ２０１７","表題１","スーパーリ－グ 　　                  　　　 第１０回大会  　　　        　Aブロック     　　              ２０１７","表題１","スーパーリ－グ 　　                  　　　 第１０回大会  　　　        　Aブロック     　　              ２０１７","表題１","スーパーリ－グ 　　                  　　　 第１０回大会  　　　        　Aブロック     　　              ２０１７","表題１","スーパーリ－グ 　　                  　　　 第１０回大会  　　　        　Aブロック     　　              ２０１７","表題１","スーパーリ－グ 　　                  　　　 第１０回大会  　　　        　Aブロック     　　              ２０１７","表題１","スーパーリ－グ 　　                  　　　 第１０回大会  　　　        　Aブロック     　　              ２０１７","表題１","スーパーリ－グ 　　                  　　　 第１０回大会  　　　        　Aブロック     　　              ２０１７","表題１","スーパーリ－グ 　　                  　　　 第１０回大会  　　　        　Aブロック     　　              ２０１７","表題１","スーパーリ－グ 　　                  　　　 第１０回大会  　　　        　Aブロック     　　              ２０１７","表題１","スーパーリ－グ 　　                  　　　 第１０回大会  　　　        　Aブロック     　　              ２０１７","表題１","スーパーリ－グ 　　                  　　　 第１０回大会  　　　        　Aブロック     　　              ２０１７","表題１","スーパーリ－グ 　　                  　　　 第１０回大会  　　　        　Aブロック     　　              ２０１７","表題１","スーパーリ－グ 　　                  　　　 第１０回大会  　　　        　Aブロック     　　              ２０１７","表題１","スーパーリ－グ 　　                  　　　 第１０回大会  　　　        　Aブロック     　　              ２０１７","表題１","スーパーリ－グ 　　                  　　　 第１０回大会  　　　        　Aブロック     　　              ２０１７","表題１","スーパーリ－グ 　　                  　　　 第１０回大会  　　　        　Aブロック     　　              ２０１７","表題１","スーパーリ－グ 　　                  　　　 第１０回大会  　　　        　Aブロック     　　              ２０１７","表題１","スーパーリ－グ 　　                  　　　 第１０回大会  　　　        　Aブロック     　　              ２０１７","表題１","スーパーリ－グ 　　                  　　　 第１０回大会  　　　        　Aブロック     　　              ２０１７","表題１","スーパーリ－グ 　　                  　　　 第１０回大会  　　　        　Aブロック     　　              ２０１７","表題１","スーパーリ－グ 　　                  　　　 第１０回大会  　　　        　Aブロック     　　              ２０１７","表題１","スーパーリ－グ 　　                  　　　 第１０回大会  　　　        　Aブロック     　　              ２０１７","表題１","スーパーリ－グ 　　                  　　　 第１０回大会  　　　        　Aブロック     　　              ２０１７","表題１","スーパーリ－グ 　　                  　　　 第１０回大会  　　　        　Aブロック     　　              ２０１７","表題１","スーパーリ－グ 　　                  　　　 第１０回大会  　　　        　Aブロック     　　              ２０１７","表題１","スーパーリ－グ 　　                  　　　 第１０回大会  　　　        　Aブロック     　　              ２０１７","表題１","スーパーリ－グ 　　                  　　　 第１０回大会  　　　        　Aブロック     　　              ２０１７","表題１","スーパーリ－グ 　　                  　　　 第１０回大会  　　　        　Aブロック     　　              ２０１７","表題１","スーパーリ－グ 　　                  　　　 第１０回大会  　　　        　Aブロック     　　              ２０１７","表題１","スーパーリ－グ 　　                  　　　 第１０回大会  　　　        　Aブロック     　　              ２０１７","表題１","スーパーリ－グ 　　                  　　　 第１０回大会  　　　        　Aブロック     　　              ２０１７","表題１","スーパーリ－グ 　　                  　　　 第１０回大会  　　　        　Aブロック     　　              ２０１７","表題１","スーパーリ－グ 　　                  　　　 第１０回大会  　　　        　Aブロック     　　              ２０１７","表題１","スーパーリ－グ 　　                  　　　 第１０回大会  　　　        　Aブロック     　　              ２０１７","表題１","スーパーリ－グ 　　                  　　　 第１０回大会  　　　        　Aブロック     　　              ２０１７","表題１","スーパーリ－グ 　　                  　　　 第１０回大会  　　　        　Aブロック     　　              ２０１７","表題１","スーパーリ－グ 　　                  　　　 第１０回大会  　　　        　Aブロック     　　              ２０１７","表題１","スーパーリ－グ 　　                  　　　 第１０回大会  　　　        　Aブロック     　　              ２０１７","表題１","スーパーリ－グ 　　                  　　　 第１０回大会  　　　        　Aブロック     　　              ２０１７","表題１","スーパーリ－グ 　　                  　　　 第１０回大会  　　　        　Aブロック     　　              ２０１７","表題１","スーパーリ－グ 　　                  　　　 第１０回大会  　　　        　Aブロック     　　              ２０１７","表題１","スーパーリ－グ 　　                  　　　 第１０回大会  　　　        　Aブロック     　　              ２０１７","表題１","スーパーリ－グ 　　                  　　　 第１０回大会  　　　        　Aブロック     　　              ２０１７","表題１","スーパーリ－グ 　　                  　　　 第１０回大会  　　　        　Aブロック     　　              ２０１７","表題１","スーパーリ－グ 　　                  　　　 第１０回大会  　　　        　Aブロック     　　              ２０１７","表題１","スーパーリ－グ 　　                  　　　 第１０回大会  　　　        　Aブロック     　　              ２０１７","表題１","スーパーリ－グ 　　                  　　　 第１０回大会  　　　        　Aブロック     　　              ２０１７","表題１","スーパーリ－グ 　　                  　　　 第１０回大会  　　　        　Aブロック     　　              ２０１７","表題１","スーパーリ－グ 　　                  　　　 第１０回大会  　　　        　Aブロック     　　              ２０１７","表題１","スーパーリ－グ 　　                  　　　 第１０回大会  　　　        　Aブロック     　　              ２０１７","表題１","スーパーリ－グ 　　                  　　　 第１０回大会  　　　        　Aブロック     　　              ２０１７","表題１","スーパーリ－グ 　　                  　　　 第１０回大会  　　　        　Aブロック     　　              ２０１７","表題１","スーパーリ－グ 　　                  　　　 第１０回大会  　　　        　Aブロック     　　              ２０１７","表題１","スーパーリ－グ 　　                  　　　 第１０回大会  　　　        　Aブロック     　　              ２０１７"]
[]
["表題２","スーパーリ－グ 　　                  　　　 第１７回大会  　　　        　Ｂブロック     　　              ２０２３","表題２","スーパーリ－グ 　　                  　　　 第１０回大会  　　　        　Ｂブロック     　　              ２０１７","表題２","スーパーリ－グ 　　                  　　　 第１０回大会  　　　        　Ｂブロック     　　              ２０１７","表題２","スーパーリ－グ 　　                  　　　 第１０回大会  　　　        　Ｂブロック     　　              ２０１７","表題２","スーパーリ－グ 　　                  　　　 第１０回大会  　　　        　Ｂブロック     　　              ２０１７","表題２","スーパーリ－グ 　　                  　　　 第１０回大会  　　　        　Ｂブロック     　　              ２０１７","表題２","スーパーリ－グ 　　                  　　　 第１０回大会  　　　        　Ｂブロック     　　              ２０１７","表題２","スーパーリ－グ 　　                  　　　 第１０回大会  　　　        　Ｂブロック     　　              ２０１７","表題２","スーパーリ－グ 　　                  　　　 第１０回大会  　　　        　Ｂブロック     　　              ２０１７","表題２","スーパーリ－グ 　　                  　　　 第１０回大会  　　　        　Ｂブロック     　　              ２０１７","表題２","スーパーリ－グ 　　                  　　　 第１０回大会  　　　        　Ｂブロック     　　              ２０１７","表題２","スーパーリ－グ 　　                  　　　 第１０回大会  　　　        　Ｂブロック     　　              ２０１７","表題２","スーパーリ－グ 　　                  　　　 第１０回大会  　　　        　Ｂブロック     　　              ２０１７","表題２","スーパーリ－グ 　　                  　　　 第１０回大会  　　　        　Ｂブロック     　　              ２０１７","表題２","スーパーリ－グ 　　                  　　　 第１０回大会  　　　        　Ｂブロック     　　              ２０１７","表題２","スーパーリ－グ 　　                  　　　 第１０回大会  　　　        　Ｂブロック     　　              ２０１７","表題２","スーパーリ－グ 　　                  　　　 第１０回大会  　　　        　Ｂブロック     　　              ２０１７","表題２","スーパーリ－グ 　　                  　　　 第１０回大会  　　　        　Ｂブロック     　　              ２０１７","表題２","スーパーリ－グ 　　                  　　　 第１０回大会  　　　        　Ｂブロック     　　              ２０１７","表題２","スーパーリ－グ 　　                  　　　 第１０回大会  　　　        　Ｂブロック     　　              ２０１７","表題２","スーパーリ－グ 　　                  　　　 第１０回大会  　　　        　Ｂブロック     　　              ２０１７","表題２","スーパーリ－グ 　　                  　　　 第１０回大会  　　　        　Ｂブロック     　　              ２０１７","表題２","スーパーリ－グ 　　                  　　　 第１０回大会  　　　        　Ｂブロック     　　              ２０１７","表題２","スーパーリ－グ 　　                  　　　 第１０回大会  　　　        　Ｂブロック     　　              ２０１７","表題２","スーパーリ－グ 　　                  　　　 第１０回大会  　　　        　Ｂブロック     　　              ２０１７","表題２","スーパーリ－グ 　　                  　　　 第１０回大会  　　　        　Ｂブロック     　　              ２０１７","表題２","スーパーリ－グ 　　                  　　　 第１０回大会  　　　        　Ｂブロック     　　              ２０１７","表題２","スーパーリ－グ 　　                  　　　 第１０回大会  　　　        　Ｂブロック     　　              ２０１７","表題２","スーパーリ－グ 　　                  　　　 第１０回大会  　　　        　Ｂブロック     　　              ２０１７","表題２","スーパーリ－グ 　　                  　　　 第１０回大会  　　　        　Ｂブロック     　　              ２０１７","表題２","スーパーリ－グ 　　                  　　　 第１０回大会  　　　        　Ｂブロック     　　              ２０１７","表題２","スーパーリ－グ 　　                  　　　 第１０回大会  　　　        　Ｂブロック     　　              ２０１７","表題２","スーパーリ－グ 　　                  　　　 第１０回大会  　　　        　Ｂブロック     　　              ２０１７","表題２","スーパーリ－グ 　　                  　　　 第１０回大会  　　　        　Ｂブロック     　　              ２０１７","表題２","スーパーリ－グ 　　                  　　　 第１０回大会  　　　        　Ｂブロック     　　              ２０１７","表題２","スーパーリ－グ 　　                  　　　 第１０回大会  　　　        　Ｂブロック     　　              ２０１７","表題２","スーパーリ－グ 　　                  　　　 第１０回大会  　　　        　Ｂブロック     　　              ２０１７","表題２","スーパーリ－グ 　　                  　　　 第１０回大会  　　　        　Ｂブロック     　　              ２０１７","表題２","スーパーリ－グ 　　                  　　　 第１０回大会  　　　        　Ｂブロック     　　              ２０１７","表題２","スーパーリ－グ 　　                  　　　 第１０回大会  　　　        　Ｂブロック     　　              ２０１７","表題２","スーパーリ－グ 　　                  　　　 第１０回大会  　　　        　Ｂブロック     　　              ２０１７","表題２","スーパーリ－グ 　　                  　　　 第１０回大会  　　　        　Ｂブロック     　　              ２０１７","表題２","スーパーリ－グ 　　                  　　　 第１０回大会  　　　        　Ｂブロック     　　              ２０１７","表題２","スーパーリ－グ 　　                  　　　 第１０回大会  　　　        　Ｂブロック     　　              ２０１７","表題２","スーパーリ－グ 　　                  　　　 第１０回大会  　　　        　Ｂブロック     　　              ２０１７","表題２","スーパーリ－グ 　　                  　　　 第１０回大会  　　　        　Ｂブロック     　　              ２０１７","表題２","スーパーリ－グ 　　                  　　　 第１０回大会  　　　        　Ｂブロック     　　              ２０１７","表題２","スーパーリ－グ 　　                  　　　 第１０回大会  　　　        　Ｂブロック     　　              ２０１７","表題２","スーパーリ－グ 　　                  　　　 第１０回大会  　　　        　Ｂブロック     　　              ２０１７","表題２","スーパーリ－グ 　　                  　　　 第１０回大会  　　　        　Ｂブロック     　　              ２０１７","表題２","スーパーリ－グ 　　                  　　　 第１０回大会  　　　        　Ｂブロック     　　              ２０１７","表題２","スーパーリ－グ 　　                  　　　 第１０回大会  　　　        　Ｂブロック     　　              ２０１７","表題２","スーパーリ－グ 　　                  　　　 第１０回大会  　　　        　Ｂブロック     　　              ２０１７","表題２","スーパーリ－グ 　　                  　　　 第１０回大会  　　　        　Ｂブロック     　　              ２０１７","表題２","スーパーリ－グ 　　                  　　　 第１０回大会  　　　        　Ｂブロック     　　              ２０１７","表題２","スーパーリ－グ 　　                  　　　 第１０回大会  　　　        　Ｂブロック     　　              ２０１７","表題２","スーパーリ－グ 　　                  　　　 第１０回大会  　　　        　Ｂブロック     　　              ２０１７","表題２","スーパーリ－グ 　　                  　　　 第１０回大会  　　　        　Ｂブロック     　　              ２０１７","表題２","スーパーリ－グ 　　                  　　　 第１０回大会  　　　        　Ｂブロック     　　              ２０１７","表題２","スーパーリ－グ 　　                  　　　 第１０回大会  　　　        　Ｂブロック     　　              ２０１７","表題２","スーパーリ－グ 　　                  　　　 第１０回大会  　　　        　Ｂブロック     　　              ２０１７","表題２","スーパーリ－グ 　　                  　　　 第１０回大会  　　　        　Ｂブロック     　　              ２０１７","表題２","スーパーリ－グ 　　                  　　　 第１０回大会  　　　        　Ｂブロック     　　              ２０１７","表題２","スーパーリ－グ 　　                  　　　 第１０回大会  　　　        　Ｂブロック     　　              ２０１７","表題２","スーパーリ－グ 　　                  　　　 第１０回大会  　　　        　Ｂブロック     　　              ２０１７","表題２","スーパーリ－グ 　　                  　　　 第１０回大会  　　　        　Ｂブロック     　　              ２０１７","表題２","スーパーリ－グ 　　                  　　　 第１０回大会  　　　        　Ｂブロック     　　              ２０１７","表題２","スーパーリ－グ 　　                  　　　 第１０回大会  　　　        　Ｂブロック     　　              ２０１７","表題２","スーパーリ－グ 　　                  　　　 第１０回大会  　　　        　Ｂブロック     　　              ２０１７","表題２","スーパーリ－グ 　　                  　　　 第１０回大会  　　　        　Ｂブロック     　　              ２０１７","表題２","スーパーリ－グ 　　                  　　　 第１０回大会  　　　        　Ｂブロック     　　              ２０１７","表題２","スーパーリ－グ 　　                  　　　 第１０回大会  　　　        　Ｂブロック     　　              ２０１７","表題２","スーパーリ－グ 　　                  　　　 第１０回大会  　　　        　Ｂブロック     　　              ２０１７","表題２","スーパーリ－グ 　　                  　　　 第１０回大会  　　　        　Ｂブロック     　　              ２０１７","表題２","スーパーリ－グ 　　                  　　　 第１０回大会  　　　        　Ｂブロック     　　              ２０１７","表題２","スーパーリ－グ 　　                  　　　 第１０回大会  　　　        　Ｂブロック     　　              ２０１７","表題２","スーパーリ－グ 　　                  　　　 第１０回大会  　　　        　Ｂブロック     　　              ２０１７","表題２","スーパーリ－グ 　　                  　　　 第１０回大会  　　　        　Ｂブロック     　　              ２０１７","表題２","スーパーリ－グ 　　                  　　　 第１０回大会  　　　        　Ｂブロック     　　              ２０１７","表題２","スーパーリ－グ 　　                  　　　 第１０回大会  　　　        　Ｂブロック     　　              ２０１７","表題２","スーパーリ－グ 　　                  　　　 第１０回大会  　　　        　Ｂブロック     　　              ２０１７","表題２","スーパーリ－グ 　　                  　　　 第１０回大会  　　　        　Ｂブロック     　　              ２０１７","表題２","スーパーリ－グ 　　                  　　　 第１０回大会  　　　        　Ｂブロック     　　              ２０１７","表題２","スーパーリ－グ 　　                  　　　 第１０回大会  　　　        　Ｂブロック     　　              ２０１７","表題２","スーパーリ－グ 　　                  　　　 第１０回大会  　　　        　Ｂブロック     　　              ２０１７","表題２","スーパーリ－グ 　　                  　　　 第１０回大会  　　　        　Ｂブロック     　　              ２０１７","表題２","スーパーリ－グ 　　                  　　　 第１０回大会  　　　        　Ｂブロック     　　              ２０１７","表題２","スーパーリ－グ 　　                  　　　 第１０回大会  　　　        　Ｂブロック     　　              ２０１７","表題２","スーパーリ－グ 　　                  　　　 第１０回大会  　　　        　Ｂブロック     　　              ２０１７","表題２","スーパーリ－グ 　　                  　　　 第１０回大会  　　　        　Ｂブロック     　　              ２０１７","表題２","スーパーリ－グ 　　                  　　　 第１０回大会  　　　        　Ｂブロック     　　              ２０１７","表題２","スーパーリ－グ 　　                  　　　 第１０回大会  　　　        　Ｂブロック     　　              ２０１７","表題２","スーパーリ－グ 　　                  　　　 第１０回大会  　　　        　Ｂブロック     　　              ２０１７","表題２","スーパーリ－グ 　　                  　　　 第１０回大会  　　　        　Ｂブロック     　　              ２０１７","表題２","スーパーリ－グ 　　                  　　　 第１０回大会  　　　        　Ｂブロック     　　              ２０１７","表題２","スーパーリ－グ 　　                  　　　 第１０回大会  　　　        　Ｂブロック     　　              ２０１７","表題２","スーパーリ－グ 　　                  　　　 第１０回大会  　　　        　Ｂブロック     　　              ２０１７","表題２","スーパーリ－グ 　　                  　　　 第１０回大会  　　　        　Ｂブロック     　　              ２０１７","表題２","スーパーリ－グ 　　                  　　　 第１０回大会  　　　        　Ｂブロック     　　              ２０１７","表題２","スーパーリ－グ 　　                  　　　 第１０回大会  　　　        　Ｂブロック     　　              ２０１７","表題２","スーパーリ－グ 　　                  　　　 第１０回大会  　　　        　Ｂブロック     　　              ２０１７","表題２","スーパーリ－グ 　　                  　　　 第１０回大会  　　　        　Ｂブロック     　　              ２０１７","表題２","スーパーリ－グ 　　                  　　　 第１０回大会  　　　        　Ｂブロック     　　              ２０１７","表題２","スーパーリ－グ 　　                  　　　 第１０回大会  　　　        　Ｂブロック     　　              ２０１７","表題２","スーパーリ－グ 　　                  　　　 第１０回大会  　　　        　Ｂブロック     　　              ２０１７","表題２","スーパーリ－グ 　　                  　　　 第１０回大会  　　　        　Ｂブロック     　　              ２０１７","表題２","スーパーリ－グ 　　                  　　　 第１０回大会  　　　        　Ｂブロック     　　              ２０１７","表題２","スーパーリ－グ 　　                  　　　 第１０回大会  　　　        　Ｂブロック     　　              ２０１７","表題２","スーパーリ－グ 　　                  　　　 第１０回大会  　　　        　Ｂブロック     　　              ２０１７","表題２","スーパーリ－グ 　　                  　　　 第１０回大会  　　　        　Ｂブロック     　　              ２０１７","表題２","スーパーリ－グ 　　                  　　　 第１０回大会  　　　        　Ｂブロック     　　              ２０１７","表題２","スーパーリ－グ 　　                  　　　 第１０回大会  　　　        　Ｂブロック     　　              ２０１７","表題２","スーパーリ－グ 　　                  　　　 第１０回大会  　　　        　Ｂブロック     　　              ２０１７","表題２","スーパーリ－グ 　　                  　　　 第１０回大会  　　　        　Ｂブロック     　　              ２０１７","表題２","スーパーリ－グ 　　                  　　　 第１０回大会  　　　        　Ｂブロック     　　              ２０１７","表題２","スーパーリ－グ 　　                  　　　 第１０回大会  　　　        　Ｂブロック     　　              ２０１７","表題２","スーパーリ－グ 　　                  　　　 第１０回大会  　　　        　Ｂブロック     　　              ２０１７","表題２","スーパーリ－グ 　　                  　　　 第１０回大会  　　　        　Ｂブロック     　　              ２０１７","表題２","スーパーリ－グ 　　                  　　　 第１０回大会  　　　        　Ｂブロック     　　              ２０１７","表題２","スーパーリ－グ 　　                  　　　 第１０回大会  　　　        　Ｂブロック     　　              ２０１７","表題２","スーパーリ－グ 　　                  　　　 第１０回大会  　　　        　Ｂブロック     　　              ２０１７","表題２","スーパーリ－グ 　　                  　　　 第１０回大会  　　　        　Ｂブロック     　　              ２０１７","表題２","スーパーリ－グ 　　                  　　　 第１０回大会  　　　        　Ｂブロック     　　              ２０１７","表題２","スーパーリ－グ 　　                  　　　 第１０回大会  　　　        　Ｂブロック     　　              ２０１７","表題２","スーパーリ－グ 　　                  　　　 第１０回大会  　　　        　Ｂブロック     　　              ２０１７","表題２","スーパーリ－グ 　　                  　　　 第１０回大会  　　　        　Ｂブロック     　　              ２０１７","表題２","スーパーリ－グ 　　                  　　　 第１０回大会  　　　        　Ｂブロック     　　              ２０１７","表題２","スーパーリ－グ 　　                  　　　 第１０回大会  　　　        　Ｂブロック     　　              ２０１７"]
[]
["表題３","スーパーリ－グ 　　                  　　　 第１７回大会  　　　        　Ｃブロック     　　              ２０２３","表題３","スーパーリ－グ 　　                  　　　 第１０回大会  　　　        　Ｃブロック     　　              ２０１７","表題３","スーパーリ－グ 　　                  　　　 第１０回大会  　　　        　Ｃブロック     　　              ２０１７","表題３","スーパーリ－グ 　　                  　　　 第１０回大会  　　　        　Ｃブロック     　　              ２０１７","表題３","スーパーリ－グ 　　                  　　　 第１０回大会  　　　        　Ｃブロック     　　              ２０１７","表題３","スーパーリ－グ 　　                  　　　 第１０回大会  　　　        　Ｃブロック     　　              ２０１７","表題３","スーパーリ－グ 　　                  　　　 第１０回大会  　　　        　Ｃブロック     　　              ２０１７","表題３","スーパーリ－グ 　　                  　　　 第１０回大会  　　　        　Ｃブロック     　　              ２０１７","表題３","スーパーリ－グ 　　                  　　　 第１０回大会  　　　        　Ｃブロック     　　              ２０１７","表題３","スーパーリ－グ 　　                  　　　 第１０回大会  　　　        　Ｃブロック     　　              ２０１７","表題３","スーパーリ－グ 　　                  　　　 第１０回大会  　　　        　Ｃブロック     　　              ２０１７","表題３","スーパーリ－グ 　　                  　　　 第１０回大会  　　　        　Ｃブロック     　　              ２０１７","表題３","スーパーリ－グ 　　                  　　　 第１０回大会  　　　        　Ｃブロック     　　              ２０１７","表題３","スーパーリ－グ 　　                  　　　 第１０回大会  　　　        　Ｃブロック     　　              ２０１７","表題３","スーパーリ－グ 　　                  　　　 第１０回大会  　　　        　Ｃブロック     　　              ２０１７","表題３","スーパーリ－グ 　　                  　　　 第１０回大会  　　　        　Ｃブロック     　　              ２０１７","表題３","スーパーリ－グ 　　                  　　　 第１０回大会  　　　        　Ｃブロック     　　              ２０１７","表題３","スーパーリ－グ 　　                  　　　 第１０回大会  　　　        　Ｃブロック     　　              ２０１７","表題３","スーパーリ－グ 　　                  　　　 第１０回大会  　　　        　Ｃブロック     　　              ２０１７","表題３","スーパーリ－グ 　　                  　　　 第１０回大会  　　　        　Ｃブロック     　　              ２０１７","表題３","スーパーリ－グ 　　                  　　　 第１０回大会  　　　        　Ｃブロック     　　              ２０１７","表題３","スーパーリ－グ 　　                  　　　 第１０回大会  　　　        　Ｃブロック     　　              ２０１７","表題３","スーパーリ－グ 　　                  　　　 第１０回大会  　　　        　Ｃブロック     　　              ２０１７","表題３","スーパーリ－グ 　　                  　　　 第１０回大会  　　　        　Ｃブロック     　　              ２０１７","表題３","スーパーリ－グ 　　                  　　　 第１０回大会  　　　        　Ｃブロック     　　              ２０１７","表題３","スーパーリ－グ 　　                  　　　 第１０回大会  　　　        　Ｃブロック     　　              ２０１７","表題３","スーパーリ－グ 　　                  　　　 第１０回大会  　　　        　Ｃブロック     　　              ２０１７","表題３","スーパーリ－グ 　　                  　　　 第１０回大会  　　　        　Ｃブロック     　　              ２０１７","表題３","スーパーリ－グ 　　                  　　　 第１０回大会  　　　        　Ｃブロック     　　              ２０１７","表題３","スーパーリ－グ 　　                  　　　 第１０回大会  　　　        　Ｃブロック     　　              ２０１７","表題３","スーパーリ－グ 　　                  　　　 第１０回大会  　　　        　Ｃブロック     　　              ２０１７","表題３","スーパーリ－グ 　　                  　　　 第１０回大会  　　　        　Ｃブロック     　　              ２０１７","表題３","スーパーリ－グ 　　                  　　　 第１０回大会  　　　        　Ｃブロック     　　              ２０１７","表題３","スーパーリ－グ 　　                  　　　 第１０回大会  　　　        　Ｃブロック     　　              ２０１７","表題３","スーパーリ－グ 　　                  　　　 第１０回大会  　　　        　Ｃブロック     　　              ２０１７","表題３","スーパーリ－グ 　　                  　　　 第１０回大会  　　　        　Ｃブロック     　　              ２０１７","表題３","スーパーリ－グ 　　                  　　　 第１０回大会  　　　        　Ｃブロック     　　              ２０１７","表題３","スーパーリ－グ 　　                  　　　 第１０回大会  　　　        　Ｃブロック     　　              ２０１７","表題３","スーパーリ－グ 　　                  　　　 第１０回大会  　　　        　Ｃブロック     　　              ２０１７","表題３","スーパーリ－グ 　　                  　　　 第１０回大会  　　　        　Ｃブロック     　　              ２０１７","表題３","スーパーリ－グ 　　                  　　　 第１０回大会  　　　        　Ｃブロック     　　              ２０１７","表題３","スーパーリ－グ 　　                  　　　 第１０回大会  　　　        　Ｃブロック     　　              ２０１７","表題３","スーパーリ－グ 　　                  　　　 第１０回大会  　　　        　Ｃブロック     　　              ２０１７","表題３","スーパーリ－グ 　　                  　　　 第１０回大会  　　　        　Ｃブロック     　　              ２０１７","表題３","スーパーリ－グ 　　                  　　　 第１０回大会  　　　        　Ｃブロック     　　              ２０１７","表題３","スーパーリ－グ 　　                  　　　 第１０回大会  　　　        　Ｃブロック     　　              ２０１７","表題３","スーパーリ－グ 　　                  　　　 第１０回大会  　　　        　Ｃブロック     　　              ２０１７","表題３","スーパーリ－グ 　　                  　　　 第１０回大会  　　　        　Ｃブロック     　　              ２０１７","表題３","スーパーリ－グ 　　                  　　　 第１０回大会  　　　        　Ｃブロック     　　              ２０１７","表題３","スーパーリ－グ 　　                  　　　 第１０回大会  　　　        　Ｃブロック     　　              ２０１７","表題３","スーパーリ－グ 　　                  　　　 第１０回大会  　　　        　Ｃブロック     　　              ２０１７","表題３","スーパーリ－グ 　　                  　　　 第１０回大会  　　　        　Ｃブロック     　　              ２０１７","表題３","スーパーリ－グ 　　                  　　　 第１０回大会  　　　        　Ｃブロック     　　              ２０１７","表題３","スーパーリ－グ 　　                  　　　 第１０回大会  　　　        　Ｃブロック     　　              ２０１７","表題３","スーパーリ－グ 　　                  　　　 第１０回大会  　　　        　Ｃブロック     　　              ２０１７","表題３","スーパーリ－グ 　　                  　　　 第１０回大会  　　　        　Ｃブロック     　　              ２０１７","表題３","スーパーリ－グ 　　                  　　　 第１０回大会  　　　        　Ｃブロック     　　              ２０１７","表題３","スーパーリ－グ 　　                  　　　 第１０回大会  　　　        　Ｃブロック     　　              ２０１７","表題３","スーパーリ－グ 　　                  　　　 第１０回大会  　　　        　Ｃブロック     　　              ２０１７","表題３","スーパーリ－グ 　　                  　　　 第１０回大会  　　　        　Ｃブロック     　　              ２０１７","表題３","スーパーリ－グ 　　                  　　　 第１０回大会  　　　        　Ｃブロック     　　              ２０１７","表題３","スーパーリ－グ 　　                  　　　 第１０回大会  　　　        　Ｃブロック     　　              ２０１７","表題３","スーパーリ－グ 　　                  　　　 第１０回大会  　　　        　Ｃブロック     　　              ２０１７","表題３","スーパーリ－グ 　　                  　　　 第１０回大会  　　　        　Ｃブロック     　　              ２０１７","表題３","スーパーリ－グ 　　                  　　　 第１０回大会  　　　        　Ｃブロック     　　              ２０１７","表題３","スーパーリ－グ 　　                  　　　 第１０回大会  　　　        　Ｃブロック     　　              ２０１７","表題３","スーパーリ－グ 　　                  　　　 第１０回大会  　　　        　Ｃブロック     　　              ２０１７","表題３","スーパーリ－グ 　　                  　　　 第１０回大会  　　　        　Ｃブロック     　　              ２０１７","表題３","スーパーリ－グ 　　                  　　　 第１０回大会  　　　        　Ｃブロック     　　              ２０１７","表題３","スーパーリ－グ 　　                  　　　 第１０回大会  　　　        　Ｃブロック     　　              ２０１７","表題３","スーパーリ－グ 　　                  　　　 第１０回大会  　　　        　Ｃブロック     　　              ２０１７","表題３","スーパーリ－グ 　　                  　　　 第１０回大会  　　　        　Ｃブロック     　　              ２０１７","表題３","スーパーリ－グ 　　                  　　　 第１０回大会  　　　        　Ｃブロック     　　              ２０１７","表題３","スーパーリ－グ 　　                  　　　 第１０回大会  　　　        　Ｃブロック     　　              ２０１７","表題３","スーパーリ－グ 　　                  　　　 第１０回大会  　　　        　Ｃブロック     　　              ２０１７","表題３","スーパーリ－グ 　　                  　　　 第１０回大会  　　　        　Ｃブロック     　　              ２０１７","表題３","スーパーリ－グ 　　                  　　　 第１０回大会  　　　        　Ｃブロック     　　              ２０１７","表題３","スーパーリ－グ 　　                  　　　 第１０回大会  　　　        　Ｃブロック     　　              ２０１７","表題３","スーパーリ－グ 　　                  　　　 第１０回大会  　　　        　Ｃブロック     　　              ２０１７","表題３","スーパーリ－グ 　　                  　　　 第１０回大会  　　　        　Ｃブロック     　　              ２０１７","表題３","スーパーリ－グ 　　                  　　　 第１０回大会  　　　        　Ｃブロック     　　              ２０１７","表題３","スーパーリ－グ 　　                  　　　 第１０回大会  　　　        　Ｃブロック     　　              ２０１７","表題３","スーパーリ－グ 　　                  　　　 第１０回大会  　　　        　Ｃブロック     　　              ２０１７","表題３","スーパーリ－グ 　　                  　　　 第１０回大会  　　　        　Ｃブロック     　　              ２０１７","表題３","スーパーリ－グ 　　                  　　　 第１０回大会  　　　        　Ｃブロック     　　              ２０１７","表題３","スーパーリ－グ 　　                  　　　 第１０回大会  　　　        　Ｃブロック     　　              ２０１７","表題３","スーパーリ－グ 　　                  　　　 第１０回大会  　　　        　Ｃブロック     　　              ２０１７","表題３","スーパーリ－グ 　　                  　　　 第１０回大会  　　　        　Ｃブロック     　　              ２０１７","表題３","スーパーリ－グ 　　                  　　　 第１０回大会  　　　        　Ｃブロック     　　              ２０１７","表題３","スーパーリ－グ 　　                  　　　 第１０回大会  　　　        　Ｃブロック     　　              ２０１７","表題３","スーパーリ－グ 　　                  　　　 第１０回大会  　　　        　Ｃブロック     　　              ２０１７","表題３","スーパーリ－グ 　　                  　　　 第１０回大会  　　　        　Ｃブロック     　　              ２０１７","表題３","スーパーリ－グ 　　                  　　　 第１０回大会  　　　        　Ｃブロック     　　              ２０１７","表題３","スーパーリ－グ 　　                  　　　 第１０回大会  　　　        　Ｃブロック     　　              ２０１７","表題３","スーパーリ－グ 　　                  　　　 第１０回大会  　　　        　Ｃブロック     　　              ２０１７","表題３","スーパーリ－グ 　　                  　　　 第１０回大会  　　　        　Ｃブロック     　　              ２０１７","表題３","スーパーリ－グ 　　                  　　　 第１０回大会  　　　        　Ｃブロック     　　              ２０１７","表題３","スーパーリ－グ 　　                  　　　 第１０回大会  　　　        　Ｃブロック     　　              ２０１７","表題３","スーパーリ－グ 　　                  　　　 第１０回大会  　　　        　Ｃブロック     　　              ２０１７","表題３","スーパーリ－グ 　　                  　　　 第１０回大会  　　　        　Ｃブロック     　　              ２０１７","表題３","スーパーリ－グ 　　                  　　　 第１０回大会  　　　        　Ｃブロック     　　              ２０１７","表題３","スーパーリ－グ 　　                  　　　 第１０回大会  　　　        　Ｃブロック     　　              ２０１７","表題３","スーパーリ－グ 　　                  　　　 第１０回大会  　　　        　Ｃブロック     　　              ２０１７","表題３","スーパーリ－グ 　　                  　　　 第１０回大会  　　　        　Ｃブロック     　　              ２０１７","表題３","スーパーリ－グ 　　                  　　　 第１０回大会  　　　        　Ｃブロック     　　              ２０１７","表題３","スーパーリ－グ 　　                  　　　 第１０回大会  　　　        　Ｃブロック     　　              ２０１７","表題３","スーパーリ－グ 　　                  　　　 第１０回大会  　　　        　Ｃブロック     　　              ２０１７","表題３","スーパーリ－グ 　　                  　　　 第１０回大会  　　　        　Ｃブロック     　　              ２０１７","表題３","スーパーリ－グ 　　                  　　　 第１０回大会  　　　        　Ｃブロック     　　              ２０１７","表題３","スーパーリ－グ 　　                  　　　 第１０回大会  　　　        　Ｃブロック     　　              ２０１７","表題３","スーパーリ－グ 　　                  　　　 第１０回大会  　　　        　Ｃブロック     　　              ２０１７","表題３","スーパーリ－グ 　　                  　　　 第１０回大会  　　　        　Ｃブロック     　　              ２０１７","表題３","スーパーリ－グ 　　                  　　　 第１０回大会  　　　        　Ｃブロック     　　              ２０１７","表題３","スーパーリ－グ 　　                  　　　 第１０回大会  　　　        　Ｃブロック     　　              ２０１７","表題３","スーパーリ－グ 　　                  　　　 第１０回大会  　　　        　Ｃブロック     　　              ２０１７","表題３","スーパーリ－グ 　　                  　　　 第１０回大会  　　　        　Ｃブロック     　　              ２０１７","表題３","スーパーリ－グ 　　                  　　　 第１０回大会  　　　        　Ｃブロック     　　              ２０１７","表題３","スーパーリ－グ 　　                  　　　 第１０回大会  　　　        　Ｃブロック     　　              ２０１７","表題３","スーパーリ－グ 　　                  　　　 第１０回大会  　　　        　Ｃブロック     　　              ２０１７","表題３","スーパーリ－グ 　　                  　　　 第１０回大会  　　　        　Ｃブロック     　　              ２０１７","表題３","スーパーリ－グ 　　                  　　　 第１０回大会  　　　        　Ｃブロック     　　              ２０１７","表題３","スーパーリ－グ 　　                  　　　 第１０回大会  　　　        　Ｃブロック     　　              ２０１７","表題３","スーパーリ－グ 　　                  　　　 第１０回大会  　　　        　Ｃブロック     　　              ２０１７","表題３","スーパーリ－グ 　　                  　　　 第１０回大会  　　　        　Ｃブロック     　　              ２０１７","表題３","スーパーリ－グ 　　                  　　　 第１０回大会  　　　        　Ｃブロック     　　              ２０１７","表題３","スーパーリ－グ 　　                  　　　 第１０回大会  　　　        　Ｃブロック     　　              ２０１７","表題３","スーパーリ－グ 　　                  　　　 第１０回大会  　　　        　Ｃブロック     　　              ２０１７","表題３","スーパーリ－グ 　　                  　　　 第１０回大会  　　　        　Ｃブロック     　　              ２０１７"]
[]
["表題４","スーパーリ－グ 　　                  　　　 第１７回大会  　　　        　Ｄブロック     　　              ２０２３","表題４","スーパーリ－グ 　　                  　　　 第１０回大会  　　　        　Ｄブロック     　　              ２０１７","表題４","スーパーリ－グ 　　                  　　　 第１０回大会  　　　        　Ｄブロック     　　              ２０１７","表題４","スーパーリ－グ 　　                  　　　 第１０回大会  　　　        　Ｄブロック     　　              ２０１７","表題４","スーパーリ－グ 　　                  　　　 第１０回大会  　　　        　Ｄブロック     　　              ２０１７","表題４","スーパーリ－グ 　　                  　　　 第１０回大会  　　　        　Ｄブロック     　　              ２０１７","表題４","スーパーリ－グ 　　                  　　　 第１０回大会  　　　        　Ｄブロック     　　              ２０１７","表題４","スーパーリ－グ 　　                  　　　 第１０回大会  　　　        　Ｄブロック     　　              ２０１７","表題４","スーパーリ－グ 　　                  　　　 第１０回大会  　　　        　Ｄブロック     　　              ２０１７","表題４","スーパーリ－グ 　　                  　　　 第１０回大会  　　　        　Ｄブロック     　　              ２０１７","表題４","スーパーリ－グ 　　                  　　　 第１０回大会  　　　        　Ｄブロック     　　              ２０１７","表題４","スーパーリ－グ 　　                  　　　 第１０回大会  　　　        　Ｄブロック     　　              ２０１７","表題４","スーパーリ－グ 　　                  　　　 第１０回大会  　　　        　Ｄブロック     　　              ２０１７","表題４","スーパーリ－グ 　　                  　　　 第１０回大会  　　　        　Ｄブロック     　　              ２０１７","表題４","スーパーリ－グ 　　                  　　　 第１０回大会  　　　        　Ｄブロック     　　              ２０１７","表題４","スーパーリ－グ 　　                  　　　 第１０回大会  　　　        　Ｄブロック     　　              ２０１７","表題４","スーパーリ－グ 　　                  　　　 第１０回大会  　　　        　Ｄブロック     　　              ２０１７","表題４","スーパーリ－グ 　　                  　　　 第１０回大会  　　　        　Ｄブロック     　　              ２０１７","表題４","スーパーリ－グ 　　                  　　　 第１０回大会  　　　        　Ｄブロック     　　              ２０１７","表題４","スーパーリ－グ 　　                  　　　 第１０回大会  　　　        　Ｄブロック     　　              ２０１７","表題４","スーパーリ－グ 　　                  　　　 第１０回大会  　　　        　Ｄブロック     　　              ２０１７","表題４","スーパーリ－グ 　　                  　　　 第１０回大会  　　　        　Ｄブロック     　　              ２０１７","表題４","スーパーリ－グ 　　                  　　　 第１０回大会  　　　        　Ｄブロック     　　              ２０１７","表題４","スーパーリ－グ 　　                  　　　 第１０回大会  　　　        　Ｄブロック     　　              ２０１７","表題４","スーパーリ－グ 　　                  　　　 第１０回大会  　　　        　Ｄブロック     　　              ２０１７","表題４","スーパーリ－グ 　　                  　　　 第１０回大会  　　　        　Ｄブロック     　　              ２０１７","表題４","スーパーリ－グ 　　                  　　　 第１０回大会  　　　        　Ｄブロック     　　              ２０１７","表題４","スーパーリ－グ 　　                  　　　 第１０回大会  　　　        　Ｄブロック     　　              ２０１７","表題４","スーパーリ－グ 　　                  　　　 第１０回大会  　　　        　Ｄブロック     　　              ２０１７","表題４","スーパーリ－グ 　　                  　　　 第１０回大会  　　　        　Ｄブロック     　　              ２０１７","表題４","スーパーリ－グ 　　                  　　　 第１０回大会  　　　        　Ｄブロック     　　              ２０１７","表題４","スーパーリ－グ 　　                  　　　 第１０回大会  　　　        　Ｄブロック     　　              ２０１７","表題４","スーパーリ－グ 　　                  　　　 第１０回大会  　　　        　Ｄブロック     　　              ２０１７","表題４","スーパーリ－グ 　　                  　　　 第１０回大会  　　　        　Ｄブロック     　　              ２０１７","表題４","スーパーリ－グ 　　                  　　　 第１０回大会  　　　        　Ｄブロック     　　              ２０１７","表題４","スーパーリ－グ 　　                  　　　 第１０回大会  　　　        　Ｄブロック     　　              ２０１７","表題４","スーパーリ－グ 　　                  　　　 第１０回大会  　　　        　Ｄブロック     　　              ２０１７","表題４","スーパーリ－グ 　　                  　　　 第１０回大会  　　　        　Ｄブロック     　　              ２０１７","表題４","スーパーリ－グ 　　                  　　　 第１０回大会  　　　        　Ｄブロック     　　              ２０１７","表題４","スーパーリ－グ 　　                  　　　 第１０回大会  　　　        　Ｄブロック     　　              ２０１７","表題４","スーパーリ－グ 　　                  　　　 第１０回大会  　　　        　Ｄブロック     　　              ２０１７","表題４","スーパーリ－グ 　　                  　　　 第１０回大会  　　　        　Ｄブロック     　　              ２０１７","表題４","スーパーリ－グ 　　                  　　　 第１０回大会  　　　        　Ｄブロック     　　              ２０１７","表題４","スーパーリ－グ 　　                  　　　 第１０回大会  　　　        　Ｄブロック     　　              ２０１７","表題４","スーパーリ－グ 　　                  　　　 第１０回大会  　　　        　Ｄブロック     　　              ２０１７","表題４","スーパーリ－グ 　　                  　　　 第１０回大会  　　　        　Ｄブロック     　　              ２０１７","表題４","スーパーリ－グ 　　                  　　　 第１０回大会  　　　        　Ｄブロック     　　              ２０１７","表題４","スーパーリ－グ 　　                  　　　 第１０回大会  　　　        　Ｄブロック     　　              ２０１７","表題４","スーパーリ－グ 　　                  　　　 第１０回大会  　　　        　Ｄブロック     　　              ２０１７","表題４","スーパーリ－グ 　　                  　　　 第１０回大会  　　　        　Ｄブロック     　　              ２０１７","表題４","スーパーリ－グ 　　                  　　　 第１０回大会  　　　        　Ｄブロック     　　              ２０１７","表題４","スーパーリ－グ 　　                  　　　 第１０回大会  　　　        　Ｄブロック     　　              ２０１７","表題４","スーパーリ－グ 　　                  　　　 第１０回大会  　　　        　Ｄブロック     　　              ２０１７","表題４","スーパーリ－グ 　　                  　　　 第１０回大会  　　　        　Ｄブロック     　　              ２０１７","表題４","スーパーリ－グ 　　                  　　　 第１０回大会  　　　        　Ｄブロック     　　              ２０１７","表題４","スーパーリ－グ 　　                  　　　 第１０回大会  　　　        　Ｄブロック     　　              ２０１７","表題４","スーパーリ－グ 　　                  　　　 第１０回大会  　　　        　Ｄブロック     　　              ２０１７","表題４","スーパーリ－グ 　　                  　　　 第１０回大会  　　　        　Ｄブロック     　　              ２０１７","表題４","スーパーリ－グ 　　                  　　　 第１０回大会  　　　        　Ｄブロック     　　              ２０１７","表題４","スーパーリ－グ 　　                  　　　 第１０回大会  　　　        　Ｄブロック     　　              ２０１７","表題４","スーパーリ－グ 　　                  　　　 第１０回大会  　　　        　Ｄブロック     　　              ２０１７","表題４","スーパーリ－グ 　　                  　　　 第１０回大会  　　　        　Ｄブロック     　　              ２０１７","表題４","スーパーリ－グ 　　                  　　　 第１０回大会  　　　        　Ｄブロック     　　              ２０１７","表題４","スーパーリ－グ 　　                  　　　 第１０回大会  　　　        　Ｄブロック     　　              ２０１７","表題４","スーパーリ－グ 　　                  　　　 第１０回大会  　　　        　Ｄブロック     　　              ２０１７","表題４","スーパーリ－グ 　　                  　　　 第１０回大会  　　　        　Ｄブロック     　　              ２０１７","表題４","スーパーリ－グ 　　                  　　　 第１０回大会  　　　        　Ｄブロック     　　              ２０１７","表題４","スーパーリ－グ 　　                  　　　 第１０回大会  　　　        　Ｄブロック     　　              ２０１７","表題４","スーパーリ－グ 　　                  　　　 第１０回大会  　　　        　Ｄブロック     　　              ２０１７","表題４","スーパーリ－グ 　　                  　　　 第１０回大会  　　　        　Ｄブロック     　　              ２０１７","表題４","スーパーリ－グ 　　                  　　　 第１０回大会  　　　        　Ｄブロック     　　              ２０１７","表題４","スーパーリ－グ 　　                  　　　 第１０回大会  　　　        　Ｄブロック     　　              ２０１７","表題４","スーパーリ－グ 　　                  　　　 第１０回大会  　　　        　Ｄブロック     　　              ２０１７","表題４","スーパーリ－グ 　　                  　　　 第１０回大会  　　　        　Ｄブロック     　　              ２０１７","表題４","スーパーリ－グ 　　                  　　　 第１０回大会  　　　        　Ｄブロック     　　              ２０１７","表題４","スーパーリ－グ 　　                  　　　 第１０回大会  　　　        　Ｄブロック     　　              ２０１７","表題４","スーパーリ－グ 　　                  　　　 第１０回大会  　　　        　Ｄブロック     　　              ２０１７","表題４","スーパーリ－グ 　　                  　　　 第１０回大会  　　　        　Ｄブロック     　　              ２０１７","表題４","スーパーリ－グ 　　                  　　　 第１０回大会  　　　        　Ｄブロック     　　              ２０１７","表題４","スーパーリ－グ 　　                  　　　 第１０回大会  　　　        　Ｄブロック     　　              ２０１７","表題４","スーパーリ－グ 　　                  　　　 第１０回大会  　　　        　Ｄブロック     　　              ２０１７","表題４","スーパーリ－グ 　　                  　　　 第１０回大会  　　　        　Ｄブロック     　　              ２０１７","表題４","スーパーリ－グ 　　                  　　　 第１０回大会  　　　        　Ｄブロック     　　              ２０１７","表題４","スーパーリ－グ 　　                  　　　 第１０回大会  　　　        　Ｄブロック     　　              ２０１７","表題４","スーパーリ－グ 　　                  　　　 第１０回大会  　　　        　Ｄブロック     　　              ２０１７","表題４","スーパーリ－グ 　　                  　　　 第１０回大会  　　　        　Ｄブロック     　　              ２０１７","表題４","スーパーリ－グ 　　                  　　　 第１０回大会  　　　        　Ｄブロック     　　              ２０１７","表題４","スーパーリ－グ 　　                  　　　 第１０回大会  　　　        　Ｄブロック     　　              ２０１７","表題４","スーパーリ－グ 　　                  　　　 第１０回大会  　　　        　Ｄブロック     　　              ２０１７","表題４","スーパーリ－グ 　　                  　　　 第１０回大会  　　　        　Ｄブロック     　　              ２０１７","表題４","スーパーリ－グ 　　                  　　　 第１０回大会  　　　        　Ｄブロック     　　              ２０１７","表題４","スーパーリ－グ 　　                  　　　 第１０回大会  　　　        　Ｄブロック     　　              ２０１７","表題４","スーパーリ－グ 　　                  　　　 第１０回大会  　　　        　Ｄブロック     　　              ２０１７","表題４","スーパーリ－グ 　　                  　　　 第１０回大会  　　　        　Ｄブロック     　　              ２０１７","表題４","スーパーリ－グ 　　                  　　　 第１０回大会  　　　        　Ｄブロック     　　              ２０１７","表題４","スーパーリ－グ 　　                  　　　 第１０回大会  　　　        　Ｄブロック     　　              ２０１７","表題４","スーパーリ－グ 　　                  　　　 第１０回大会  　　　        　Ｄブロック     　　              ２０１７","表題４","スーパーリ－グ 　　                  　　　 第１０回大会  　　　        　Ｄブロック     　　              ２０１７","表題４","スーパーリ－グ 　　                  　　　 第１０回大会  　　　        　Ｄブロック     　　              ２０１７","表題４","スーパーリ－グ 　　                  　　　 第１０回大会  　　　        　Ｄブロック     　　              ２０１７","表題４","スーパーリ－グ 　　                  　　　 第１０回大会  　　　        　Ｄブロック     　　              ２０１７","表題４","スーパーリ－グ 　　                  　　　 第１０回大会  　　　        　Ｄブロック     　　              ２０１７","表題４","スーパーリ－グ 　　                  　　　 第１０回大会  　　　        　Ｄブロック     　　              ２０１７","表題４","スーパーリ－グ 　　                  　　　 第１０回大会  　　　        　Ｄブロック     　　              ２０１７","表題４","スーパーリ－グ 　　                  　　　 第１０回大会  　　　        　Ｄブロック     　　              ２０１７","表題４","スーパーリ－グ 　　                  　　　 第１０回大会  　　　        　Ｄブロック     　　              ２０１７","表題４","スーパーリ－グ 　　                  　　　 第１０回大会  　　　        　Ｄブロック     　　              ２０１７","表題４","スーパーリ－グ 　　                  　　　 第１０回大会  　　　        　Ｄブロック     　　              ２０１７","表題４","スーパーリ－グ 　　                  　　　 第１０回大会  　　　        　Ｄブロック     　　              ２０１７","表題４","スーパーリ－グ 　　                  　　　 第１０回大会  　　　        　Ｄブロック     　　              ２０１７","表題４","スーパーリ－グ 　　                  　　　 第１０回大会  　　　        　Ｄブロック     　　              ２０１７","表題４","スーパーリ－グ 　　                  　　　 第１０回大会  　　　        　Ｄブロック     　　              ２０１７","表題４","スーパーリ－グ 　　                  　　　 第１０回大会  　　　        　Ｄブロック     　　              ２０１７","表題４","スーパーリ－グ 　　                  　　　 第１０回大会  　　　        　Ｄブロック     　　              ２０１７","表題４","スーパーリ－グ 　　                  　　　 第１０回大会  　　　        　Ｄブロック     　　              ２０１７","表題４","スーパーリ－グ 　　                  　　　 第１０回大会  　　　        　Ｄブロック     　　              ２０１７","表題４","スーパーリ－グ 　　                  　　　 第１０回大会  　　　        　Ｄブロック     　　              ２０１７","表題４","スーパーリ－グ 　　                  　　　 第１０回大会  　　　        　Ｄブロック     　　              ２０１７","表題４","スーパーリ－グ 　　                  　　　 第１０回大会  　　　        　Ｄブロック     　　              ２０１７","表題４","スーパーリ－グ 　　                  　　　 第１０回大会  　　　        　Ｄブロック     　　              ２０１７","表題４","スーパーリ－グ 　　                  　　　 第１０回大会  　　　        　Ｄブロック     　　              ２０１７","表題４","スーパーリ－グ 　　                  　　　 第１０回大会  　　　        　Ｄブロック     　　              ２０１７","表題４","スーパーリ－グ 　　                  　　　 第１０回大会  　　　        　Ｄブロック     　　              ２０１７","表題４","スーパーリ－グ 　　                  　　　 第１０回大会  　　　        　Ｄブロック     　　              ２０１７","表題４","スーパーリ－グ 　　                  　　　 第１０回大会  　　　        　Ｄブロック     　　              ２０１７","表題４","スーパーリ－グ 　　                  　　　 第１０回大会  　　　        　Ｄブロック     　　              ２０１７","表題４","スーパーリ－グ 　　                  　　　 第１０回大会  　　　        　Ｄブロック     　　              ２０１７","表題４","スーパーリ－グ 　　                  　　　 第１０回大会  　　　        　Ｄブロック     　　              ２０１７"]
[]
["表題５","スーパーリ－グ 　　                  　　　 第１７回大会  　　　        　Ｅブロック     　　              ２０２３","表題５","スーパーリ－グ 　　                  　　　 第１０回大会  　　　        　Ｅブロック     　　              ２０１７","表題５","スーパーリ－グ 　　                  　　　 第１０回大会  　　　        　Ｅブロック     　　              ２０１７","表題５","スーパーリ－グ 　　                  　　　 第１０回大会  　　　        　Ｅブロック     　　              ２０１７","表題５","スーパーリ－グ 　　                  　　　 第１０回大会  　　　        　Ｅブロック     　　              ２０１７","表題５","スーパーリ－グ 　　                  　　　 第１０回大会  　　　        　Ｅブロック     　　              ２０１７","表題５","スーパーリ－グ 　　                  　　　 第１０回大会  　　　        　Ｅブロック     　　              ２０１７","表題５","スーパーリ－グ 　　                  　　　 第１０回大会  　　　        　Ｅブロック     　　              ２０１７","表題５","スーパーリ－グ 　　                  　　　 第１０回大会  　　　        　Ｅブロック     　　              ２０１７","表題５","スーパーリ－グ 　　                  　　　 第１０回大会  　　　        　Ｅブロック     　　              ２０１７","表題５","スーパーリ－グ 　　                  　　　 第１０回大会  　　　        　Ｅブロック     　　              ２０１７","表題５","スーパーリ－グ 　　                  　　　 第１０回大会  　　　        　Ｅブロック     　　              ２０１７","表題５","スーパーリ－グ 　　                  　　　 第１０回大会  　　　        　Ｅブロック     　　              ２０１７","表題５","スーパーリ－グ 　　                  　　　 第１０回大会  　　　        　Ｅブロック     　　              ２０１７","表題５","スーパーリ－グ 　　                  　　　 第１０回大会  　　　        　Ｅブロック     　　              ２０１７","表題５","スーパーリ－グ 　　                  　　　 第１０回大会  　　　        　Ｅブロック     　　              ２０１７","表題５","スーパーリ－グ 　　                  　　　 第１０回大会  　　　        　Ｅブロック     　　              ２０１７","表題５","スーパーリ－グ 　　                  　　　 第１０回大会  　　　        　Ｅブロック     　　              ２０１７","表題５","スーパーリ－グ 　　                  　　　 第１０回大会  　　　        　Ｅブロック     　　              ２０１７","表題５","スーパーリ－グ 　　                  　　　 第１０回大会  　　　        　Ｅブロック     　　              ２０１７","表題５","スーパーリ－グ 　　                  　　　 第１０回大会  　　　        　Ｅブロック     　　              ２０１７","表題５","スーパーリ－グ 　　                  　　　 第１０回大会  　　　        　Ｅブロック     　　              ２０１７","表題５","スーパーリ－グ 　　                  　　　 第１０回大会  　　　        　Ｅブロック     　　              ２０１７","表題５","スーパーリ－グ 　　                  　　　 第１０回大会  　　　        　Ｅブロック     　　              ２０１７","表題５","スーパーリ－グ 　　                  　　　 第１０回大会  　　　        　Ｅブロック     　　              ２０１７","表題５","スーパーリ－グ 　　                  　　　 第１０回大会  　　　        　Ｅブロック     　　              ２０１７","表題５","スーパーリ－グ 　　                  　　　 第１０回大会  　　　        　Ｅブロック     　　              ２０１７","表題５","スーパーリ－グ 　　                  　　　 第１０回大会  　　　        　Ｅブロック     　　              ２０１７","表題５","スーパーリ－グ 　　                  　　　 第１０回大会  　　　        　Ｅブロック     　　              ２０１７","表題５","スーパーリ－グ 　　                  　　　 第１０回大会  　　　        　Ｅブロック     　　              ２０１７","表題５","スーパーリ－グ 　　                  　　　 第１０回大会  　　　        　Ｅブロック     　　              ２０１７","表題５","スーパーリ－グ 　　                  　　　 第１０回大会  　　　        　Ｅブロック     　　              ２０１７","表題５","スーパーリ－グ 　　                  　　　 第１０回大会  　　　        　Ｅブロック     　　              ２０１７","表題５","スーパーリ－グ 　　                  　　　 第１０回大会  　　　        　Ｅブロック     　　              ２０１７","表題５","スーパーリ－グ 　　                  　　　 第１０回大会  　　　        　Ｅブロック     　　              ２０１７","表題５","スーパーリ－グ 　　                  　　　 第１０回大会  　　　        　Ｅブロック     　　              ２０１７","表題５","スーパーリ－グ 　　                  　　　 第１０回大会  　　　        　Ｅブロック     　　              ２０１７","表題５","スーパーリ－グ 　　                  　　　 第１０回大会  　　　        　Ｅブロック     　　              ２０１７","表題５","スーパーリ－グ 　　                  　　　 第１０回大会  　　　        　Ｅブロック     　　              ２０１７","表題５","スーパーリ－グ 　　                  　　　 第１０回大会  　　　        　Ｅブロック     　　              ２０１７","表題５","スーパーリ－グ 　　                  　　　 第１０回大会  　　　        　Ｅブロック     　　              ２０１７","表題５","スーパーリ－グ 　　                  　　　 第１０回大会  　　　        　Ｅブロック     　　              ２０１７","表題５","スーパーリ－グ 　　                  　　　 第１０回大会  　　　        　Ｅブロック     　　              ２０１７","表題５","スーパーリ－グ 　　                  　　　 第１０回大会  　　　        　Ｅブロック     　　              ２０１７","表題５","スーパーリ－グ 　　                  　　　 第１０回大会  　　　        　Ｅブロック     　　              ２０１７","表題５","スーパーリ－グ 　　                  　　　 第１０回大会  　　　        　Ｅブロック     　　              ２０１７","表題５","スーパーリ－グ 　　                  　　　 第１０回大会  　　　        　Ｅブロック     　　              ２０１７","表題５","スーパーリ－グ 　　                  　　　 第１０回大会  　　　        　Ｅブロック     　　              ２０１７","表題５","スーパーリ－グ 　　                  　　　 第１０回大会  　　　        　Ｅブロック     　　              ２０１７","表題５","スーパーリ－グ 　　                  　　　 第１０回大会  　　　        　Ｅブロック     　　              ２０１７","表題５","スーパーリ－グ 　　                  　　　 第１０回大会  　　　        　Ｅブロック     　　              ２０１７","表題５","スーパーリ－グ 　　                  　　　 第１０回大会  　　　        　Ｅブロック     　　              ２０１７","表題５","スーパーリ－グ 　　                  　　　 第１０回大会  　　　        　Ｅブロック     　　              ２０１７","表題５","スーパーリ－グ 　　                  　　　 第１０回大会  　　　        　Ｅブロック     　　              ２０１７","表題５","スーパーリ－グ 　　                  　　　 第１０回大会  　　　        　Ｅブロック     　　              ２０１７","表題５","スーパーリ－グ 　　                  　　　 第１０回大会  　　　        　Ｅブロック     　　              ２０１７","表題５","スーパーリ－グ 　　                  　　　 第１０回大会  　　　        　Ｅブロック     　　              ２０１７","表題５","スーパーリ－グ 　　                  　　　 第１０回大会  　　　        　Ｅブロック     　　              ２０１７","表題５","スーパーリ－グ 　　                  　　　 第１０回大会  　　　        　Ｅブロック     　　              ２０１７","表題５","スーパーリ－グ 　　                  　　　 第１０回大会  　　　        　Ｅブロック     　　              ２０１７","表題５","スーパーリ－グ 　　                  　　　 第１０回大会  　　　        　Ｅブロック     　　              ２０１７","表題５","スーパーリ－グ 　　                  　　　 第１０回大会  　　　        　Ｅブロック     　　              ２０１７","表題５","スーパーリ－グ 　　                  　　　 第１０回大会  　　　        　Ｅブロック     　　              ２０１７","表題５","スーパーリ－グ 　　                  　　　 第１０回大会  　　　        　Ｅブロック     　　              ２０１７","表題５","スーパーリ－グ 　　                  　　　 第１０回大会  　　　        　Ｅブロック     　　              ２０１７","表題５","スーパーリ－グ 　　                  　　　 第１０回大会  　　　        　Ｅブロック     　　              ２０１７","表題５","スーパーリ－グ 　　                  　　　 第１０回大会  　　　        　Ｅブロック     　　              ２０１７","表題５","スーパーリ－グ 　　                  　　　 第１０回大会  　　　        　Ｅブロック     　　              ２０１７","表題５","スーパーリ－グ 　　                  　　　 第１０回大会  　　　        　Ｅブロック     　　              ２０１７","表題５","スーパーリ－グ 　　                  　　　 第１０回大会  　　　        　Ｅブロック     　　              ２０１７","表題５","スーパーリ－グ 　　                  　　　 第１０回大会  　　　        　Ｅブロック     　　              ２０１７","表題５","スーパーリ－グ 　　                  　　　 第１０回大会  　　　        　Ｅブロック     　　              ２０１７","表題５","スーパーリ－グ 　　                  　　　 第１０回大会  　　　        　Ｅブロック     　　              ２０１７","表題５","スーパーリ－グ 　　                  　　　 第１０回大会  　　　        　Ｅブロック     　　              ２０１７","表題５","スーパーリ－グ 　　                  　　　 第１０回大会  　　　        　Ｅブロック     　　              ２０１７","表題５","スーパーリ－グ 　　                  　　　 第１０回大会  　　　        　Ｅブロック     　　              ２０１７","表題５","スーパーリ－グ 　　                  　　　 第１０回大会  　　　        　Ｅブロック     　　              ２０１７","表題５","スーパーリ－グ 　　                  　　　 第１０回大会  　　　        　Ｅブロック     　　              ２０１７","表題５","スーパーリ－グ 　　                  　　　 第１０回大会  　　　        　Ｅブロック     　　              ２０１７","表題５","スーパーリ－グ 　　                  　　　 第１０回大会  　　　        　Ｅブロック     　　              ２０１７","表題５","スーパーリ－グ 　　                  　　　 第１０回大会  　　　        　Ｅブロック     　　              ２０１７","表題５","スーパーリ－グ 　　                  　　　 第１０回大会  　　　        　Ｅブロック     　　              ２０１７","表題５","スーパーリ－グ 　　                  　　　 第１０回大会  　　　        　Ｅブロック     　　              ２０１７","表題５","スーパーリ－グ 　　                  　　　 第１０回大会  　　　        　Ｅブロック     　　              ２０１７","表題５","スーパーリ－グ 　　                  　　　 第１０回大会  　　　        　Ｅブロック     　　              ２０１７","表題５","スーパーリ－グ 　　                  　　　 第１０回大会  　　　        　Ｅブロック     　　              ２０１７","表題５","スーパーリ－グ 　　                  　　　 第１０回大会  　　　        　Ｅブロック     　　              ２０１７","表題５","スーパーリ－グ 　　                  　　　 第１０回大会  　　　        　Ｅブロック     　　              ２０１７","表題５","スーパーリ－グ 　　                  　　　 第１０回大会  　　　        　Ｅブロック     　　              ２０１７","表題５","スーパーリ－グ 　　                  　　　 第１０回大会  　　　        　Ｅブロック     　　              ２０１７","表題５","スーパーリ－グ 　　                  　　　 第１０回大会  　　　        　Ｅブロック     　　              ２０１７","表題５","スーパーリ－グ 　　                  　　　 第１０回大会  　　　        　Ｅブロック     　　              ２０１７","表題５","スーパーリ－グ 　　                  　　　 第１０回大会  　　　        　Ｅブロック     　　              ２０１７","表題５","スーパーリ－グ 　　                  　　　 第１０回大会  　　　        　Ｅブロック     　　              ２０１７","表題５","スーパーリ－グ 　　                  　　　 第１０回大会  　　　        　Ｅブロック     　　              ２０１７","表題５","スーパーリ－グ 　　                  　　　 第１０回大会  　　　        　Ｅブロック     　　              ２０１７","表題５","スーパーリ－グ 　　                  　　　 第１０回大会  　　　        　Ｅブロック     　　              ２０１７","表題５","スーパーリ－グ 　　                  　　　 第１０回大会  　　　        　Ｅブロック     　　              ２０１７","表題５","スーパーリ－グ 　　                  　　　 第１０回大会  　　　        　Ｅブロック     　　              ２０１７","表題５","スーパーリ－グ 　　                  　　　 第１０回大会  　　　        　Ｅブロック     　　              ２０１７","表題５","スーパーリ－グ 　　                  　　　 第１０回大会  　　　        　Ｅブロック     　　              ２０１７","表題５","スーパーリ－グ 　　                  　　　 第１０回大会  　　　        　Ｅブロック     　　              ２０１７","表題５","スーパーリ－グ 　　                  　　　 第１０回大会  　　　        　Ｅブロック     　　              ２０１７","表題５","スーパーリ－グ 　　                  　　　 第１０回大会  　　　        　Ｅブロック     　　              ２０１７","表題５","スーパーリ－グ 　　                  　　　 第１０回大会  　　　        　Ｅブロック     　　              ２０１７","表題５","スーパーリ－グ 　　                  　　　 第１０回大会  　　　        　Ｅブロック     　　              ２０１７","表題５","スーパーリ－グ 　　                  　　　 第１０回大会  　　　        　Ｅブロック     　　              ２０１７","表題５","スーパーリ－グ 　　                  　　　 第１０回大会  　　　        　Ｅブロック     　　              ２０１７","表題５","スーパーリ－グ 　　                  　　　 第１０回大会  　　　        　Ｅブロック     　　              ２０１７","表題５","スーパーリ－グ 　　                  　　　 第１０回大会  　　　        　Ｅブロック     　　              ２０１７","表題５","スーパーリ－グ 　　                  　　　 第１０回大会  　　　        　Ｅブロック     　　              ２０１７","表題５","スーパーリ－グ 　　                  　　　 第１０回大会  　　　        　Ｅブロック     　　              ２０１７","表題５","スーパーリ－グ 　　                  　　　 第１０回大会  　　　        　Ｅブロック     　　              ２０１７","表題５","スーパーリ－グ 　　                  　　　 第１０回大会  　　　        　Ｅブロック     　　              ２０１７","表題５","スーパーリ－グ 　　                  　　　 第１０回大会  　　　        　Ｅブロック     　　              ２０１７","表題５","スーパーリ－グ 　　                  　　　 第１０回大会  　　　        　Ｅブロック     　　              ２０１７","表題５","スーパーリ－グ 　　                  　　　 第１０回大会  　　　        　Ｅブロック     　　              ２０１７","表題５","スーパーリ－グ 　　                  　　　 第１０回大会  　　　        　Ｅブロック     　　              ２０１７","表題５","スーパーリ－グ 　　                  　　　 第１０回大会  　　　        　Ｅブロック     　　              ２０１７","表題５","スーパーリ－グ 　　                  　　　 第１０回大会  　　　        　Ｅブロック     　　              ２０１７","表題５","スーパーリ－グ 　　                  　　　 第１０回大会  　　　        　Ｅブロック     　　              ２０１７","表題５","スーパーリ－グ 　　                  　　　 第１０回大会  　　　        　Ｅブロック     　　              ２０１７","表題５","スーパーリ－グ 　　                  　　　 第１０回大会  　　　        　Ｅブロック     　　              ２０１７","表題５","スーパーリ－グ 　　                  　　　 第１０回大会  　　　        　Ｅブロック     　　              ２０１７","表題５","スーパーリ－グ 　　                  　　　 第１０回大会  　　　        　Ｅブロック     　　              ２０１７","表題５","スーパーリ－グ 　　                  　　　 第１０回大会  　　　        　Ｅブロック     　　              ２０１７","表題５","スーパーリ－グ 　　                  　　　 第１０回大会  　　　        　Ｅブロック     　　              ２０１７","表題５","スーパーリ－グ 　　                  　　　 第１０回大会  　　　        　Ｅブロック     　　              ２０１７"]
[]
["表題６","スーパーリ－グ 　　                  　　　 第１７回大会  　　　        　Ｆブロック     　　              ２０２３","表題６","スーパーリ－グ 　　                  　　　 第１０回大会  　　　        　Ｆブロック     　　              ２０１７","表題６","スーパーリ－グ 　　                  　　　 第１０回大会  　　　        　Ｆブロック     　　              ２０１７","表題６","スーパーリ－グ 　　                  　　　 第１０回大会  　　　        　Ｆブロック     　　              ２０１７","表題６","スーパーリ－グ 　　                  　　　 第１０回大会  　　　        　Ｆブロック     　　              ２０１７","表題６","スーパーリ－グ 　　                  　　　 第１０回大会  　　　        　Ｆブロック     　　              ２０１７","表題６","スーパーリ－グ 　　                  　　　 第１０回大会  　　　        　Ｆブロック     　　              ２０１７","表題６","スーパーリ－グ 　　                  　　　 第１０回大会  　　　        　Ｆブロック     　　              ２０１７","表題６","スーパーリ－グ 　　                  　　　 第１０回大会  　　　        　Ｆブロック     　　              ２０１７","表題６","スーパーリ－グ 　　                  　　　 第１０回大会  　　　        　Ｆブロック     　　              ２０１７","表題６","スーパーリ－グ 　　                  　　　 第１０回大会  　　　        　Ｆブロック     　　              ２０１７","表題６","スーパーリ－グ 　　                  　　　 第１０回大会  　　　        　Ｆブロック     　　              ２０１７","表題６","スーパーリ－グ 　　                  　　　 第１０回大会  　　　        　Ｆブロック     　　              ２０１７","表題６","スーパーリ－グ 　　                  　　　 第１０回大会  　　　        　Ｆブロック     　　              ２０１７","表題６","スーパーリ－グ 　　                  　　　 第１０回大会  　　　        　Ｆブロック     　　              ２０１７","表題６","スーパーリ－グ 　　                  　　　 第１０回大会  　　　        　Ｆブロック     　　              ２０１７","表題６","スーパーリ－グ 　　                  　　　 第１０回大会  　　　        　Ｆブロック     　　              ２０１７","表題６","スーパーリ－グ 　　                  　　　 第１０回大会  　　　        　Ｆブロック     　　              ２０１７","表題６","スーパーリ－グ 　　                  　　　 第１０回大会  　　　        　Ｆブロック     　　              ２０１７","表題６","スーパーリ－グ 　　                  　　　 第１０回大会  　　　        　Ｆブロック     　　              ２０１７","表題６","スーパーリ－グ 　　                  　　　 第１０回大会  　　　        　Ｆブロック     　　              ２０１７","表題６","スーパーリ－グ 　　                  　　　 第１０回大会  　　　        　Ｆブロック     　　              ２０１７","表題６","スーパーリ－グ 　　                  　　　 第１０回大会  　　　        　Ｆブロック     　　              ２０１７","表題６","スーパーリ－グ 　　                  　　　 第１０回大会  　　　        　Ｆブロック     　　              ２０１７","表題６","スーパーリ－グ 　　                  　　　 第１０回大会  　　　        　Ｆブロック     　　              ２０１７","表題６","スーパーリ－グ 　　                  　　　 第１０回大会  　　　        　Ｆブロック     　　              ２０１７","表題６","スーパーリ－グ 　　                  　　　 第１０回大会  　　　        　Ｆブロック     　　              ２０１７","表題６","スーパーリ－グ 　　                  　　　 第１０回大会  　　　        　Ｆブロック     　　              ２０１７","表題６","スーパーリ－グ 　　                  　　　 第１０回大会  　　　        　Ｆブロック     　　              ２０１７","表題６","スーパーリ－グ 　　                  　　　 第１０回大会  　　　        　Ｆブロック     　　              ２０１７","表題６","スーパーリ－グ 　　                  　　　 第１０回大会  　　　        　Ｆブロック     　　              ２０１７","表題６","スーパーリ－グ 　　                  　　　 第１０回大会  　　　        　Ｆブロック     　　              ２０１７","表題６","スーパーリ－グ 　　                  　　　 第１０回大会  　　　        　Ｆブロック     　　              ２０１７","表題６","スーパーリ－グ 　　                  　　　 第１０回大会  　　　        　Ｆブロック     　　              ２０１７","表題６","スーパーリ－グ 　　                  　　　 第１０回大会  　　　        　Ｆブロック     　　              ２０１７","表題６","スーパーリ－グ 　　                  　　　 第１０回大会  　　　        　Ｆブロック     　　              ２０１７","表題６","スーパーリ－グ 　　                  　　　 第１０回大会  　　　        　Ｆブロック     　　              ２０１７","表題６","スーパーリ－グ 　　                  　　　 第１０回大会  　　　        　Ｆブロック     　　              ２０１７","表題６","スーパーリ－グ 　　                  　　　 第１０回大会  　　　        　Ｆブロック     　　              ２０１７","表題６","スーパーリ－グ 　　                  　　　 第１０回大会  　　　        　Ｆブロック     　　              ２０１７","表題６","スーパーリ－グ 　　                  　　　 第１０回大会  　　　        　Ｆブロック     　　              ２０１７","表題６","スーパーリ－グ 　　                  　　　 第１０回大会  　　　        　Ｆブロック     　　              ２０１７","表題６","スーパーリ－グ 　　                  　　　 第１０回大会  　　　        　Ｆブロック     　　              ２０１７","表題６","スーパーリ－グ 　　                  　　　 第１０回大会  　　　        　Ｆブロック     　　              ２０１７","表題６","スーパーリ－グ 　　                  　　　 第１０回大会  　　　        　Ｆブロック     　　              ２０１７","表題６","スーパーリ－グ 　　                  　　　 第１０回大会  　　　        　Ｆブロック     　　              ２０１７","表題６","スーパーリ－グ 　　                  　　　 第１０回大会  　　　        　Ｆブロック     　　              ２０１７","表題６","スーパーリ－グ 　　                  　　　 第１０回大会  　　　        　Ｆブロック     　　              ２０１７","表題６","スーパーリ－グ 　　                  　　　 第１０回大会  　　　        　Ｆブロック     　　              ２０１７","表題６","スーパーリ－グ 　　                  　　　 第１０回大会  　　　        　Ｆブロック     　　              ２０１７","表題６","スーパーリ－グ 　　                  　　　 第１０回大会  　　　        　Ｆブロック     　　              ２０１７","表題６","スーパーリ－グ 　　                  　　　 第１０回大会  　　　        　Ｆブロック     　　              ２０１７","表題６","スーパーリ－グ 　　                  　　　 第１０回大会  　　　        　Ｆブロック     　　              ２０１７","表題６","スーパーリ－グ 　　                  　　　 第１０回大会  　　　        　Ｆブロック     　　              ２０１７","表題６","スーパーリ－グ 　　                  　　　 第１０回大会  　　　        　Ｆブロック     　　              ２０１７","表題６","スーパーリ－グ 　　                  　　　 第１０回大会  　　　        　Ｆブロック     　　              ２０１７","表題６","スーパーリ－グ 　　                  　　　 第１０回大会  　　　        　Ｆブロック     　　              ２０１７","表題６","スーパーリ－グ 　　                  　　　 第１０回大会  　　　        　Ｆブロック     　　              ２０１７","表題６","スーパーリ－グ 　　                  　　　 第１０回大会  　　　        　Ｆブロック     　　              ２０１７","表題６","スーパーリ－グ 　　                  　　　 第１０回大会  　　　        　Ｆブロック     　　              ２０１７","表題６","スーパーリ－グ 　　                  　　　 第１０回大会  　　　        　Ｆブロック     　　              ２０１７","表題６","スーパーリ－グ 　　                  　　　 第１０回大会  　　　        　Ｆブロック     　　              ２０１７","表題６","スーパーリ－グ 　　                  　　　 第１０回大会  　　　        　Ｆブロック     　　              ２０１７","表題６","スーパーリ－グ 　　                  　　　 第１０回大会  　　　        　Ｆブロック     　　              ２０１７","表題６","スーパーリ－グ 　　                  　　　 第１０回大会  　　　        　Ｆブロック     　　              ２０１７","表題６","スーパーリ－グ 　　                  　　　 第１０回大会  　　　        　Ｆブロック     　　              ２０１７","表題６","スーパーリ－グ 　　                  　　　 第１０回大会  　　　        　Ｆブロック     　　              ２０１７","表題６","スーパーリ－グ 　　                  　　　 第１０回大会  　　　        　Ｆブロック     　　              ２０１７","表題６","スーパーリ－グ 　　                  　　　 第１０回大会  　　　        　Ｆブロック     　　              ２０１７","表題６","スーパーリ－グ 　　                  　　　 第１０回大会  　　　        　Ｆブロック     　　              ２０１７","表題６","スーパーリ－グ 　　                  　　　 第１０回大会  　　　        　Ｆブロック     　　              ２０１７","表題６","スーパーリ－グ 　　                  　　　 第１０回大会  　　　        　Ｆブロック     　　              ２０１７","表題６","スーパーリ－グ 　　                  　　　 第１０回大会  　　　        　Ｆブロック     　　              ２０１７","表題６","スーパーリ－グ 　　                  　　　 第１０回大会  　　　        　Ｆブロック     　　              ２０１７","表題６","スーパーリ－グ 　　                  　　　 第１０回大会  　　　        　Ｆブロック     　　              ２０１７","表題６","スーパーリ－グ 　　                  　　　 第１０回大会  　　　        　Ｆブロック     　　              ２０１７","表題６","スーパーリ－グ 　　                  　　　 第１０回大会  　　　        　Ｆブロック     　　              ２０１７","表題６","スーパーリ－グ 　　                  　　　 第１０回大会  　　　        　Ｆブロック     　　              ２０１７","表題６","スーパーリ－グ 　　                  　　　 第１０回大会  　　　        　Ｆブロック     　　              ２０１７","表題６","スーパーリ－グ 　　                  　　　 第１０回大会  　　　        　Ｆブロック     　　              ２０１７","表題６","スーパーリ－グ 　　                  　　　 第１０回大会  　　　        　Ｆブロック     　　              ２０１７","表題６","スーパーリ－グ 　　                  　　　 第１０回大会  　　　        　Ｆブロック     　　              ２０１７","表題６","スーパーリ－グ 　　                  　　　 第１０回大会  　　　        　Ｆブロック     　　              ２０１７","表題６","スーパーリ－グ 　　                  　　　 第１０回大会  　　　        　Ｆブロック     　　              ２０１７","表題６","スーパーリ－グ 　　                  　　　 第１０回大会  　　　        　Ｆブロック     　　              ２０１７","表題６","スーパーリ－グ 　　                  　　　 第１０回大会  　　　        　Ｆブロック     　　              ２０１７","表題６","スーパーリ－グ 　　                  　　　 第１０回大会  　　　        　Ｆブロック     　　              ２０１７","表題６","スーパーリ－グ 　　                  　　　 第１０回大会  　　　        　Ｆブロック     　　              ２０１７","表題６","スーパーリ－グ 　　                  　　　 第１０回大会  　　　        　Ｆブロック     　　              ２０１７","表題６","スーパーリ－グ 　　                  　　　 第１０回大会  　　　        　Ｆブロック     　　              ２０１７","表題６","スーパーリ－グ 　　                  　　　 第１０回大会  　　　        　Ｆブロック     　　              ２０１７","表題６","スーパーリ－グ 　　                  　　　 第１０回大会  　　　        　Ｆブロック     　　              ２０１７","表題６","スーパーリ－グ 　　                  　　　 第１０回大会  　　　        　Ｆブロック     　　              ２０１７","表題６","スーパーリ－グ 　　                  　　　 第１０回大会  　　　        　Ｆブロック     　　              ２０１７","表題６","スーパーリ－グ 　　                  　　　 第１０回大会  　　　        　Ｆブロック     　　              ２０１７","表題６","スーパーリ－グ 　　                  　　　 第１０回大会  　　　        　Ｆブロック     　　              ２０１７","表題６","スーパーリ－グ 　　                  　　　 第１０回大会  　　　        　Ｆブロック     　　              ２０１７","表題６","スーパーリ－グ 　　                  　　　 第１０回大会  　　　        　Ｆブロック     　　              ２０１７","表題６","スーパーリ－グ 　　                  　　　 第１０回大会  　　　        　Ｆブロック     　　              ２０１７","表題６","スーパーリ－グ 　　                  　　　 第１０回大会  　　　        　Ｆブロック     　　              ２０１７","表題６","スーパーリ－グ 　　                  　　　 第１０回大会  　　　        　Ｆブロック     　　              ２０１７","表題６","スーパーリ－グ 　　                  　　　 第１０回大会  　　　        　Ｆブロック     　　              ２０１７","表題６","スーパーリ－グ 　　                  　　　 第１０回大会  　　　        　Ｆブロック     　　              ２０１７","表題６","スーパーリ－グ 　　                  　　　 第１０回大会  　　　        　Ｆブロック     　　              ２０１７","表題６","スーパーリ－グ 　　                  　　　 第１０回大会  　　　        　Ｆブロック     　　              ２０１７","表題６","スーパーリ－グ 　　                  　　　 第１０回大会  　　　        　Ｆブロック     　　              ２０１７","表題６","スーパーリ－グ 　　                  　　　 第１０回大会  　　　        　Ｆブロック     　　              ２０１７","表題６","スーパーリ－グ 　　                  　　　 第１０回大会  　　　        　Ｆブロック     　　              ２０１７","表題６","スーパーリ－グ 　　                  　　　 第１０回大会  　　　        　Ｆブロック     　　              ２０１７","表題６","スーパーリ－グ 　　                  　　　 第１０回大会  　　　        　Ｆブロック     　　              ２０１７","表題６","スーパーリ－グ 　　                  　　　 第１０回大会  　　　        　Ｆブロック     　　              ２０１７","表題６","スーパーリ－グ 　　                  　　　 第１０回大会  　　　        　Ｆブロック     　　              ２０１７","表題６","スーパーリ－グ 　　                  　　　 第１０回大会  　　　        　Ｆブロック     　　              ２０１７","表題６","スーパーリ－グ 　　                  　　　 第１０回大会  　　　        　Ｆブロック     　　              ２０１７","表題６","スーパーリ－グ 　　                  　　　 第１０回大会  　　　        　Ｆブロック     　　              ２０１７","表題６","スーパーリ－グ 　　                  　　　 第１０回大会  　　　        　Ｆブロック     　　              ２０１７","表題６","スーパーリ－グ 　　                  　　　 第１０回大会  　　　        　Ｆブロック     　　              ２０１７","表題６","スーパーリ－グ 　　                  　　　 第１０回大会  　　　        　Ｆブロック     　　              ２０１７","表題６","スーパーリ－グ 　　                  　　　 第１０回大会  　　　        　Ｆブロック     　　              ２０１７","表題６","スーパーリ－グ 　　                  　　　 第１０回大会  　　　        　Ｆブロック     　　              ２０１７","表題６","スーパーリ－グ 　　                  　　　 第１０回大会  　　　        　Ｆブロック     　　              ２０１７","表題６","スーパーリ－グ 　　                  　　　 第１０回大会  　　　        　Ｆブロック     　　              ２０１７","表題６","スーパーリ－グ 　　                  　　　 第１０回大会  　　　        　Ｆブロック     　　              ２０１７","表題６","スーパーリ－グ 　　                  　　　 第１０回大会  　　　        　Ｆブロック     　　              ２０１７","表題６","スーパーリ－グ 　　                  　　　 第１０回大会  　　　        　Ｆブロック     　　              ２０１７","表題６","スーパーリ－グ 　　                  　　　 第１０回大会  　　　        　Ｆブロック     　　              ２０１７","表題６","スーパーリ－グ 　　                  　　　 第１０回大会  　　　        　Ｆブロック     　　              ２０１７","表題６","スーパーリ－グ 　　                  　　　 第１０回大会  　　　        　Ｆブロック     　　              ２０１７"]
[]
["表題７","スーパーリ－グ 　　                  　　　 第１７回大会  　　　        　Ｇブロック     　　              ２０２３","表題７","スーパーリ－グ 　　                  　　　 第１０回大会  　　　        　Ｇブロック     　　              ２０１７","表題７","スーパーリ－グ 　　                  　　　 第１０回大会  　　　        　Ｇブロック     　　              ２０１７","表題７","スーパーリ－グ 　　                  　　　 第１０回大会  　　　        　Ｇブロック     　　              ２０１７","表題７","スーパーリ－グ 　　                  　　　 第１０回大会  　　　        　Ｇブロック     　　              ２０１７","表題７","スーパーリ－グ 　　                  　　　 第１０回大会  　　　        　Ｇブロック     　　              ２０１７","表題７","スーパーリ－グ 　　                  　　　 第１０回大会  　　　        　Ｇブロック     　　              ２０１７","表題７","スーパーリ－グ 　　                  　　　 第１０回大会  　　　        　Ｇブロック     　　              ２０１７","表題７","スーパーリ－グ 　　                  　　　 第１０回大会  　　　        　Ｇブロック     　　              ２０１７","表題７","スーパーリ－グ 　　                  　　　 第１０回大会  　　　        　Ｇブロック     　　              ２０１７","表題７","スーパーリ－グ 　　                  　　　 第１０回大会  　　　        　Ｇブロック     　　              ２０１７","表題７","スーパーリ－グ 　　                  　　　 第１０回大会  　　　        　Ｇブロック     　　              ２０１７","表題７","スーパーリ－グ 　　                  　　　 第１０回大会  　　　        　Ｇブロック     　　              ２０１７","表題７","スーパーリ－グ 　　                  　　　 第１０回大会  　　　        　Ｇブロック     　　              ２０１７","表題７","スーパーリ－グ 　　                  　　　 第１０回大会  　　　        　Ｇブロック     　　              ２０１７","表題７","スーパーリ－グ 　　                  　　　 第１０回大会  　　　        　Ｇブロック     　　              ２０１７","表題７","スーパーリ－グ 　　                  　　　 第１０回大会  　　　        　Ｇブロック     　　              ２０１７","表題７","スーパーリ－グ 　　                  　　　 第１０回大会  　　　        　Ｇブロック     　　              ２０１７","表題７","スーパーリ－グ 　　                  　　　 第１０回大会  　　　        　Ｇブロック     　　              ２０１７","表題７","スーパーリ－グ 　　                  　　　 第１０回大会  　　　        　Ｇブロック     　　              ２０１７","表題７","スーパーリ－グ 　　                  　　　 第１０回大会  　　　        　Ｇブロック     　　              ２０１７","表題７","スーパーリ－グ 　　                  　　　 第１０回大会  　　　        　Ｇブロック     　　              ２０１７","表題７","スーパーリ－グ 　　                  　　　 第１０回大会  　　　        　Ｇブロック     　　              ２０１７","表題７","スーパーリ－グ 　　                  　　　 第１０回大会  　　　        　Ｇブロック     　　              ２０１７","表題７","スーパーリ－グ 　　                  　　　 第１０回大会  　　　        　Ｇブロック     　　              ２０１７","表題７","スーパーリ－グ 　　                  　　　 第１０回大会  　　　        　Ｇブロック     　　              ２０１７","表題７","スーパーリ－グ 　　                  　　　 第１０回大会  　　　        　Ｇブロック     　　              ２０１７","表題７","スーパーリ－グ 　　                  　　　 第１０回大会  　　　        　Ｇブロック     　　              ２０１７","表題７","スーパーリ－グ 　　                  　　　 第１０回大会  　　　        　Ｇブロック     　　              ２０１７","表題７","スーパーリ－グ 　　                  　　　 第１０回大会  　　　        　Ｇブロック     　　              ２０１７","表題７","スーパーリ－グ 　　                  　　　 第１０回大会  　　　        　Ｇブロック     　　              ２０１７","表題７","スーパーリ－グ 　　                  　　　 第１０回大会  　　　        　Ｇブロック     　　              ２０１７","表題７","スーパーリ－グ 　　                  　　　 第１０回大会  　　　        　Ｇブロック     　　              ２０１７","表題７","スーパーリ－グ 　　                  　　　 第１０回大会  　　　        　Ｇブロック     　　              ２０１７","表題７","スーパーリ－グ 　　                  　　　 第１０回大会  　　　        　Ｇブロック     　　              ２０１７","表題７","スーパーリ－グ 　　                  　　　 第１０回大会  　　　        　Ｇブロック     　　              ２０１７","表題７","スーパーリ－グ 　　                  　　　 第１０回大会  　　　        　Ｇブロック     　　              ２０１７","表題７","スーパーリ－グ 　　                  　　　 第１０回大会  　　　        　Ｇブロック     　　              ２０１７","表題７","スーパーリ－グ 　　                  　　　 第１０回大会  　　　        　Ｇブロック     　　              ２０１７","表題７","スーパーリ－グ 　　                  　　　 第１０回大会  　　　        　Ｇブロック     　　              ２０１７","表題７","スーパーリ－グ 　　                  　　　 第１０回大会  　　　        　Ｇブロック     　　              ２０１７","表題７","スーパーリ－グ 　　                  　　　 第１０回大会  　　　        　Ｇブロック     　　              ２０１７","表題７","スーパーリ－グ 　　                  　　　 第１０回大会  　　　        　Ｇブロック     　　              ２０１７","表題７","スーパーリ－グ 　　                  　　　 第１０回大会  　　　        　Ｇブロック     　　              ２０１７","表題７","スーパーリ－グ 　　                  　　　 第１０回大会  　　　        　Ｇブロック     　　              ２０１７","表題７","スーパーリ－グ 　　                  　　　 第１０回大会  　　　        　Ｇブロック     　　              ２０１７","表題７","スーパーリ－グ 　　                  　　　 第１０回大会  　　　        　Ｇブロック     　　              ２０１７","表題７","スーパーリ－グ 　　                  　　　 第１０回大会  　　　        　Ｇブロック     　　              ２０１７","表題７","スーパーリ－グ 　　                  　　　 第１０回大会  　　　        　Ｇブロック     　　              ２０１７","表題７","スーパーリ－グ 　　                  　　　 第１０回大会  　　　        　Ｇブロック     　　              ２０１７","表題７","スーパーリ－グ 　　                  　　　 第１０回大会  　　　        　Ｇブロック     　　              ２０１７","表題７","スーパーリ－グ 　　                  　　　 第１０回大会  　　　        　Ｇブロック     　　              ２０１７","表題７","スーパーリ－グ 　　                  　　　 第１０回大会  　　　        　Ｇブロック     　　              ２０１７","表題７","スーパーリ－グ 　　                  　　　 第１０回大会  　　　        　Ｇブロック     　　              ２０１７","表題７","スーパーリ－グ 　　                  　　　 第１０回大会  　　　        　Ｇブロック     　　              ２０１７","表題７","スーパーリ－グ 　　                  　　　 第１０回大会  　　　        　Ｇブロック     　　              ２０１７","表題７","スーパーリ－グ 　　                  　　　 第１０回大会  　　　        　Ｇブロック     　　              ２０１７","表題７","スーパーリ－グ 　　                  　　　 第１０回大会  　　　        　Ｇブロック     　　              ２０１７","表題７","スーパーリ－グ 　　                  　　　 第１０回大会  　　　        　Ｇブロック     　　              ２０１７","表題７","スーパーリ－グ 　　                  　　　 第１０回大会  　　　        　Ｇブロック     　　              ２０１７","表題７","スーパーリ－グ 　　                  　　　 第１０回大会  　　　        　Ｇブロック     　　              ２０１７","表題７","スーパーリ－グ 　　                  　　　 第１０回大会  　　　        　Ｇブロック     　　              ２０１７","表題７","スーパーリ－グ 　　                  　　　 第１０回大会  　　　        　Ｇブロック     　　              ２０１７","表題７","スーパーリ－グ 　　                  　　　 第１０回大会  　　　        　Ｇブロック     　　              ２０１７","表題７","スーパーリ－グ 　　                  　　　 第１０回大会  　　　        　Ｇブロック     　　              ２０１７","表題７","スーパーリ－グ 　　                  　　　 第１０回大会  　　　        　Ｇブロック     　　              ２０１７","表題７","スーパーリ－グ 　　                  　　　 第１０回大会  　　　        　Ｇブロック     　　              ２０１７","表題７","スーパーリ－グ 　　                  　　　 第１０回大会  　　　        　Ｇブロック     　　              ２０１７","表題７","スーパーリ－グ 　　                  　　　 第１０回大会  　　　        　Ｇブロック     　　              ２０１７","表題７","スーパーリ－グ 　　                  　　　 第１０回大会  　　　        　Ｇブロック     　　              ２０１７","表題７","スーパーリ－グ 　　                  　　　 第１０回大会  　　　        　Ｇブロック     　　              ２０１７","表題７","スーパーリ－グ 　　                  　　　 第１０回大会  　　　        　Ｇブロック     　　              ２０１７","表題７","スーパーリ－グ 　　                  　　　 第１０回大会  　　　        　Ｇブロック     　　              ２０１７","表題７","スーパーリ－グ 　　                  　　　 第１０回大会  　　　        　Ｇブロック     　　              ２０１７","表題７","スーパーリ－グ 　　                  　　　 第１０回大会  　　　        　Ｇブロック     　　              ２０１７","表題７","スーパーリ－グ 　　                  　　　 第１０回大会  　　　        　Ｇブロック     　　              ２０１７","表題７","スーパーリ－グ 　　                  　　　 第１０回大会  　　　        　Ｇブロック     　　              ２０１７","表題７","スーパーリ－グ 　　                  　　　 第１０回大会  　　　        　Ｇブロック     　　              ２０１７","表題７","スーパーリ－グ 　　                  　　　 第１０回大会  　　　        　Ｇブロック     　　              ２０１７","表題７","スーパーリ－グ 　　                  　　　 第１０回大会  　　　        　Ｇブロック     　　              ２０１７","表題７","スーパーリ－グ 　　                  　　　 第１０回大会  　　　        　Ｇブロック     　　              ２０１７","表題７","スーパーリ－グ 　　                  　　　 第１０回大会  　　　        　Ｇブロック     　　              ２０１７","表題７","スーパーリ－グ 　　                  　　　 第１０回大会  　　　        　Ｇブロック     　　              ２０１７","表題７","スーパーリ－グ 　　                  　　　 第１０回大会  　　　        　Ｇブロック     　　              ２０１７","表題７","スーパーリ－グ 　　                  　　　 第１０回大会  　　　        　Ｇブロック     　　              ２０１７","表題７","スーパーリ－グ 　　                  　　　 第１０回大会  　　　        　Ｇブロック     　　              ２０１７","表題７","スーパーリ－グ 　　                  　　　 第１０回大会  　　　        　Ｇブロック     　　              ２０１７","表題７","スーパーリ－グ 　　                  　　　 第１０回大会  　　　        　Ｇブロック     　　              ２０１７","表題７","スーパーリ－グ 　　                  　　　 第１０回大会  　　　        　Ｇブロック     　　              ２０１７","表題７","スーパーリ－グ 　　                  　　　 第１０回大会  　　　        　Ｇブロック     　　              ２０１７","表題７","スーパーリ－グ 　　                  　　　 第１０回大会  　　　        　Ｇブロック     　　              ２０１７","表題７","スーパーリ－グ 　　                  　　　 第１０回大会  　　　        　Ｇブロック     　　              ２０１７","表題７","スーパーリ－グ 　　                  　　　 第１０回大会  　　　        　Ｇブロック     　　              ２０１７","表題７","スーパーリ－グ 　　                  　　　 第１０回大会  　　　        　Ｇブロック     　　              ２０１７","表題７","スーパーリ－グ 　　                  　　　 第１０回大会  　　　        　Ｇブロック     　　              ２０１７","表題７","スーパーリ－グ 　　                  　　　 第１０回大会  　　　        　Ｇブロック     　　              ２０１７","表題７","スーパーリ－グ 　　                  　　　 第１０回大会  　　　        　Ｇブロック     　　              ２０１７","表題７","スーパーリ－グ 　　                  　　　 第１０回大会  　　　        　Ｇブロック     　　              ２０１７","表題７","スーパーリ－グ 　　                  　　　 第１０回大会  　　　        　Ｇブロック     　　              ２０１７","表題７","スーパーリ－グ 　　                  　　　 第１０回大会  　　　        　Ｇブロック     　　              ２０１７","表題７","スーパーリ－グ 　　                  　　　 第１０回大会  　　　        　Ｇブロック     　　              ２０１７","表題７","スーパーリ－グ 　　                  　　　 第１０回大会  　　　        　Ｇブロック     　　              ２０１７","表題７","スーパーリ－グ 　　                  　　　 第１０回大会  　　　        　Ｇブロック     　　              ２０１７","表題７","スーパーリ－グ 　　                  　　　 第１０回大会  　　　        　Ｇブロック     　　              ２０１７","表題７","スーパーリ－グ 　　                  　　　 第１０回大会  　　　        　Ｇブロック     　　              ２０１７","表題７","スーパーリ－グ 　　                  　　　 第１０回大会  　　　        　Ｇブロック     　　              ２０１７","表題７","スーパーリ－グ 　　                  　　　 第１０回大会  　　　        　Ｇブロック     　　              ２０１７","表題７","スーパーリ－グ 　　                  　　　 第１０回大会  　　　        　Ｇブロック     　　              ２０１７","表題７","スーパーリ－グ 　　                  　　　 第１０回大会  　　　        　Ｇブロック     　　              ２０１７","表題７","スーパーリ－グ 　　                  　　　 第１０回大会  　　　        　Ｇブロック     　　              ２０１７","表題７","スーパーリ－グ 　　                  　　　 第１０回大会  　　　        　Ｇブロック     　　              ２０１７","表題７","スーパーリ－グ 　　                  　　　 第１０回大会  　　　        　Ｇブロック     　　              ２０１７","表題７","スーパーリ－グ 　　                  　　　 第１０回大会  　　　        　Ｇブロック     　　              ２０１７","表題７","スーパーリ－グ 　　                  　　　 第１０回大会  　　　        　Ｇブロック     　　              ２０１７","表題７","スーパーリ－グ 　　                  　　　 第１０回大会  　　　        　Ｇブロック     　　              ２０１７","表題７","スーパーリ－グ 　　                  　　　 第１０回大会  　　　        　Ｇブロック     　　              ２０１７","表題７","スーパーリ－グ 　　                  　　　 第１０回大会  　　　        　Ｇブロック     　　              ２０１７","表題７","スーパーリ－グ 　　                  　　　 第１０回大会  　　　        　Ｇブロック     　　              ２０１７","表題７","スーパーリ－グ 　　                  　　　 第１０回大会  　　　        　Ｇブロック     　　              ２０１７","表題７","スーパーリ－グ 　　                  　　　 第１０回大会  　　　        　Ｇブロック     　　              ２０１７","表題７","スーパーリ－グ 　　                  　　　 第１０回大会  　　　        　Ｇブロック     　　              ２０１７","表題７","スーパーリ－グ 　　                  　　　 第１０回大会  　　　        　Ｇブロック     　　              ２０１７","表題７","スーパーリ－グ 　　                  　　　 第１０回大会  　　　        　Ｇブロック     　　              ２０１７","表題７","スーパーリ－グ 　　                  　　　 第１０回大会  　　　        　Ｇブロック     　　              ２０１７","表題７","スーパーリ－グ 　　                  　　　 第１０回大会  　　　        　Ｇブロック     　　              ２０１７","表題７","スーパーリ－グ 　　                  　　　 第１０回大会  　　　        　Ｇブロック     　　              ２０１７","表題７","スーパーリ－グ 　　                  　　　 第１０回大会  　　　        　Ｇブロック     　　              ２０１７","表題７","スーパーリ－グ 　　                  　　　 第１０回大会  　　　        　Ｇブロック     　　              ２０１７"]
[]
["表題８","スーパーリ－グ 　　                  　　　 第１７回大会  　　　        　Ｈブロック     　　              ２０２３","表題８","スーパーリ－グ 　　                  　　　 第１０回大会  　　　        　Ｈブロック     　　              ２０１７","表題８","スーパーリ－グ 　　                  　　　 第１０回大会  　　　        　Ｈブロック     　　              ２０１７","表題８","スーパーリ－グ 　　                  　　　 第１０回大会  　　　        　Ｈブロック     　　              ２０１７","表題８","スーパーリ－グ 　　                  　　　 第１０回大会  　　　        　Ｈブロック     　　              ２０１７","表題８","スーパーリ－グ 　　                  　　　 第１０回大会  　　　        　Ｈブロック     　　              ２０１７","表題８","スーパーリ－グ 　　                  　　　 第１０回大会  　　　        　Ｈブロック     　　              ２０１７","表題８","スーパーリ－グ 　　                  　　　 第１０回大会  　　　        　Ｈブロック     　　              ２０１７","表題８","スーパーリ－グ 　　                  　　　 第１０回大会  　　　        　Ｈブロック     　　              ２０１７","表題８","スーパーリ－グ 　　                  　　　 第１０回大会  　　　        　Ｈブロック     　　              ２０１７","表題８","スーパーリ－グ 　　                  　　　 第１０回大会  　　　        　Ｈブロック     　　              ２０１７","表題８","スーパーリ－グ 　　                  　　　 第１０回大会  　　　        　Ｈブロック     　　              ２０１７","表題８","スーパーリ－グ 　　                  　　　 第１０回大会  　　　        　Ｈブロック     　　              ２０１７","表題８","スーパーリ－グ 　　                  　　　 第１０回大会  　　　        　Ｈブロック     　　              ２０１７","表題８","スーパーリ－グ 　　                  　　　 第１０回大会  　　　        　Ｈブロック     　　              ２０１７","表題８","スーパーリ－グ 　　                  　　　 第１０回大会  　　　        　Ｈブロック     　　              ２０１７","表題８","スーパーリ－グ 　　                  　　　 第１０回大会  　　　        　Ｈブロック     　　              ２０１７","表題８","スーパーリ－グ 　　                  　　　 第１０回大会  　　　        　Ｈブロック     　　              ２０１７","表題８","スーパーリ－グ 　　                  　　　 第１０回大会  　　　        　Ｈブロック     　　              ２０１７","表題８","スーパーリ－グ 　　                  　　　 第１０回大会  　　　        　Ｈブロック     　　              ２０１７","表題８","スーパーリ－グ 　　                  　　　 第１０回大会  　　　        　Ｈブロック     　　              ２０１７","表題８","スーパーリ－グ 　　                  　　　 第１０回大会  　　　        　Ｈブロック     　　              ２０１７","表題８","スーパーリ－グ 　　                  　　　 第１０回大会  　　　        　Ｈブロック     　　              ２０１７","表題８","スーパーリ－グ 　　                  　　　 第１０回大会  　　　        　Ｈブロック     　　              ２０１７","表題８","スーパーリ－グ 　　                  　　　 第１０回大会  　　　        　Ｈブロック     　　              ２０１７","表題８","スーパーリ－グ 　　                  　　　 第１０回大会  　　　        　Ｈブロック     　　              ２０１７","表題８","スーパーリ－グ 　　                  　　　 第１０回大会  　　　        　Ｈブロック     　　              ２０１７","表題８","スーパーリ－グ 　　                  　　　 第１０回大会  　　　        　Ｈブロック     　　              ２０１７","表題８","スーパーリ－グ 　　                  　　　 第１０回大会  　　　        　Ｈブロック     　　              ２０１７","表題８","スーパーリ－グ 　　                  　　　 第１０回大会  　　　        　Ｈブロック     　　              ２０１７","表題８","スーパーリ－グ 　　                  　　　 第１０回大会  　　　        　Ｈブロック     　　              ２０１７","表題８","スーパーリ－グ 　　                  　　　 第１０回大会  　　　        　Ｈブロック     　　              ２０１７","表題８","スーパーリ－グ 　　                  　　　 第１０回大会  　　　        　Ｈブロック     　　              ２０１７","表題８","スーパーリ－グ 　　                  　　　 第１０回大会  　　　        　Ｈブロック     　　              ２０１７","表題８","スーパーリ－グ 　　                  　　　 第１０回大会  　　　        　Ｈブロック     　　              ２０１７","表題８","スーパーリ－グ 　　                  　　　 第１０回大会  　　　        　Ｈブロック     　　              ２０１７","表題８","スーパーリ－グ 　　                  　　　 第１０回大会  　　　        　Ｈブロック     　　              ２０１７","表題８","スーパーリ－グ 　　                  　　　 第１０回大会  　　　        　Ｈブロック     　　              ２０１７","表題８","スーパーリ－グ 　　                  　　　 第１０回大会  　　　        　Ｈブロック     　　              ２０１７","表題８","スーパーリ－グ 　　                  　　　 第１０回大会  　　　        　Ｈブロック     　　              ２０１７","表題８","スーパーリ－グ 　　                  　　　 第１０回大会  　　　        　Ｈブロック     　　              ２０１７","表題８","スーパーリ－グ 　　                  　　　 第１０回大会  　　　        　Ｈブロック     　　              ２０１７","表題８","スーパーリ－グ 　　                  　　　 第１０回大会  　　　        　Ｈブロック     　　              ２０１７","表題８","スーパーリ－グ 　　                  　　　 第１０回大会  　　　        　Ｈブロック     　　              ２０１７","表題８","スーパーリ－グ 　　                  　　　 第１０回大会  　　　        　Ｈブロック     　　              ２０１７","表題８","スーパーリ－グ 　　                  　　　 第１０回大会  　　　        　Ｈブロック     　　              ２０１７","表題８","スーパーリ－グ 　　                  　　　 第１０回大会  　　　        　Ｈブロック     　　              ２０１７","表題８","スーパーリ－グ 　　                  　　　 第１０回大会  　　　        　Ｈブロック     　　              ２０１７","表題８","スーパーリ－グ 　　                  　　　 第１０回大会  　　　        　Ｈブロック     　　              ２０１７","表題８","スーパーリ－グ 　　                  　　　 第１０回大会  　　　        　Ｈブロック     　　              ２０１７","表題８","スーパーリ－グ 　　                  　　　 第１０回大会  　　　        　Ｈブロック     　　              ２０１７","表題８","スーパーリ－グ 　　                  　　　 第１０回大会  　　　        　Ｈブロック     　　              ２０１７","表題８","スーパーリ－グ 　　                  　　　 第１０回大会  　　　        　Ｈブロック     　　              ２０１７","表題８","スーパーリ－グ 　　                  　　　 第１０回大会  　　　        　Ｈブロック     　　              ２０１７","表題８","スーパーリ－グ 　　                  　　　 第１０回大会  　　　        　Ｈブロック     　　              ２０１７","表題８","スーパーリ－グ 　　                  　　　 第１０回大会  　　　        　Ｈブロック     　　              ２０１７","表題８","スーパーリ－グ 　　                  　　　 第１０回大会  　　　        　Ｈブロック     　　              ２０１７","表題８","スーパーリ－グ 　　                  　　　 第１０回大会  　　　        　Ｈブロック     　　              ２０１７","表題８","スーパーリ－グ 　　                  　　　 第１０回大会  　　　        　Ｈブロック     　　              ２０１７","表題８","スーパーリ－グ 　　                  　　　 第１０回大会  　　　        　Ｈブロック     　　              ２０１７","表題８","スーパーリ－グ 　　                  　　　 第１０回大会  　　　        　Ｈブロック     　　              ２０１７","表題８","スーパーリ－グ 　　                  　　　 第１０回大会  　　　        　Ｈブロック     　　              ２０１７","表題８","スーパーリ－グ 　　                  　　　 第１０回大会  　　　        　Ｈブロック     　　              ２０１７","表題８","スーパーリ－グ 　　                  　　　 第１０回大会  　　　        　Ｈブロック     　　              ２０１７","表題８","スーパーリ－グ 　　                  　　　 第１０回大会  　　　        　Ｈブロック     　　              ２０１７","表題８","スーパーリ－グ 　　                  　　　 第１０回大会  　　　        　Ｈブロック     　　              ２０１７","表題８","スーパーリ－グ 　　                  　　　 第１０回大会  　　　        　Ｈブロック     　　              ２０１７","表題８","スーパーリ－グ 　　                  　　　 第１０回大会  　　　        　Ｈブロック     　　              ２０１７","表題８","スーパーリ－グ 　　                  　　　 第１０回大会  　　　        　Ｈブロック     　　              ２０１７","表題８","スーパーリ－グ 　　                  　　　 第１０回大会  　　　        　Ｈブロック     　　              ２０１７","表題８","スーパーリ－グ 　　                  　　　 第１０回大会  　　　        　Ｈブロック     　　              ２０１７","表題８","スーパーリ－グ 　　                  　　　 第１０回大会  　　　        　Ｈブロック     　　              ２０１７","表題８","スーパーリ－グ 　　                  　　　 第１０回大会  　　　        　Ｈブロック     　　              ２０１７","表題８","スーパーリ－グ 　　                  　　　 第１０回大会  　　　        　Ｈブロック     　　              ２０１７","表題８","スーパーリ－グ 　　                  　　　 第１０回大会  　　　        　Ｈブロック     　　              ２０１７","表題８","スーパーリ－グ 　　                  　　　 第１０回大会  　　　        　Ｈブロック     　　              ２０１７","表題８","スーパーリ－グ 　　                  　　　 第１０回大会  　　　        　Ｈブロック     　　              ２０１７","表題８","スーパーリ－グ 　　                  　　　 第１０回大会  　　　        　Ｈブロック     　　              ２０１７","表題８","スーパーリ－グ 　　                  　　　 第１０回大会  　　　        　Ｈブロック     　　              ２０１７","表題８","スーパーリ－グ 　　                  　　　 第１０回大会  　　　        　Ｈブロック     　　              ２０１７","表題８","スーパーリ－グ 　　                  　　　 第１０回大会  　　　        　Ｈブロック     　　              ２０１７","表題８","スーパーリ－グ 　　                  　　　 第１０回大会  　　　        　Ｈブロック     　　              ２０１７","表題８","スーパーリ－グ 　　                  　　　 第１０回大会  　　　        　Ｈブロック     　　              ２０１７","表題８","スーパーリ－グ 　　                  　　　 第１０回大会  　　　        　Ｈブロック     　　              ２０１７","表題８","スーパーリ－グ 　　                  　　　 第１０回大会  　　　        　Ｈブロック     　　              ２０１７","表題８","スーパーリ－グ 　　                  　　　 第１０回大会  　　　        　Ｈブロック     　　              ２０１７","表題８","スーパーリ－グ 　　                  　　　 第１０回大会  　　　        　Ｈブロック     　　              ２０１７","表題８","スーパーリ－グ 　　                  　　　 第１０回大会  　　　        　Ｈブロック     　　              ２０１７","表題８","スーパーリ－グ 　　                  　　　 第１０回大会  　　　        　Ｈブロック     　　              ２０１７","表題８","スーパーリ－グ 　　                  　　　 第１０回大会  　　　        　Ｈブロック     　　              ２０１７","表題８","スーパーリ－グ 　　                  　　　 第１０回大会  　　　        　Ｈブロック     　　              ２０１７","表題８","スーパーリ－グ 　　                  　　　 第１０回大会  　　　        　Ｈブロック     　　              ２０１７","表題８","スーパーリ－グ 　　                  　　　 第１０回大会  　　　        　Ｈブロック     　　              ２０１７","表題８","スーパーリ－グ 　　                  　　　 第１０回大会  　　　        　Ｈブロック     　　              ２０１７","表題８","スーパーリ－グ 　　                  　　　 第１０回大会  　　　        　Ｈブロック     　　              ２０１７","表題８","スーパーリ－グ 　　                  　　　 第１０回大会  　　　        　Ｈブロック     　　              ２０１７","表題８","スーパーリ－グ 　　                  　　　 第１０回大会  　　　        　Ｈブロック     　　              ２０１７","表題８","スーパーリ－グ 　　                  　　　 第１０回大会  　　　        　Ｈブロック     　　              ２０１７","表題８","スーパーリ－グ 　　                  　　　 第１０回大会  　　　        　Ｈブロック     　　              ２０１７","表題８","スーパーリ－グ 　　                  　　　 第１０回大会  　　　        　Ｈブロック     　　              ２０１７","表題８","スーパーリ－グ 　　                  　　　 第１０回大会  　　　        　Ｈブロック     　　              ２０１７","表題８","スーパーリ－グ 　　                  　　　 第１０回大会  　　　        　Ｈブロック     　　              ２０１７","表題８","スーパーリ－グ 　　                  　　　 第１０回大会  　　　        　Ｈブロック     　　              ２０１７","表題８","スーパーリ－グ 　　                  　　　 第１０回大会  　　　        　Ｈブロック     　　              ２０１７","表題８","スーパーリ－グ 　　                  　　　 第１０回大会  　　　        　Ｈブロック     　　              ２０１７","表題８","スーパーリ－グ 　　                  　　　 第１０回大会  　　　        　Ｈブロック     　　              ２０１７","表題８","スーパーリ－グ 　　                  　　　 第１０回大会  　　　        　Ｈブロック     　　              ２０１７","表題８","スーパーリ－グ 　　                  　　　 第１０回大会  　　　        　Ｈブロック     　　              ２０１７","表題８","スーパーリ－グ 　　                  　　　 第１０回大会  　　　        　Ｈブロック     　　              ２０１７","表題８","スーパーリ－グ 　　                  　　　 第１０回大会  　　　        　Ｈブロック     　　              ２０１７","表題８","スーパーリ－グ 　　                  　　　 第１０回大会  　　　        　Ｈブロック     　　              ２０１７","表題８","スーパーリ－グ 　　                  　　　 第１０回大会  　　　        　Ｈブロック     　　              ２０１７","表題８","スーパーリ－グ 　　                  　　　 第１０回大会  　　　        　Ｈブロック     　　              ２０１７","表題８","スーパーリ－グ 　　                  　　　 第１０回大会  　　　        　Ｈブロック     　　              ２０１７","表題８","スーパーリ－グ 　　                  　　　 第１０回大会  　　　        　Ｈブロック     　　              ２０１７","表題８","スーパーリ－グ 　　                  　　　 第１０回大会  　　　        　Ｈブロック     　　              ２０１７","表題８","スーパーリ－グ 　　                  　　　 第１０回大会  　　　        　Ｈブロック     　　              ２０１７","表題８","スーパーリ－グ 　　                  　　　 第１０回大会  　　　        　Ｈブロック     　　              ２０１７","表題８","スーパーリ－グ 　　                  　　　 第１０回大会  　　　        　Ｈブロック     　　              ２０１７","表題８","スーパーリ－グ 　　                  　　　 第１０回大会  　　　        　Ｈブロック     　　              ２０１７","表題８","スーパーリ－グ 　　                  　　　 第１０回大会  　　　        　Ｈブロック     　　              ２０１７","表題８","スーパーリ－グ 　　                  　　　 第１０回大会  　　　        　Ｈブロック     　　              ２０１７","表題８","スーパーリ－グ 　　                  　　　 第１０回大会  　　　        　Ｈブロック     　　              ２０１７","表題８","スーパーリ－グ 　　                  　　　 第１０回大会  　　　        　Ｈブロック     　　              ２０１７","表題８","スーパーリ－グ 　　                  　　　 第１０回大会  　　　        　Ｈブロック     　　              ２０１７","表題８","スーパーリ－グ 　　                  　　　 第１０回大会  　　　        　Ｈブロック     　　              ２０１７","表題８","スーパーリ－グ 　　                  　　　 第１０回大会  　　　        　Ｈブロック     　　              ２０１７","表題８","スーパーリ－グ 　　                  　　　 第１０回大会  　　　        　Ｈブロック     　　              ２０１７"]
[]
["表題９","スーパーリ－グ 　　                  　　　 第１７回大会  　　　        　Ｉブロック     　　   　           ２０２３","表題９","スーパーリ－グ 　　                  　　　 第１０回大会  　　　        　Ｉブロック     　　              ２０１７","表題９","スーパーリ－グ 　　                  　　　 第１０回大会  　　　        　Ｉブロック     　　              ２０１７","表題９","スーパーリ－グ 　　                  　　　 第１０回大会  　　　        　Ｉブロック     　　              ２０１７","表題９","スーパーリ－グ 　　                  　　　 第１０回大会  　　　        　Ｉブロック     　　              ２０１７","表題９","スーパーリ－グ 　　                  　　　 第１０回大会  　　　        　Ｉブロック     　　              ２０１７","表題９","スーパーリ－グ 　　                  　　　 第１０回大会  　　　        　Ｉブロック     　　              ２０１７","表題９","スーパーリ－グ 　　                  　　　 第１０回大会  　　　        　Ｉブロック     　　              ２０１７","表題９","スーパーリ－グ 　　                  　　　 第１０回大会  　　　        　Ｉブロック     　　              ２０１７","表題９","スーパーリ－グ 　　                  　　　 第１０回大会  　　　        　Ｉブロック     　　              ２０１７","表題９","スーパーリ－グ 　　                  　　　 第１０回大会  　　　        　Ｉブロック     　　              ２０１７","表題９","スーパーリ－グ 　　                  　　　 第１０回大会  　　　        　Ｉブロック     　　              ２０１７","表題９","スーパーリ－グ 　　                  　　　 第１０回大会  　　　        　Ｉブロック     　　              ２０１７","表題９","スーパーリ－グ 　　                  　　　 第１０回大会  　　　        　Ｉブロック     　　              ２０１７","表題９","スーパーリ－グ 　　                  　　　 第１０回大会  　　　        　Ｉブロック     　　              ２０１７","表題９","スーパーリ－グ 　　                  　　　 第１０回大会  　　　        　Ｉブロック     　　              ２０１７","表題９","スーパーリ－グ 　　                  　　　 第１０回大会  　　　        　Ｉブロック     　　              ２０１７","表題９","スーパーリ－グ 　　                  　　　 第１０回大会  　　　        　Ｉブロック     　　              ２０１７","表題９","スーパーリ－グ 　　                  　　　 第１０回大会  　　　        　Ｉブロック     　　              ２０１７","表題９","スーパーリ－グ 　　                  　　　 第１０回大会  　　　        　Ｉブロック     　　              ２０１７","表題９","スーパーリ－グ 　　                  　　　 第１０回大会  　　　        　Ｉブロック     　　              ２０１７","表題９","スーパーリ－グ 　　                  　　　 第１０回大会  　　　        　Ｉブロック     　　              ２０１７","表題９","スーパーリ－グ 　　                  　　　 第１０回大会  　　　        　Ｉブロック     　　              ２０１７","表題９","スーパーリ－グ 　　                  　　　 第１０回大会  　　　        　Ｉブロック     　　              ２０１７","表題９","スーパーリ－グ 　　                  　　　 第１０回大会  　　　        　Ｉブロック     　　              ２０１７","表題９","スーパーリ－グ 　　                  　　　 第１０回大会  　　　        　Ｉブロック     　　              ２０１７","表題９","スーパーリ－グ 　　                  　　　 第１０回大会  　　　        　Ｉブロック     　　              ２０１７","表題９","スーパーリ－グ 　　                  　　　 第１０回大会  　　　        　Ｉブロック     　　              ２０１７","表題９","スーパーリ－グ 　　                  　　　 第１０回大会  　　　        　Ｉブロック     　　              ２０１７","表題９","スーパーリ－グ 　　                  　　　 第１０回大会  　　　        　Ｉブロック     　　              ２０１７","表題９","スーパーリ－グ 　　                  　　　 第１０回大会  　　　        　Ｉブロック     　　              ２０１７","表題９","スーパーリ－グ 　　                  　　　 第１０回大会  　　　        　Ｉブロック     　　              ２０１７","表題９","スーパーリ－グ 　　                  　　　 第１０回大会  　　　        　Ｉブロック     　　              ２０１７","表題９","スーパーリ－グ 　　                  　　　 第１０回大会  　　　        　Ｉブロック     　　              ２０１７","表題９","スーパーリ－グ 　　                  　　　 第１０回大会  　　　        　Ｉブロック     　　              ２０１７","表題９","スーパーリ－グ 　　                  　　　 第１０回大会  　　　        　Ｉブロック     　　              ２０１７","表題９","スーパーリ－グ 　　                  　　　 第１０回大会  　　　        　Ｉブロック     　　              ２０１７","表題９","スーパーリ－グ 　　                  　　　 第１０回大会  　　　        　Ｉブロック     　　              ２０１７","表題９","スーパーリ－グ 　　                  　　　 第１０回大会  　　　        　Ｉブロック     　　              ２０１７","表題９","スーパーリ－グ 　　                  　　　 第１０回大会  　　　        　Ｉブロック     　　              ２０１７","表題９","スーパーリ－グ 　　                  　　　 第１０回大会  　　　        　Ｉブロック     　　              ２０１７","表題９","スーパーリ－グ 　　                  　　　 第１０回大会  　　　        　Ｉブロック     　　              ２０１７","表題９","スーパーリ－グ 　　                  　　　 第１０回大会  　　　        　Ｉブロック     　　              ２０１７","表題９","スーパーリ－グ 　　                  　　　 第１０回大会  　　　        　Ｉブロック     　　              ２０１７","表題９","スーパーリ－グ 　　                  　　　 第１０回大会  　　　        　Ｉブロック     　　              ２０１７","表題９","スーパーリ－グ 　　                  　　　 第１０回大会  　　　        　Ｉブロック     　　              ２０１７","表題９","スーパーリ－グ 　　                  　　　 第１０回大会  　　　        　Ｉブロック     　　              ２０１７","表題９","スーパーリ－グ 　　                  　　　 第１０回大会  　　　        　Ｉブロック     　　              ２０１７","表題９","スーパーリ－グ 　　                  　　　 第１０回大会  　　　        　Ｉブロック     　　              ２０１７","表題９","スーパーリ－グ 　　                  　　　 第１０回大会  　　　        　Ｉブロック     　　              ２０１７","表題９","スーパーリ－グ 　　                  　　　 第１０回大会  　　　        　Ｉブロック     　　              ２０１７","表題９","スーパーリ－グ 　　                  　　　 第１０回大会  　　　        　Ｉブロック     　　              ２０１７","表題９","スーパーリ－グ 　　                  　　　 第１０回大会  　　　        　Ｉブロック     　　              ２０１７","表題９","スーパーリ－グ 　　                  　　　 第１０回大会  　　　        　Ｉブロック     　　              ２０１７","表題９","スーパーリ－グ 　　                  　　　 第１０回大会  　　　        　Ｉブロック     　　              ２０１７","表題９","スーパーリ－グ 　　                  　　　 第１０回大会  　　　        　Ｉブロック     　　              ２０１７","表題９","スーパーリ－グ 　　                  　　　 第１０回大会  　　　        　Ｉブロック     　　              ２０１７","表題９","スーパーリ－グ 　　                  　　　 第１０回大会  　　　        　Ｉブロック     　　              ２０１７","表題９","スーパーリ－グ 　　                  　　　 第１０回大会  　　　        　Ｉブロック     　　              ２０１７","表題９","スーパーリ－グ 　　                  　　　 第１０回大会  　　　        　Ｉブロック     　　              ２０１７","表題９","スーパーリ－グ 　　                  　　　 第１０回大会  　　　        　Ｉブロック     　　              ２０１７","表題９","スーパーリ－グ 　　                  　　　 第１０回大会  　　　        　Ｉブロック     　　              ２０１７","表題９","スーパーリ－グ 　　                  　　　 第１０回大会  　　　        　Ｉブロック     　　              ２０１７","表題９","スーパーリ－グ 　　                  　　　 第１０回大会  　　　        　Ｉブロック     　　              ２０１７","表題９","スーパーリ－グ 　　                  　　　 第１０回大会  　　　        　Ｉブロック     　　              ２０１７","表題９","スーパーリ－グ 　　                  　　　 第１０回大会  　　　        　Ｉブロック     　　              ２０１７","表題９","スーパーリ－グ 　　                  　　　 第１０回大会  　　　        　Ｉブロック     　　              ２０１７","表題９","スーパーリ－グ 　　                  　　　 第１０回大会  　　　        　Ｉブロック     　　              ２０１７","表題９","スーパーリ－グ 　　                  　　　 第１０回大会  　　　        　Ｉブロック     　　              ２０１７","表題９","スーパーリ－グ 　　                  　　　 第１０回大会  　　　        　Ｉブロック     　　              ２０１７","表題９","スーパーリ－グ 　　                  　　　 第１０回大会  　　　        　Ｉブロック     　　              ２０１７","表題９","スーパーリ－グ 　　                  　　　 第１０回大会  　　　        　Ｉブロック     　　              ２０１７","表題９","スーパーリ－グ 　　                  　　　 第１０回大会  　　　        　Ｉブロック     　　              ２０１７","表題９","スーパーリ－グ 　　                  　　　 第１０回大会  　　　        　Ｉブロック     　　              ２０１７","表題９","スーパーリ－グ 　　                  　　　 第１０回大会  　　　        　Ｉブロック     　　              ２０１７","表題９","スーパーリ－グ 　　                  　　　 第１０回大会  　　　        　Ｉブロック     　　              ２０１７","表題９","スーパーリ－グ 　　                  　　　 第１０回大会  　　　        　Ｉブロック     　　              ２０１７","表題９","スーパーリ－グ 　　                  　　　 第１０回大会  　　　        　Ｉブロック     　　              ２０１７","表題９","スーパーリ－グ 　　                  　　　 第１０回大会  　　　        　Ｉブロック     　　              ２０１７","表題９","スーパーリ－グ 　　                  　　　 第１０回大会  　　　        　Ｉブロック     　　              ２０１７","表題９","スーパーリ－グ 　　                  　　　 第１０回大会  　　　        　Ｉブロック     　　              ２０１７","表題９","スーパーリ－グ 　　                  　　　 第１０回大会  　　　        　Ｉブロック     　　              ２０１７","表題９","スーパーリ－グ 　　                  　　　 第１０回大会  　　　        　Ｉブロック     　　              ２０１７","表題９","スーパーリ－グ 　　                  　　　 第１０回大会  　　　        　Ｉブロック     　　              ２０１７","表題９","スーパーリ－グ 　　                  　　　 第１０回大会  　　　        　Ｉブロック     　　              ２０１７","表題９","スーパーリ－グ 　　                  　　　 第１０回大会  　　　        　Ｉブロック     　　              ２０１７","表題９","スーパーリ－グ 　　                  　　　 第１０回大会  　　　        　Ｉブロック     　　              ２０１７","表題９","スーパーリ－グ 　　                  　　　 第１０回大会  　　　        　Ｉブロック     　　              ２０１７","表題９","スーパーリ－グ 　　                  　　　 第１０回大会  　　　        　Ｉブロック     　　              ２０１７","表題９","スーパーリ－グ 　　                  　　　 第１０回大会  　　　        　Ｉブロック     　　              ２０１７","表題９","スーパーリ－グ 　　                  　　　 第１０回大会  　　　        　Ｉブロック     　　              ２０１７","表題９","スーパーリ－グ 　　                  　　　 第１０回大会  　　　        　Ｉブロック     　　              ２０１７","表題９","スーパーリ－グ 　　                  　　　 第１０回大会  　　　        　Ｉブロック     　　              ２０１７","表題９","スーパーリ－グ 　　                  　　　 第１０回大会  　　　        　Ｉブロック     　　              ２０１７","表題９","スーパーリ－グ 　　                  　　　 第１０回大会  　　　        　Ｉブロック     　　              ２０１７","表題９","スーパーリ－グ 　　                  　　　 第１０回大会  　　　        　Ｉブロック     　　              ２０１７","表題９","スーパーリ－グ 　　                  　　　 第１０回大会  　　　        　Ｉブロック     　　              ２０１７","表題９","スーパーリ－グ 　　                  　　　 第１０回大会  　　　        　Ｉブロック     　　              ２０１７","表題９","スーパーリ－グ 　　                  　　　 第１０回大会  　　　        　Ｉブロック     　　              ２０１７","表題９","スーパーリ－グ 　　                  　　　 第１０回大会  　　　        　Ｉブロック     　　              ２０１７","表題９","スーパーリ－グ 　　                  　　　 第１０回大会  　　　        　Ｉブロック     　　              ２０１７","表題９","スーパーリ－グ 　　                  　　　 第１０回大会  　　　        　Ｉブロック     　　              ２０１７","表題９","スーパーリ－グ 　　                  　　　 第１０回大会  　　　        　Ｉブロック     　　              ２０１７","表題９","スーパーリ－グ 　　                  　　　 第１０回大会  　　　        　Ｉブロック     　　              ２０１７","表題９","スーパーリ－グ 　　                  　　　 第１０回大会  　　　        　Ｉブロック     　　              ２０１７","表題９","スーパーリ－グ 　　                  　　　 第１０回大会  　　　        　Ｉブロック     　　              ２０１７","表題９","スーパーリ－グ 　　                  　　　 第１０回大会  　　　        　Ｉブロック     　　              ２０１７","表題９","スーパーリ－グ 　　                  　　　 第１０回大会  　　　        　Ｉブロック     　　              ２０１７","表題９","スーパーリ－グ 　　                  　　　 第１０回大会  　　　        　Ｉブロック     　　              ２０１７","表題９","スーパーリ－グ 　　                  　　　 第１０回大会  　　　        　Ｉブロック     　　              ２０１７","表題９","スーパーリ－グ 　　                  　　　 第１０回大会  　　　        　Ｉブロック     　　              ２０１７","表題９","スーパーリ－グ 　　                  　　　 第１０回大会  　　　        　Ｉブロック     　　              ２０１７","表題９","スーパーリ－グ 　　                  　　　 第１０回大会  　　　        　Ｉブロック     　　              ２０１７","表題９","スーパーリ－グ 　　                  　　　 第１０回大会  　　　        　Ｉブロック     　　              ２０１７","表題９","スーパーリ－グ 　　                  　　　 第１０回大会  　　　        　Ｉブロック     　　              ２０１７","表題９","スーパーリ－グ 　　                  　　　 第１０回大会  　　　        　Ｉブロック     　　              ２０１７","表題９","スーパーリ－グ 　　                  　　　 第１０回大会  　　　        　Ｉブロック     　　              ２０１７","表題９","スーパーリ－グ 　　                  　　　 第１０回大会  　　　        　Ｉブロック     　　              ２０１７","表題９","スーパーリ－グ 　　                  　　　 第１０回大会  　　　        　Ｉブロック     　　              ２０１７","表題９","スーパーリ－グ 　　                  　　　 第１０回大会  　　　        　Ｉブロック     　　              ２０１７","表題９","スーパーリ－グ 　　                  　　　 第１０回大会  　　　        　Ｉブロック     　　              ２０１７","表題９","スーパーリ－グ 　　                  　　　 第１０回大会  　　　        　Ｉブロック     　　              ２０１７","表題９","スーパーリ－グ 　　                  　　　 第１０回大会  　　　        　Ｉブロック     　　              ２０１７","表題９","スーパーリ－グ 　　                  　　　 第１０回大会  　　　        　Ｉブロック     　　              ２０１７","表題９","スーパーリ－グ 　　                  　　　 第１０回大会  　　　        　Ｉブロック     　　              ２０１７","表題９","スーパーリ－グ 　　                  　　　 第１０回大会  　　　        　Ｉブロック     　　              ２０１７","表題９","スーパーリ－グ 　　                  　　　 第１０回大会  　　　        　Ｉブロック     　　              ２０１７","表題９","スーパーリ－グ 　　                  　　　 第１０回大会  　　　        　Ｉブロック     　　              ２０１７"]
[]
["表題１０","スーパーリ－グ 　　                  　　　 第１７回大会  　　　        　Ｊブロック     　　              ２０２３","表題１０","スーパーリ－グ 　　                  　　　 第１０回大会  　　　        　Ｊブロック     　　              ２０１７","表題１０","スーパーリ－グ 　　                  　　　 第１０回大会  　　　        　Ｊブロック     　　              ２０１７","表題１０","スーパーリ－グ 　　                  　　　 第１０回大会  　　　        　Ｊブロック     　　              ２０１７","表題１０","スーパーリ－グ 　　                  　　　 第１０回大会  　　　        　Ｊブロック     　　              ２０１７","表題１０","スーパーリ－グ 　　                  　　　 第１０回大会  　　　        　Ｊブロック     　　              ２０１７","表題１０","スーパーリ－グ 　　                  　　　 第１０回大会  　　　        　Ｊブロック     　　              ２０１７","表題１０","スーパーリ－グ 　　                  　　　 第１０回大会  　　　        　Ｊブロック     　　              ２０１７","表題１０","スーパーリ－グ 　　                  　　　 第１０回大会  　　　        　Ｊブロック     　　              ２０１７","表題１０","スーパーリ－グ 　　                  　　　 第１０回大会  　　　        　Ｊブロック     　　              ２０１７","表題１０","スーパーリ－グ 　　                  　　　 第１０回大会  　　　        　Ｊブロック     　　              ２０１７","表題１０","スーパーリ－グ 　　                  　　　 第１０回大会  　　　        　Ｊブロック     　　              ２０１７","表題１０","スーパーリ－グ 　　                  　　　 第１０回大会  　　　        　Ｊブロック     　　              ２０１７","表題１０","スーパーリ－グ 　　                  　　　 第１０回大会  　　　        　Ｊブロック     　　              ２０１７","表題１０","スーパーリ－グ 　　                  　　　 第１０回大会  　　　        　Ｊブロック     　　              ２０１７","表題１０","スーパーリ－グ 　　                  　　　 第１０回大会  　　　        　Ｊブロック     　　              ２０１７","表題１０","スーパーリ－グ 　　                  　　　 第１０回大会  　　　        　Ｊブロック     　　              ２０１７","表題１０","スーパーリ－グ 　　                  　　　 第１０回大会  　　　        　Ｊブロック     　　              ２０１７","表題１０","スーパーリ－グ 　　                  　　　 第１０回大会  　　　        　Ｊブロック     　　              ２０１７","表題１０","スーパーリ－グ 　　                  　　　 第１０回大会  　　　        　Ｊブロック     　　              ２０１７","表題１０","スーパーリ－グ 　　                  　　　 第１０回大会  　　　        　Ｊブロック     　　              ２０１７","表題１０","スーパーリ－グ 　　                  　　　 第１０回大会  　　　        　Ｊブロック     　　              ２０１７","表題１０","スーパーリ－グ 　　                  　　　 第１０回大会  　　　        　Ｊブロック     　　              ２０１７","表題１０","スーパーリ－グ 　　                  　　　 第１０回大会  　　　        　Ｊブロック     　　              ２０１７","表題１０","スーパーリ－グ 　　                  　　　 第１０回大会  　　　        　Ｊブロック     　　              ２０１７","表題１０","スーパーリ－グ 　　                  　　　 第１０回大会  　　　        　Ｊブロック     　　              ２０１７","表題１０","スーパーリ－グ 　　                  　　　 第１０回大会  　　　        　Ｊブロック     　　              ２０１７","表題１０","スーパーリ－グ 　　                  　　　 第１０回大会  　　　        　Ｊブロック     　　              ２０１７","表題１０","スーパーリ－グ 　　                  　　　 第１０回大会  　　　        　Ｊブロック     　　              ２０１７","表題１０","スーパーリ－グ 　　                  　　　 第１０回大会  　　　        　Ｊブロック     　　              ２０１７","表題１０","スーパーリ－グ 　　                  　　　 第１０回大会  　　　        　Ｊブロック     　　              ２０１７","表題１０","スーパーリ－グ 　　                  　　　 第１０回大会  　　　        　Ｊブロック     　　              ２０１７","表題１０","スーパーリ－グ 　　                  　　　 第１０回大会  　　　        　Ｊブロック     　　              ２０１７","表題１０","スーパーリ－グ 　　                  　　　 第１０回大会  　　　        　Ｊブロック     　　              ２０１７","表題１０","スーパーリ－グ 　　                  　　　 第１０回大会  　　　        　Ｊブロック     　　              ２０１７","表題１０","スーパーリ－グ 　　                  　　　 第１０回大会  　　　        　Ｊブロック     　　              ２０１７","表題１０","スーパーリ－グ 　　                  　　　 第１０回大会  　　　        　Ｊブロック     　　              ２０１７","表題１０","スーパーリ－グ 　　                  　　　 第１０回大会  　　　        　Ｊブロック     　　              ２０１７","表題１０","スーパーリ－グ 　　                  　　　 第１０回大会  　　　        　Ｊブロック     　　              ２０１７","表題１０","スーパーリ－グ 　　                  　　　 第１０回大会  　　　        　Ｊブロック     　　              ２０１７","表題１０","スーパーリ－グ 　　                  　　　 第１０回大会  　　　        　Ｊブロック     　　              ２０１７","表題１０","スーパーリ－グ 　　                  　　　 第１０回大会  　　　        　Ｊブロック     　　              ２０１７","表題１０","スーパーリ－グ 　　                  　　　 第１０回大会  　　　        　Ｊブロック     　　              ２０１７","表題１０","スーパーリ－グ 　　                  　　　 第１０回大会  　　　        　Ｊブロック     　　              ２０１７","表題１０","スーパーリ－グ 　　                  　　　 第１０回大会  　　　        　Ｊブロック     　　              ２０１７","表題１０","スーパーリ－グ 　　                  　　　 第１０回大会  　　　        　Ｊブロック     　　              ２０１７","表題１０","スーパーリ－グ 　　                  　　　 第１０回大会  　　　        　Ｊブロック     　　              ２０１７","表題１０","スーパーリ－グ 　　                  　　　 第１０回大会  　　　        　Ｊブロック     　　              ２０１７","表題１０","スーパーリ－グ 　　                  　　　 第１０回大会  　　　        　Ｊブロック     　　              ２０１７","表題１０","スーパーリ－グ 　　                  　　　 第１０回大会  　　　        　Ｊブロック     　　              ２０１７","表題１０","スーパーリ－グ 　　                  　　　 第１０回大会  　　　        　Ｊブロック     　　              ２０１７","表題１０","スーパーリ－グ 　　                  　　　 第１０回大会  　　　        　Ｊブロック     　　              ２０１７","表題１０","スーパーリ－グ 　　                  　　　 第１０回大会  　　　        　Ｊブロック     　　              ２０１７","表題１０","スーパーリ－グ 　　                  　　　 第１０回大会  　　　        　Ｊブロック     　　              ２０１７","表題１０","スーパーリ－グ 　　                  　　　 第１０回大会  　　　        　Ｊブロック     　　              ２０１７","表題１０","スーパーリ－グ 　　                  　　　 第１０回大会  　　　        　Ｊブロック     　　              ２０１７","表題１０","スーパーリ－グ 　　                  　　　 第１０回大会  　　　        　Ｊブロック     　　              ２０１７","表題１０","スーパーリ－グ 　　                  　　　 第１０回大会  　　　        　Ｊブロック     　　              ２０１７","表題１０","スーパーリ－グ 　　                  　　　 第１０回大会  　　　        　Ｊブロック     　　              ２０１７","表題１０","スーパーリ－グ 　　                  　　　 第１０回大会  　　　        　Ｊブロック     　　              ２０１７","表題１０","スーパーリ－グ 　　                  　　　 第１０回大会  　　　        　Ｊブロック     　　              ２０１７","表題１０","スーパーリ－グ 　　                  　　　 第１０回大会  　　　        　Ｊブロック     　　              ２０１７","表題１０","スーパーリ－グ 　　                  　　　 第１０回大会  　　　        　Ｊブロック     　　              ２０１７","表題１０","スーパーリ－グ 　　                  　　　 第１０回大会  　　　        　Ｊブロック     　　              ２０１７","表題１０","スーパーリ－グ 　　                  　　　 第１０回大会  　　　        　Ｊブロック     　　              ２０１７","表題１０","スーパーリ－グ 　　                  　　　 第１０回大会  　　　        　Ｊブロック     　　              ２０１７","表題１０","スーパーリ－グ 　　                  　　　 第１０回大会  　　　        　Ｊブロック     　　              ２０１７","表題１０","スーパーリ－グ 　　                  　　　 第１０回大会  　　　        　Ｊブロック     　　              ２０１７","表題１０","スーパーリ－グ 　　                  　　　 第１０回大会  　　　        　Ｊブロック     　　              ２０１７","表題１０","スーパーリ－グ 　　                  　　　 第１０回大会  　　　        　Ｊブロック     　　              ２０１７","表題１０","スーパーリ－グ 　　                  　　　 第１０回大会  　　　        　Ｊブロック     　　              ２０１７","表題１０","スーパーリ－グ 　　                  　　　 第１０回大会  　　　        　Ｊブロック     　　              ２０１７","表題１０","スーパーリ－グ 　　                  　　　 第１０回大会  　　　        　Ｊブロック     　　              ２０１７","表題１０","スーパーリ－グ 　　                  　　　 第１０回大会  　　　        　Ｊブロック     　　              ２０１７","表題１０","スーパーリ－グ 　　                  　　　 第１０回大会  　　　        　Ｊブロック     　　              ２０１７","表題１０","スーパーリ－グ 　　                  　　　 第１０回大会  　　　        　Ｊブロック     　　              ２０１７","表題１０","スーパーリ－グ 　　                  　　　 第１０回大会  　　　        　Ｊブロック     　　              ２０１７","表題１０","スーパーリ－グ 　　                  　　　 第１０回大会  　　　        　Ｊブロック     　　              ２０１７","表題１０","スーパーリ－グ 　　                  　　　 第１０回大会  　　　        　Ｊブロック     　　              ２０１７","表題１０","スーパーリ－グ 　　                  　　　 第１０回大会  　　　        　Ｊブロック     　　              ２０１７","表題１０","スーパーリ－グ 　　                  　　　 第１０回大会  　　　        　Ｊブロック     　　              ２０１７","表題１０","スーパーリ－グ 　　                  　　　 第１０回大会  　　　        　Ｊブロック     　　              ２０１７","表題１０","スーパーリ－グ 　　                  　　　 第１０回大会  　　　        　Ｊブロック     　　              ２０１７","表題１０","スーパーリ－グ 　　                  　　　 第１０回大会  　　　        　Ｊブロック     　　              ２０１７","表題１０","スーパーリ－グ 　　                  　　　 第１０回大会  　　　        　Ｊブロック     　　              ２０１７","表題１０","スーパーリ－グ 　　                  　　　 第１０回大会  　　　        　Ｊブロック     　　              ２０１７","表題１０","スーパーリ－グ 　　                  　　　 第１０回大会  　　　        　Ｊブロック     　　              ２０１７","表題１０","スーパーリ－グ 　　                  　　　 第１０回大会  　　　        　Ｊブロック     　　              ２０１７","表題１０","スーパーリ－グ 　　                  　　　 第１０回大会  　　　        　Ｊブロック     　　              ２０１７","表題１０","スーパーリ－グ 　　                  　　　 第１０回大会  　　　        　Ｊブロック     　　              ２０１７","表題１０","スーパーリ－グ 　　                  　　　 第１０回大会  　　　        　Ｊブロック     　　              ２０１７","表題１０","スーパーリ－グ 　　                  　　　 第１０回大会  　　　        　Ｊブロック     　　              ２０１７","表題１０","スーパーリ－グ 　　                  　　　 第１０回大会  　　　        　Ｊブロック     　　              ２０１７","表題１０","スーパーリ－グ 　　                  　　　 第１０回大会  　　　        　Ｊブロック     　　              ２０１７","表題１０","スーパーリ－グ 　　                  　　　 第１０回大会  　　　        　Ｊブロック     　　              ２０１７","表題１０","スーパーリ－グ 　　                  　　　 第１０回大会  　　　        　Ｊブロック     　　              ２０１７","表題１０","スーパーリ－グ 　　                  　　　 第１０回大会  　　　        　Ｊブロック     　　              ２０１７","表題１０","スーパーリ－グ 　　                  　　　 第１０回大会  　　　        　Ｊブロック     　　              ２０１７","表題１０","スーパーリ－グ 　　                  　　　 第１０回大会  　　　        　Ｊブロック     　　              ２０１７","表題１０","スーパーリ－グ 　　                  　　　 第１０回大会  　　　        　Ｊブロック     　　              ２０１７","表題１０","スーパーリ－グ 　　                  　　　 第１０回大会  　　　        　Ｊブロック     　　              ２０１７","表題１０","スーパーリ－グ 　　                  　　　 第１０回大会  　　　        　Ｊブロック     　　              ２０１７","表題１０","スーパーリ－グ 　　                  　　　 第１０回大会  　　　        　Ｊブロック     　　              ２０１７","表題１０","スーパーリ－グ 　　                  　　　 第１０回大会  　　　        　Ｊブロック     　　              ２０１７","表題１０","スーパーリ－グ 　　                  　　　 第１０回大会  　　　        　Ｊブロック     　　              ２０１７","表題１０","スーパーリ－グ 　　                  　　　 第１０回大会  　　　        　Ｊブロック     　　              ２０１７","表題１０","スーパーリ－グ 　　                  　　　 第１０回大会  　　　        　Ｊブロック     　　              ２０１７","表題１０","スーパーリ－グ 　　                  　　　 第１０回大会  　　　        　Ｊブロック     　　              ２０１７","表題１０","スーパーリ－グ 　　                  　　　 第１０回大会  　　　        　Ｊブロック     　　              ２０１７","表題１０","スーパーリ－グ 　　                  　　　 第１０回大会  　　　        　Ｊブロック     　　              ２０１７","表題１０","スーパーリ－グ 　　                  　　　 第１０回大会  　　　        　Ｊブロック     　　              ２０１７","表題１０","スーパーリ－グ 　　                  　　　 第１０回大会  　　　        　Ｊブロック     　　              ２０１７","表題１０","スーパーリ－グ 　　                  　　　 第１０回大会  　　　        　Ｊブロック     　　              ２０１７","表題１０","スーパーリ－グ 　　                  　　　 第１０回大会  　　　        　Ｊブロック     　　              ２０１７","表題１０","スーパーリ－グ 　　                  　　　 第１０回大会  　　　        　Ｊブロック     　　              ２０１７","表題１０","スーパーリ－グ 　　                  　　　 第１０回大会  　　　        　Ｊブロック     　　              ２０１７","表題１０","スーパーリ－グ 　　                  　　　 第１０回大会  　　　        　Ｊブロック     　　              ２０１７","表題１０","スーパーリ－グ 　　                  　　　 第１０回大会  　　　        　Ｊブロック     　　              ２０１７","表題１０","スーパーリ－グ 　　                  　　　 第１０回大会  　　　        　Ｊブロック     　　              ２０１７","表題１０","スーパーリ－グ 　　                  　　　 第１０回大会  　　　        　Ｊブロック     　　              ２０１７","表題１０","スーパーリ－グ 　　                  　　　 第１０回大会  　　　        　Ｊブロック     　　              ２０１７","表題１０","スーパーリ－グ 　　                  　　　 第１０回大会  　　　        　Ｊブロック     　　              ２０１７","表題１０","スーパーリ－グ 　　                  　　　 第１０回大会  　　　        　Ｊブロック     　　              ２０１７","表題１０","スーパーリ－グ 　　                  　　　 第１０回大会  　　　        　Ｊブロック     　　              ２０１７","表題１０","スーパーリ－グ 　　                  　　　 第１０回大会  　　　        　Ｊブロック     　　              ２０１７","表題１０","スーパーリ－グ 　　                  　　　 第１０回大会  　　　        　Ｊブロック     　　              ２０１７","表題１０","スーパーリ－グ 　　                  　　　 第１０回大会  　　　        　Ｊブロック     　　              ２０１７","表題１０","スーパーリ－グ 　　                  　　　 第１０回大会  　　　        　Ｊブロック     　　              ２０１７"]
[]
["表題１１","スーパーリ－グ 　　                  　　　 第１７回大会  　　　        　Ｋブロック     　　              ２０２３","表題１１","スーパーリ－グ 　　                  　　　 第１０回大会  　　　        　Ｋブロック     　　              ２０１７","表題１１","スーパーリ－グ 　　                  　　　 第１０回大会  　　　        　Ｋブロック     　　              ２０１７","表題１１","スーパーリ－グ 　　                  　　　 第１０回大会  　　　        　Ｋブロック     　　              ２０１７","表題１１","スーパーリ－グ 　　                  　　　 第１０回大会  　　　        　Ｋブロック     　　              ２０１７","表題１１","スーパーリ－グ 　　                  　　　 第１０回大会  　　　        　Ｋブロック     　　              ２０１７","表題１１","スーパーリ－グ 　　                  　　　 第１０回大会  　　　        　Ｋブロック     　　              ２０１７","表題１１","スーパーリ－グ 　　                  　　　 第１０回大会  　　　        　Ｋブロック     　　              ２０１７","表題１１","スーパーリ－グ 　　                  　　　 第１０回大会  　　　        　Ｋブロック     　　              ２０１７","表題１１","スーパーリ－グ 　　                  　　　 第１０回大会  　　　        　Ｋブロック     　　              ２０１７","表題１１","スーパーリ－グ 　　                  　　　 第１０回大会  　　　        　Ｋブロック     　　              ２０１７","表題１１","スーパーリ－グ 　　                  　　　 第１０回大会  　　　        　Ｋブロック     　　              ２０１７","表題１１","スーパーリ－グ 　　                  　　　 第１０回大会  　　　        　Ｋブロック     　　              ２０１７","表題１１","スーパーリ－グ 　　                  　　　 第１０回大会  　　　        　Ｋブロック     　　              ２０１７","表題１１","スーパーリ－グ 　　                  　　　 第１０回大会  　　　        　Ｋブロック     　　              ２０１７","表題１１","スーパーリ－グ 　　                  　　　 第１０回大会  　　　        　Ｋブロック     　　              ２０１７","表題１１","スーパーリ－グ 　　                  　　　 第１０回大会  　　　        　Ｋブロック     　　              ２０１７","表題１１","スーパーリ－グ 　　                  　　　 第１０回大会  　　　        　Ｋブロック     　　              ２０１７","表題１１","スーパーリ－グ 　　                  　　　 第１０回大会  　　　        　Ｋブロック     　　              ２０１７","表題１１","スーパーリ－グ 　　                  　　　 第１０回大会  　　　        　Ｋブロック     　　              ２０１７","表題１１","スーパーリ－グ 　　                  　　　 第１０回大会  　　　        　Ｋブロック     　　              ２０１７","表題１１","スーパーリ－グ 　　                  　　　 第１０回大会  　　　        　Ｋブロック     　　              ２０１７","表題１１","スーパーリ－グ 　　                  　　　 第１０回大会  　　　        　Ｋブロック     　　              ２０１７","表題１１","スーパーリ－グ 　　                  　　　 第１０回大会  　　　        　Ｋブロック     　　              ２０１７","表題１１","スーパーリ－グ 　　                  　　　 第１０回大会  　　　        　Ｋブロック     　　              ２０１７","表題１１","スーパーリ－グ 　　                  　　　 第１０回大会  　　　        　Ｋブロック     　　              ２０１７","表題１１","スーパーリ－グ 　　                  　　　 第１０回大会  　　　        　Ｋブロック     　　              ２０１７","表題１１","スーパーリ－グ 　　                  　　　 第１０回大会  　　　        　Ｋブロック     　　              ２０１７","表題１１","スーパーリ－グ 　　                  　　　 第１０回大会  　　　        　Ｋブロック     　　              ２０１７","表題１１","スーパーリ－グ 　　                  　　　 第１０回大会  　　　        　Ｋブロック     　　              ２０１７","表題１１","スーパーリ－グ 　　                  　　　 第１０回大会  　　　        　Ｋブロック     　　              ２０１７","表題１１","スーパーリ－グ 　　                  　　　 第１０回大会  　　　        　Ｋブロック     　　              ２０１７","表題１１","スーパーリ－グ 　　                  　　　 第１０回大会  　　　        　Ｋブロック     　　              ２０１７","表題１１","スーパーリ－グ 　　                  　　　 第１０回大会  　　　        　Ｋブロック     　　              ２０１７","表題１１","スーパーリ－グ 　　                  　　　 第１０回大会  　　　        　Ｋブロック     　　              ２０１７","表題１１","スーパーリ－グ 　　                  　　　 第１０回大会  　　　        　Ｋブロック     　　              ２０１７","表題１１","スーパーリ－グ 　　                  　　　 第１０回大会  　　　        　Ｋブロック     　　              ２０１７","表題１１","スーパーリ－グ 　　                  　　　 第１０回大会  　　　        　Ｋブロック     　　              ２０１７","表題１１","スーパーリ－グ 　　                  　　　 第１０回大会  　　　        　Ｋブロック     　　              ２０１７","表題１１","スーパーリ－グ 　　                  　　　 第１０回大会  　　　        　Ｋブロック     　　              ２０１７","表題１１","スーパーリ－グ 　　                  　　　 第１０回大会  　　　        　Ｋブロック     　　              ２０１７","表題１１","スーパーリ－グ 　　                  　　　 第１０回大会  　　　        　Ｋブロック     　　              ２０１７","表題１１","スーパーリ－グ 　　                  　　　 第１０回大会  　　　        　Ｋブロック     　　              ２０１７","表題１１","スーパーリ－グ 　　                  　　　 第１０回大会  　　　        　Ｋブロック     　　              ２０１７","表題１１","スーパーリ－グ 　　                  　　　 第１０回大会  　　　        　Ｋブロック     　　              ２０１７","表題１１","スーパーリ－グ 　　                  　　　 第１０回大会  　　　        　Ｋブロック     　　              ２０１７","表題１１","スーパーリ－グ 　　                  　　　 第１０回大会  　　　        　Ｋブロック     　　              ２０１７","表題１１","スーパーリ－グ 　　                  　　　 第１０回大会  　　　        　Ｋブロック     　　              ２０１７","表題１１","スーパーリ－グ 　　                  　　　 第１０回大会  　　　        　Ｋブロック     　　              ２０１７","表題１１","スーパーリ－グ 　　                  　　　 第１０回大会  　　　        　Ｋブロック     　　              ２０１７","表題１１","スーパーリ－グ 　　                  　　　 第１０回大会  　　　        　Ｋブロック     　　              ２０１７","表題１１","スーパーリ－グ 　　                  　　　 第１０回大会  　　　        　Ｋブロック     　　              ２０１７","表題１１","スーパーリ－グ 　　                  　　　 第１０回大会  　　　        　Ｋブロック     　　              ２０１７","表題１１","スーパーリ－グ 　　                  　　　 第１０回大会  　　　        　Ｋブロック     　　              ２０１７","表題１１","スーパーリ－グ 　　                  　　　 第１０回大会  　　　        　Ｋブロック     　　              ２０１７","表題１１","スーパーリ－グ 　　                  　　　 第１０回大会  　　　        　Ｋブロック     　　              ２０１７","表題１１","スーパーリ－グ 　　                  　　　 第１０回大会  　　　        　Ｋブロック     　　              ２０１７","表題１１","スーパーリ－グ 　　                  　　　 第１０回大会  　　　        　Ｋブロック     　　              ２０１７","表題１１","スーパーリ－グ 　　                  　　　 第１０回大会  　　　        　Ｋブロック     　　              ２０１７","表題１１","スーパーリ－グ 　　                  　　　 第１０回大会  　　　        　Ｋブロック     　　              ２０１７","表題１１","スーパーリ－グ 　　                  　　　 第１０回大会  　　　        　Ｋブロック     　　              ２０１７","表題１１","スーパーリ－グ 　　                  　　　 第１０回大会  　　　        　Ｋブロック     　　              ２０１７","表題１１","スーパーリ－グ 　　                  　　　 第１０回大会  　　　        　Ｋブロック     　　              ２０１７","表題１１","スーパーリ－グ 　　                  　　　 第１０回大会  　　　        　Ｋブロック     　　              ２０１７","表題１１","スーパーリ－グ 　　                  　　　 第１０回大会  　　　        　Ｋブロック     　　              ２０１７","表題１１","スーパーリ－グ 　　                  　　　 第１０回大会  　　　        　Ｋブロック     　　              ２０１７","表題１１","スーパーリ－グ 　　                  　　　 第１０回大会  　　　        　Ｋブロック     　　              ２０１７","表題１１","スーパーリ－グ 　　                  　　　 第１０回大会  　　　        　Ｋブロック     　　              ２０１７","表題１１","スーパーリ－グ 　　                  　　　 第１０回大会  　　　        　Ｋブロック     　　              ２０１７","表題１１","スーパーリ－グ 　　                  　　　 第１０回大会  　　　        　Ｋブロック     　　              ２０１７","表題１１","スーパーリ－グ 　　                  　　　 第１０回大会  　　　        　Ｋブロック     　　              ２０１７","表題１１","スーパーリ－グ 　　                  　　　 第１０回大会  　　　        　Ｋブロック     　　              ２０１７","表題１１","スーパーリ－グ 　　                  　　　 第１０回大会  　　　        　Ｋブロック     　　              ２０１７","表題１１","スーパーリ－グ 　　                  　　　 第１０回大会  　　　        　Ｋブロック     　　              ２０１７","表題１１","スーパーリ－グ 　　                  　　　 第１０回大会  　　　        　Ｋブロック     　　              ２０１７","表題１１","スーパーリ－グ 　　                  　　　 第１０回大会  　　　        　Ｋブロック     　　              ２０１７","表題１１","スーパーリ－グ 　　                  　　　 第１０回大会  　　　        　Ｋブロック     　　              ２０１７","表題１１","スーパーリ－グ 　　                  　　　 第１０回大会  　　　        　Ｋブロック     　　              ２０１７","表題１１","スーパーリ－グ 　　                  　　　 第１０回大会  　　　        　Ｋブロック     　　              ２０１７","表題１１","スーパーリ－グ 　　                  　　　 第１０回大会  　　　        　Ｋブロック     　　              ２０１７","表題１１","スーパーリ－グ 　　                  　　　 第１０回大会  　　　        　Ｋブロック     　　              ２０１７","表題１１","スーパーリ－グ 　　                  　　　 第１０回大会  　　　        　Ｋブロック     　　              ２０１７","表題１１","スーパーリ－グ 　　                  　　　 第１０回大会  　　　        　Ｋブロック     　　              ２０１７","表題１１","スーパーリ－グ 　　                  　　　 第１０回大会  　　　        　Ｋブロック     　　              ２０１７","表題１１","スーパーリ－グ 　　                  　　　 第１０回大会  　　　        　Ｋブロック     　　              ２０１７","表題１１","スーパーリ－グ 　　                  　　　 第１０回大会  　　　        　Ｋブロック     　　              ２０１７","表題１１","スーパーリ－グ 　　                  　　　 第１０回大会  　　　        　Ｋブロック     　　              ２０１７","表題１１","スーパーリ－グ 　　                  　　　 第１０回大会  　　　        　Ｋブロック     　　              ２０１７","表題１１","スーパーリ－グ 　　                  　　　 第１０回大会  　　　        　Ｋブロック     　　              ２０１７","表題１１","スーパーリ－グ 　　                  　　　 第１０回大会  　　　        　Ｋブロック     　　              ２０１７","表題１１","スーパーリ－グ 　　                  　　　 第１０回大会  　　　        　Ｋブロック     　　              ２０１７","表題１１","スーパーリ－グ 　　                  　　　 第１０回大会  　　　        　Ｋブロック     　　              ２０１７","表題１１","スーパーリ－グ 　　                  　　　 第１０回大会  　　　        　Ｋブロック     　　              ２０１７","表題１１","スーパーリ－グ 　　                  　　　 第１０回大会  　　　        　Ｋブロック     　　              ２０１７","表題１１","スーパーリ－グ 　　                  　　　 第１０回大会  　　　        　Ｋブロック     　　              ２０１７","表題１１","スーパーリ－グ 　　                  　　　 第１０回大会  　　　        　Ｋブロック     　　              ２０１７","表題１１","スーパーリ－グ 　　                  　　　 第１０回大会  　　　        　Ｋブロック     　　              ２０１７","表題１１","スーパーリ－グ 　　                  　　　 第１０回大会  　　　        　Ｋブロック     　　              ２０１７","表題１１","スーパーリ－グ 　　                  　　　 第１０回大会  　　　        　Ｋブロック     　　              ２０１７","表題１１","スーパーリ－グ 　　                  　　　 第１０回大会  　　　        　Ｋブロック     　　              ２０１７","表題１１","スーパーリ－グ 　　                  　　　 第１０回大会  　　　        　Ｋブロック     　　              ２０１７","表題１１","スーパーリ－グ 　　                  　　　 第１０回大会  　　　        　Ｋブロック     　　              ２０１７","表題１１","スーパーリ－グ 　　                  　　　 第１０回大会  　　　        　Ｋブロック     　　              ２０１７","表題１１","スーパーリ－グ 　　                  　　　 第１０回大会  　　　        　Ｋブロック     　　              ２０１７","表題１１","スーパーリ－グ 　　                  　　　 第１０回大会  　　　        　Ｋブロック     　　              ２０１７","表題１１","スーパーリ－グ 　　                  　　　 第１０回大会  　　　        　Ｋブロック     　　              ２０１７","表題１１","スーパーリ－グ 　　                  　　　 第１０回大会  　　　        　Ｋブロック     　　              ２０１７","表題１１","スーパーリ－グ 　　                  　　　 第１０回大会  　　　        　Ｋブロック     　　              ２０１７","表題１１","スーパーリ－グ 　　                  　　　 第１０回大会  　　　        　Ｋブロック     　　              ２０１７","表題１１","スーパーリ－グ 　　                  　　　 第１０回大会  　　　        　Ｋブロック     　　              ２０１７","表題１１","スーパーリ－グ 　　                  　　　 第１０回大会  　　　        　Ｋブロック     　　              ２０１７","表題１１","スーパーリ－グ 　　                  　　　 第１０回大会  　　　        　Ｋブロック     　　              ２０１７","表題１１","スーパーリ－グ 　　                  　　　 第１０回大会  　　　        　Ｋブロック     　　              ２０１７","表題１１","スーパーリ－グ 　　                  　　　 第１０回大会  　　　        　Ｋブロック     　　              ２０１７","表題１１","スーパーリ－グ 　　                  　　　 第１０回大会  　　　        　Ｋブロック     　　              ２０１７","表題１１","スーパーリ－グ 　　                  　　　 第１０回大会  　　　        　Ｋブロック     　　              ２０１７","表題１１","スーパーリ－グ 　　                  　　　 第１０回大会  　　　        　Ｋブロック     　　              ２０１７","表題１１","スーパーリ－グ 　　                  　　　 第１０回大会  　　　        　Ｋブロック     　　              ２０１７","表題１１","スーパーリ－グ 　　                  　　　 第１０回大会  　　　        　Ｋブロック     　　              ２０１７","表題１１","スーパーリ－グ 　　                  　　　 第１０回大会  　　　        　Ｋブロック     　　              ２０１７","表題１１","スーパーリ－グ 　　                  　　　 第１０回大会  　　　        　Ｋブロック     　　              ２０１７","表題１１","スーパーリ－グ 　　                  　　　 第１０回大会  　　　        　Ｋブロック     　　              ２０１７","表題１１","スーパーリ－グ 　　                  　　　 第１０回大会  　　　        　Ｋブロック     　　              ２０１７","表題１１","スーパーリ－グ 　　                  　　　 第１０回大会  　　　        　Ｋブロック     　　              ２０１７","表題１１","スーパーリ－グ 　　                  　　　 第１０回大会  　　　        　Ｋブロック     　　              ２０１７","表題１１","スーパーリ－グ 　　                  　　　 第１０回大会  　　　        　Ｋブロック     　　              ２０１７","表題１１","スーパーリ－グ 　　                  　　　 第１０回大会  　　　        　Ｋブロック     　　              ２０１７","表題１１","スーパーリ－グ 　　                  　　　 第１０回大会  　　　        　Ｋブロック     　　              ２０１７"]
[]
["表題１２","スーパーリ－グ 　　                  　　　 第１７回大会  　　　        　Ｌブロック     　　              ２０２３","表題１０","スーパーリ－グ 　　                  　　　 第１０回大会  　　　        　Ｊブロック     　　              ２０１７","表題１０","スーパーリ－グ 　　                  　　　 第１０回大会  　　　        　Ｊブロック     　　              ２０１７","表題１０","スーパーリ－グ 　　                  　　　 第１０回大会  　　　        　Ｊブロック     　　              ２０１７","表題１０","スーパーリ－グ 　　                  　　　 第１０回大会  　　　        　Ｊブロック     　　              ２０１７","表題１０","スーパーリ－グ 　　                  　　　 第１０回大会  　　　        　Ｊブロック     　　              ２０１７","表題１０","スーパーリ－グ 　　                  　　　 第１０回大会  　　　        　Ｊブロック     　　              ２０１７","表題１０","スーパーリ－グ 　　                  　　　 第１０回大会  　　　        　Ｊブロック     　　              ２０１７","表題１０","スーパーリ－グ 　　                  　　　 第１０回大会  　　　        　Ｊブロック     　　              ２０１７","表題１０","スーパーリ－グ 　　                  　　　 第１０回大会  　　　        　Ｊブロック     　　              ２０１７","表題１０","スーパーリ－グ 　　                  　　　 第１０回大会  　　　        　Ｊブロック     　　              ２０１７","表題１０","スーパーリ－グ 　　                  　　　 第１０回大会  　　　        　Ｊブロック     　　              ２０１７","表題１０","スーパーリ－グ 　　                  　　　 第１０回大会  　　　        　Ｊブロック     　　              ２０１７","表題１０","スーパーリ－グ 　　                  　　　 第１０回大会  　　　        　Ｊブロック     　　              ２０１７","表題１０","スーパーリ－グ 　　                  　　　 第１０回大会  　　　        　Ｊブロック     　　              ２０１７","表題１０","スーパーリ－グ 　　                  　　　 第１０回大会  　　　        　Ｊブロック     　　              ２０１７","表題１０","スーパーリ－グ 　　                  　　　 第１０回大会  　　　        　Ｊブロック     　　              ２０１７","表題１０","スーパーリ－グ 　　                  　　　 第１０回大会  　　　        　Ｊブロック     　　              ２０１７","表題１０","スーパーリ－グ 　　                  　　　 第１０回大会  　　　        　Ｊブロック     　　              ２０１７","表題１０","スーパーリ－グ 　　                  　　　 第１０回大会  　　　        　Ｊブロック     　　              ２０１７","表題１０","スーパーリ－グ 　　                  　　　 第１０回大会  　　　        　Ｊブロック     　　              ２０１７","表題１０","スーパーリ－グ 　　                  　　　 第１０回大会  　　　        　Ｊブロック     　　              ２０１７","表題１０","スーパーリ－グ 　　                  　　　 第１０回大会  　　　        　Ｊブロック     　　              ２０１７","表題１０","スーパーリ－グ 　　                  　　　 第１０回大会  　　　        　Ｊブロック     　　              ２０１７","表題１０","スーパーリ－グ 　　                  　　　 第１０回大会  　　　        　Ｊブロック     　　              ２０１７","表題１０","スーパーリ－グ 　　                  　　　 第１０回大会  　　　        　Ｊブロック     　　              ２０１７","表題１０","スーパーリ－グ 　　                  　　　 第１０回大会  　　　        　Ｊブロック     　　              ２０１７","表題１０","スーパーリ－グ 　　                  　　　 第１０回大会  　　　        　Ｊブロック     　　              ２０１７","表題１０","スーパーリ－グ 　　                  　　　 第１０回大会  　　　        　Ｊブロック     　　              ２０１７","表題１０","スーパーリ－グ 　　                  　　　 第１０回大会  　　　        　Ｊブロック     　　              ２０１７","表題１０","スーパーリ－グ 　　                  　　　 第１０回大会  　　　        　Ｊブロック     　　              ２０１７","表題１０","スーパーリ－グ 　　                  　　　 第１０回大会  　　　        　Ｊブロック     　　              ２０１７","表題１０","スーパーリ－グ 　　                  　　　 第１０回大会  　　　        　Ｊブロック     　　              ２０１７","表題１０","スーパーリ－グ 　　                  　　　 第１０回大会  　　　        　Ｊブロック     　　              ２０１７","表題１０","スーパーリ－グ 　　                  　　　 第１０回大会  　　　        　Ｊブロック     　　              ２０１７","表題１０","スーパーリ－グ 　　                  　　　 第１０回大会  　　　        　Ｊブロック     　　              ２０１７","表題１０","スーパーリ－グ 　　                  　　　 第１０回大会  　　　        　Ｊブロック     　　              ２０１７","表題１０","スーパーリ－グ 　　                  　　　 第１０回大会  　　　        　Ｊブロック     　　              ２０１７","表題１０","スーパーリ－グ 　　                  　　　 第１０回大会  　　　        　Ｊブロック     　　              ２０１７","表題１０","スーパーリ－グ 　　                  　　　 第１０回大会  　　　        　Ｊブロック     　　              ２０１７","表題１０","スーパーリ－グ 　　                  　　　 第１０回大会  　　　        　Ｊブロック     　　              ２０１７","表題１０","スーパーリ－グ 　　                  　　　 第１０回大会  　　　        　Ｊブロック     　　              ２０１７","表題１０","スーパーリ－グ 　　                  　　　 第１０回大会  　　　        　Ｊブロック     　　              ２０１７","表題１０","スーパーリ－グ 　　                  　　　 第１０回大会  　　　        　Ｊブロック     　　              ２０１７","表題１０","スーパーリ－グ 　　                  　　　 第１０回大会  　　　        　Ｊブロック     　　              ２０１７","表題１０","スーパーリ－グ 　　                  　　　 第１０回大会  　　　        　Ｊブロック     　　              ２０１７","表題１０","スーパーリ－グ 　　                  　　　 第１０回大会  　　　        　Ｊブロック     　　              ２０１７","表題１０","スーパーリ－グ 　　                  　　　 第１０回大会  　　　        　Ｊブロック     　　              ２０１７","表題１０","スーパーリ－グ 　　                  　　　 第１０回大会  　　　        　Ｊブロック     　　              ２０１７","表題１０","スーパーリ－グ 　　                  　　　 第１０回大会  　　　        　Ｊブロック     　　              ２０１７","表題１０","スーパーリ－グ 　　                  　　　 第１０回大会  　　　        　Ｊブロック     　　              ２０１７","表題１０","スーパーリ－グ 　　                  　　　 第１０回大会  　　　        　Ｊブロック     　　              ２０１７","表題１０","スーパーリ－グ 　　                  　　　 第１０回大会  　　　        　Ｊブロック     　　              ２０１７","表題１０","スーパーリ－グ 　　                  　　　 第１０回大会  　　　        　Ｊブロック     　　              ２０１７","表題１０","スーパーリ－グ 　　                  　　　 第１０回大会  　　　        　Ｊブロック     　　              ２０１７","表題１０","スーパーリ－グ 　　                  　　　 第１０回大会  　　　        　Ｊブロック     　　              ２０１７","表題１０","スーパーリ－グ 　　                  　　　 第１０回大会  　　　        　Ｊブロック     　　              ２０１７","表題１０","スーパーリ－グ 　　                  　　　 第１０回大会  　　　        　Ｊブロック     　　              ２０１７","表題１０","スーパーリ－グ 　　                  　　　 第１０回大会  　　　        　Ｊブロック     　　              ２０１７","表題１０","スーパーリ－グ 　　                  　　　 第１０回大会  　　　        　Ｊブロック     　　              ２０１７","表題１０","スーパーリ－グ 　　                  　　　 第１０回大会  　　　        　Ｊブロック     　　              ２０１７","表題１０","スーパーリ－グ 　　                  　　　 第１０回大会  　　　        　Ｊブロック     　　              ２０１７","表題１０","スーパーリ－グ 　　                  　　　 第１０回大会  　　　        　Ｊブロック     　　              ２０１７","表題１０","スーパーリ－グ 　　                  　　　 第１０回大会  　　　        　Ｊブロック     　　              ２０１７","表題１０","スーパーリ－グ 　　                  　　　 第１０回大会  　　　        　Ｊブロック     　　              ２０１７","表題１０","スーパーリ－グ 　　                  　　　 第１０回大会  　　　        　Ｊブロック     　　              ２０１７","表題１０","スーパーリ－グ 　　                  　　　 第１０回大会  　　　        　Ｊブロック     　　              ２０１７","表題１０","スーパーリ－グ 　　                  　　　 第１０回大会  　　　        　Ｊブロック     　　              ２０１７","表題１０","スーパーリ－グ 　　                  　　　 第１０回大会  　　　        　Ｊブロック     　　              ２０１７","表題１０","スーパーリ－グ 　　                  　　　 第１０回大会  　　　        　Ｊブロック     　　              ２０１７","表題１０","スーパーリ－グ 　　                  　　　 第１０回大会  　　　        　Ｊブロック     　　              ２０１７","表題１０","スーパーリ－グ 　　                  　　　 第１０回大会  　　　        　Ｊブロック     　　              ２０１７","表題１０","スーパーリ－グ 　　                  　　　 第１０回大会  　　　        　Ｊブロック     　　              ２０１７","表題１０","スーパーリ－グ 　　                  　　　 第１０回大会  　　　        　Ｊブロック     　　              ２０１７","表題１０","スーパーリ－グ 　　                  　　　 第１０回大会  　　　        　Ｊブロック     　　              ２０１７","表題１０","スーパーリ－グ 　　                  　　　 第１０回大会  　　　        　Ｊブロック     　　              ２０１７","表題１０","スーパーリ－グ 　　                  　　　 第１０回大会  　　　        　Ｊブロック     　　              ２０１７","表題１０","スーパーリ－グ 　　                  　　　 第１０回大会  　　　        　Ｊブロック     　　              ２０１７","表題１０","スーパーリ－グ 　　                  　　　 第１０回大会  　　　        　Ｊブロック     　　              ２０１７","表題１０","スーパーリ－グ 　　                  　　　 第１０回大会  　　　        　Ｊブロック     　　              ２０１７","表題１０","スーパーリ－グ 　　                  　　　 第１０回大会  　　　        　Ｊブロック     　　              ２０１７","表題１０","スーパーリ－グ 　　                  　　　 第１０回大会  　　　        　Ｊブロック     　　              ２０１７","表題１０","スーパーリ－グ 　　                  　　　 第１０回大会  　　　        　Ｊブロック     　　              ２０１７","表題１０","スーパーリ－グ 　　                  　　　 第１０回大会  　　　        　Ｊブロック     　　              ２０１７","表題１０","スーパーリ－グ 　　                  　　　 第１０回大会  　　　        　Ｊブロック     　　              ２０１７","表題１０","スーパーリ－グ 　　                  　　　 第１０回大会  　　　        　Ｊブロック     　　              ２０１７","表題１０","スーパーリ－グ 　　                  　　　 第１０回大会  　　　        　Ｊブロック     　　              ２０１７","表題１０","スーパーリ－グ 　　                  　　　 第１０回大会  　　　        　Ｊブロック     　　              ２０１７","表題１０","スーパーリ－グ 　　                  　　　 第１０回大会  　　　        　Ｊブロック     　　              ２０１７","表題１０","スーパーリ－グ 　　                  　　　 第１０回大会  　　　        　Ｊブロック     　　              ２０１７","表題１０","スーパーリ－グ 　　                  　　　 第１０回大会  　　　        　Ｊブロック     　　              ２０１７","表題１０","スーパーリ－グ 　　                  　　　 第１０回大会  　　　        　Ｊブロック     　　              ２０１７","表題１０","スーパーリ－グ 　　                  　　　 第１０回大会  　　　        　Ｊブロック     　　              ２０１７","表題１０","スーパーリ－グ 　　                  　　　 第１０回大会  　　　        　Ｊブロック     　　              ２０１７","表題１０","スーパーリ－グ 　　                  　　　 第１０回大会  　　　        　Ｊブロック     　　              ２０１７","表題１０","スーパーリ－グ 　　                  　　　 第１０回大会  　　　        　Ｊブロック     　　              ２０１７","表題１０","スーパーリ－グ 　　                  　　　 第１０回大会  　　　        　Ｊブロック     　　              ２０１７","表題１０","スーパーリ－グ 　　                  　　　 第１０回大会  　　　        　Ｊブロック     　　              ２０１７","表題１０","スーパーリ－グ 　　                  　　　 第１０回大会  　　　        　Ｊブロック     　　              ２０１７","表題１０","スーパーリ－グ 　　                  　　　 第１０回大会  　　　        　Ｊブロック     　　              ２０１７","表題１０","スーパーリ－グ 　　                  　　　 第１０回大会  　　　        　Ｊブロック     　　              ２０１７","表題１０","スーパーリ－グ 　　                  　　　 第１０回大会  　　　        　Ｊブロック     　　              ２０１７","表題１０","スーパーリ－グ 　　                  　　　 第１０回大会  　　　        　Ｊブロック     　　              ２０１７","表題１０","スーパーリ－グ 　　                  　　　 第１０回大会  　　　        　Ｊブロック     　　              ２０１７","表題１０","スーパーリ－グ 　　                  　　　 第１０回大会  　　　        　Ｊブロック     　　              ２０１７","表題１０","スーパーリ－グ 　　                  　　　 第１０回大会  　　　        　Ｊブロック     　　              ２０１７","表題１０","スーパーリ－グ 　　                  　　　 第１０回大会  　　　        　Ｊブロック     　　              ２０１７","表題１０","スーパーリ－グ 　　                  　　　 第１０回大会  　　　        　Ｊブロック     　　              ２０１７","表題１０","スーパーリ－グ 　　                  　　　 第１０回大会  　　　        　Ｊブロック     　　              ２０１７","表題１０","スーパーリ－グ 　　                  　　　 第１０回大会  　　　        　Ｊブロック     　　              ２０１７","表題１０","スーパーリ－グ 　　                  　　　 第１０回大会  　　　        　Ｊブロック     　　              ２０１７","表題１０","スーパーリ－グ 　　                  　　　 第１０回大会  　　　        　Ｊブロック     　　              ２０１７","表題１０","スーパーリ－グ 　　                  　　　 第１０回大会  　　　        　Ｊブロック     　　              ２０１７","表題１０","スーパーリ－グ 　　                  　　　 第１０回大会  　　　        　Ｊブロック     　　              ２０１７","表題１０","スーパーリ－グ 　　                  　　　 第１０回大会  　　　        　Ｊブロック     　　              ２０１７","表題１０","スーパーリ－グ 　　                  　　　 第１０回大会  　　　        　Ｊブロック     　　              ２０１７","表題１０","スーパーリ－グ 　　                  　　　 第１０回大会  　　　        　Ｊブロック     　　              ２０１７","表題１０","スーパーリ－グ 　　                  　　　 第１０回大会  　　　        　Ｊブロック     　　              ２０１７","表題１０","スーパーリ－グ 　　                  　　　 第１０回大会  　　　        　Ｊブロック     　　              ２０１７","表題１０","スーパーリ－グ 　　                  　　　 第１０回大会  　　　        　Ｊブロック     　　              ２０１７","表題１０","スーパーリ－グ 　　                  　　　 第１０回大会  　　　        　Ｊブロック     　　              ２０１７","表題１０","スーパーリ－グ 　　                  　　　 第１０回大会  　　　        　Ｊブロック     　　              ２０１７","表題１０","スーパーリ－グ 　　                  　　　 第１０回大会  　　　        　Ｊブロック     　　              ２０１７","表題１０","スーパーリ－グ 　　                  　　　 第１０回大会  　　　        　Ｊブロック     　　              ２０１７","表題１０","スーパーリ－グ 　　                  　　　 第１０回大会  　　　        　Ｊブロック     　　              ２０１７","表題１０","スーパーリ－グ 　　                  　　　 第１０回大会  　　　        　Ｊブロック     　　              ２０１７","表題１０","スーパーリ－グ 　　                  　　　 第１０回大会  　　　        　Ｊブロック     　　              ２０１７","表題１０","スーパーリ－グ 　　                  　　　 第１０回大会  　　　        　Ｊブロック     　　              ２０１７"]
[]
["表題１３","スーパーリ－グ 　　                  　　　 第１７回大会  　　　        　Ｍブロック     　　              ２０２３","表題１１","スーパーリ－グ 　　                  　　　 第１０回大会  　　　        　Ｋブロック     　　              ２０１７","表題１１","スーパーリ－グ 　　                  　　　 第１０回大会  　　　        　Ｋブロック     　　              ２０１７","表題１１","スーパーリ－グ 　　                  　　　 第１０回大会  　　　        　Ｋブロック     　　              ２０１７","表題１１","スーパーリ－グ 　　                  　　　 第１０回大会  　　　        　Ｋブロック     　　              ２０１７","表題１１","スーパーリ－グ 　　                  　　　 第１０回大会  　　　        　Ｋブロック     　　              ２０１７","表題１１","スーパーリ－グ 　　                  　　　 第１０回大会  　　　        　Ｋブロック     　　              ２０１７","表題１１","スーパーリ－グ 　　                  　　　 第１０回大会  　　　        　Ｋブロック     　　              ２０１７","表題１１","スーパーリ－グ 　　                  　　　 第１０回大会  　　　        　Ｋブロック     　　              ２０１７","表題１１","スーパーリ－グ 　　                  　　　 第１０回大会  　　　        　Ｋブロック     　　              ２０１７","表題１１","スーパーリ－グ 　　                  　　　 第１０回大会  　　　        　Ｋブロック     　　              ２０１７","表題１１","スーパーリ－グ 　　                  　　　 第１０回大会  　　　        　Ｋブロック     　　              ２０１７","表題１１","スーパーリ－グ 　　                  　　　 第１０回大会  　　　        　Ｋブロック     　　              ２０１７","表題１１","スーパーリ－グ 　　                  　　　 第１０回大会  　　　        　Ｋブロック     　　              ２０１７","表題１１","スーパーリ－グ 　　                  　　　 第１０回大会  　　　        　Ｋブロック     　　              ２０１７","表題１１","スーパーリ－グ 　　                  　　　 第１０回大会  　　　        　Ｋブロック     　　              ２０１７","表題１１","スーパーリ－グ 　　                  　　　 第１０回大会  　　　        　Ｋブロック     　　              ２０１７","表題１１","スーパーリ－グ 　　                  　　　 第１０回大会  　　　        　Ｋブロック     　　              ２０１７","表題１１","スーパーリ－グ 　　                  　　　 第１０回大会  　　　        　Ｋブロック     　　              ２０１７","表題１１","スーパーリ－グ 　　                  　　　 第１０回大会  　　　        　Ｋブロック     　　              ２０１７","表題１１","スーパーリ－グ 　　                  　　　 第１０回大会  　　　        　Ｋブロック     　　              ２０１７","表題１１","スーパーリ－グ 　　                  　　　 第１０回大会  　　　        　Ｋブロック     　　              ２０１７","表題１１","スーパーリ－グ 　　                  　　　 第１０回大会  　　　        　Ｋブロック     　　              ２０１７","表題１１","スーパーリ－グ 　　                  　　　 第１０回大会  　　　        　Ｋブロック     　　              ２０１７","表題１１","スーパーリ－グ 　　                  　　　 第１０回大会  　　　        　Ｋブロック     　　              ２０１７","表題１１","スーパーリ－グ 　　                  　　　 第１０回大会  　　　        　Ｋブロック     　　              ２０１７","表題１１","スーパーリ－グ 　　                  　　　 第１０回大会  　　　        　Ｋブロック     　　              ２０１７","表題１１","スーパーリ－グ 　　                  　　　 第１０回大会  　　　        　Ｋブロック     　　              ２０１７","表題１１","スーパーリ－グ 　　                  　　　 第１０回大会  　　　        　Ｋブロック     　　              ２０１７","表題１１","スーパーリ－グ 　　                  　　　 第１０回大会  　　　        　Ｋブロック     　　              ２０１７","表題１１","スーパーリ－グ 　　                  　　　 第１０回大会  　　　        　Ｋブロック     　　              ２０１７","表題１１","スーパーリ－グ 　　                  　　　 第１０回大会  　　　        　Ｋブロック     　　              ２０１７","表題１１","スーパーリ－グ 　　                  　　　 第１０回大会  　　　        　Ｋブロック     　　              ２０１７","表題１１","スーパーリ－グ 　　                  　　　 第１０回大会  　　　        　Ｋブロック     　　              ２０１７","表題１１","スーパーリ－グ 　　                  　　　 第１０回大会  　　　        　Ｋブロック     　　              ２０１７","表題１１","スーパーリ－グ 　　                  　　　 第１０回大会  　　　        　Ｋブロック     　　              ２０１７","表題１１","スーパーリ－グ 　　                  　　　 第１０回大会  　　　        　Ｋブロック     　　              ２０１７","表題１１","スーパーリ－グ 　　                  　　　 第１０回大会  　　　        　Ｋブロック     　　              ２０１７","表題１１","スーパーリ－グ 　　                  　　　 第１０回大会  　　　        　Ｋブロック     　　              ２０１７","表題１１","スーパーリ－グ 　　                  　　　 第１０回大会  　　　        　Ｋブロック     　　              ２０１７","表題１１","スーパーリ－グ 　　                  　　　 第１０回大会  　　　        　Ｋブロック     　　              ２０１７","表題１１","スーパーリ－グ 　　                  　　　 第１０回大会  　　　        　Ｋブロック     　　              ２０１７","表題１１","スーパーリ－グ 　　                  　　　 第１０回大会  　　　        　Ｋブロック     　　              ２０１７","表題１１","スーパーリ－グ 　　                  　　　 第１０回大会  　　　        　Ｋブロック     　　              ２０１７","表題１１","スーパーリ－グ 　　                  　　　 第１０回大会  　　　        　Ｋブロック     　　              ２０１７","表題１１","スーパーリ－グ 　　                  　　　 第１０回大会  　　　        　Ｋブロック     　　              ２０１７","表題１１","スーパーリ－グ 　　                  　　　 第１０回大会  　　　        　Ｋブロック     　　              ２０１７","表題１１","スーパーリ－グ 　　                  　　　 第１０回大会  　　　        　Ｋブロック     　　              ２０１７","表題１１","スーパーリ－グ 　　                  　　　 第１０回大会  　　　        　Ｋブロック     　　              ２０１７","表題１１","スーパーリ－グ 　　                  　　　 第１０回大会  　　　        　Ｋブロック     　　              ２０１７","表題１１","スーパーリ－グ 　　                  　　　 第１０回大会  　　　        　Ｋブロック     　　              ２０１７","表題１１","スーパーリ－グ 　　                  　　　 第１０回大会  　　　        　Ｋブロック     　　              ２０１７","表題１１","スーパーリ－グ 　　                  　　　 第１０回大会  　　　        　Ｋブロック     　　              ２０１７","表題１１","スーパーリ－グ 　　                  　　　 第１０回大会  　　　        　Ｋブロック     　　              ２０１７","表題１１","スーパーリ－グ 　　                  　　　 第１０回大会  　　　        　Ｋブロック     　　              ２０１７","表題１１","スーパーリ－グ 　　                  　　　 第１０回大会  　　　        　Ｋブロック     　　              ２０１７","表題１１","スーパーリ－グ 　　                  　　　 第１０回大会  　　　        　Ｋブロック     　　              ２０１７","表題１１","スーパーリ－グ 　　                  　　　 第１０回大会  　　　        　Ｋブロック     　　              ２０１７","表題１１","スーパーリ－グ 　　                  　　　 第１０回大会  　　　        　Ｋブロック     　　              ２０１７","表題１１","スーパーリ－グ 　　                  　　　 第１０回大会  　　　        　Ｋブロック     　　              ２０１７","表題１１","スーパーリ－グ 　　                  　　　 第１０回大会  　　　        　Ｋブロック     　　              ２０１７","表題１１","スーパーリ－グ 　　                  　　　 第１０回大会  　　　        　Ｋブロック     　　              ２０１７","表題１１","スーパーリ－グ 　　                  　　　 第１０回大会  　　　        　Ｋブロック     　　              ２０１７","表題１１","スーパーリ－グ 　　                  　　　 第１０回大会  　　　        　Ｋブロック     　　              ２０１７","表題１１","スーパーリ－グ 　　                  　　　 第１０回大会  　　　        　Ｋブロック     　　              ２０１７","表題１１","スーパーリ－グ 　　                  　　　 第１０回大会  　　　        　Ｋブロック     　　              ２０１７","表題１１","スーパーリ－グ 　　                  　　　 第１０回大会  　　　        　Ｋブロック     　　              ２０１７","表題１１","スーパーリ－グ 　　                  　　　 第１０回大会  　　　        　Ｋブロック     　　              ２０１７","表題１１","スーパーリ－グ 　　                  　　　 第１０回大会  　　　        　Ｋブロック     　　              ２０１７","表題１１","スーパーリ－グ 　　                  　　　 第１０回大会  　　　        　Ｋブロック     　　              ２０１７","表題１１","スーパーリ－グ 　　                  　　　 第１０回大会  　　　        　Ｋブロック     　　              ２０１７","表題１１","スーパーリ－グ 　　                  　　　 第１０回大会  　　　        　Ｋブロック     　　              ２０１７","表題１１","スーパーリ－グ 　　                  　　　 第１０回大会  　　　        　Ｋブロック     　　              ２０１７","表題１１","スーパーリ－グ 　　                  　　　 第１０回大会  　　　        　Ｋブロック     　　              ２０１７","表題１１","スーパーリ－グ 　　                  　　　 第１０回大会  　　　        　Ｋブロック     　　              ２０１７","表題１１","スーパーリ－グ 　　                  　　　 第１０回大会  　　　        　Ｋブロック     　　              ２０１７","表題１１","スーパーリ－グ 　　                  　　　 第１０回大会  　　　        　Ｋブロック     　　              ２０１７","表題１１","スーパーリ－グ 　　                  　　　 第１０回大会  　　　        　Ｋブロック     　　              ２０１７","表題１１","スーパーリ－グ 　　                  　　　 第１０回大会  　　　        　Ｋブロック     　　              ２０１７","表題１１","スーパーリ－グ 　　                  　　　 第１０回大会  　　　        　Ｋブロック     　　              ２０１７","表題１１","スーパーリ－グ 　　                  　　　 第１０回大会  　　　        　Ｋブロック     　　              ２０１７","表題１１","スーパーリ－グ 　　                  　　　 第１０回大会  　　　        　Ｋブロック     　　              ２０１７","表題１１","スーパーリ－グ 　　                  　　　 第１０回大会  　　　        　Ｋブロック     　　              ２０１７","表題１１","スーパーリ－グ 　　                  　　　 第１０回大会  　　　        　Ｋブロック     　　              ２０１７","表題１１","スーパーリ－グ 　　                  　　　 第１０回大会  　　　        　Ｋブロック     　　              ２０１７","表題１１","スーパーリ－グ 　　                  　　　 第１０回大会  　　　        　Ｋブロック     　　              ２０１７","表題１１","スーパーリ－グ 　　                  　　　 第１０回大会  　　　        　Ｋブロック     　　              ２０１７","表題１１","スーパーリ－グ 　　                  　　　 第１０回大会  　　　        　Ｋブロック     　　              ２０１７","表題１１","スーパーリ－グ 　　                  　　　 第１０回大会  　　　        　Ｋブロック     　　              ２０１７","表題１１","スーパーリ－グ 　　                  　　　 第１０回大会  　　　        　Ｋブロック     　　              ２０１７","表題１１","スーパーリ－グ 　　                  　　　 第１０回大会  　　　        　Ｋブロック     　　              ２０１７","表題１１","スーパーリ－グ 　　                  　　　 第１０回大会  　　　        　Ｋブロック     　　              ２０１７","表題１１","スーパーリ－グ 　　                  　　　 第１０回大会  　　　        　Ｋブロック     　　              ２０１７","表題１１","スーパーリ－グ 　　                  　　　 第１０回大会  　　　        　Ｋブロック     　　              ２０１７","表題１１","スーパーリ－グ 　　                  　　　 第１０回大会  　　　        　Ｋブロック     　　              ２０１７","表題１１","スーパーリ－グ 　　                  　　　 第１０回大会  　　　        　Ｋブロック     　　              ２０１７","表題１１","スーパーリ－グ 　　                  　　　 第１０回大会  　　　        　Ｋブロック     　　              ２０１７","表題１１","スーパーリ－グ 　　                  　　　 第１０回大会  　　　        　Ｋブロック     　　              ２０１７","表題１１","スーパーリ－グ 　　                  　　　 第１０回大会  　　　        　Ｋブロック     　　              ２０１７","表題１１","スーパーリ－グ 　　                  　　　 第１０回大会  　　　        　Ｋブロック     　　              ２０１７","表題１１","スーパーリ－グ 　　                  　　　 第１０回大会  　　　        　Ｋブロック     　　              ２０１７","表題１１","スーパーリ－グ 　　                  　　　 第１０回大会  　　　        　Ｋブロック     　　              ２０１７","表題１１","スーパーリ－グ 　　                  　　　 第１０回大会  　　　        　Ｋブロック     　　              ２０１７","表題１１","スーパーリ－グ 　　                  　　　 第１０回大会  　　　        　Ｋブロック     　　              ２０１７","表題１１","スーパーリ－グ 　　                  　　　 第１０回大会  　　　        　Ｋブロック     　　              ２０１７","表題１１","スーパーリ－グ 　　                  　　　 第１０回大会  　　　        　Ｋブロック     　　              ２０１７","表題１１","スーパーリ－グ 　　                  　　　 第１０回大会  　　　        　Ｋブロック     　　              ２０１７","表題１１","スーパーリ－グ 　　                  　　　 第１０回大会  　　　        　Ｋブロック     　　              ２０１７","表題１１","スーパーリ－グ 　　                  　　　 第１０回大会  　　　        　Ｋブロック     　　              ２０１７","表題１１","スーパーリ－グ 　　                  　　　 第１０回大会  　　　        　Ｋブロック     　　              ２０１７","表題１１","スーパーリ－グ 　　                  　　　 第１０回大会  　　　        　Ｋブロック     　　              ２０１７","表題１１","スーパーリ－グ 　　                  　　　 第１０回大会  　　　        　Ｋブロック     　　              ２０１７","表題１１","スーパーリ－グ 　　                  　　　 第１０回大会  　　　        　Ｋブロック     　　              ２０１７","表題１１","スーパーリ－グ 　　                  　　　 第１０回大会  　　　        　Ｋブロック     　　              ２０１７","表題１１","スーパーリ－グ 　　                  　　　 第１０回大会  　　　        　Ｋブロック     　　              ２０１７","表題１１","スーパーリ－グ 　　                  　　　 第１０回大会  　　　        　Ｋブロック     　　              ２０１７","表題１１","スーパーリ－グ 　　                  　　　 第１０回大会  　　　        　Ｋブロック     　　              ２０１７","表題１１","スーパーリ－グ 　　                  　　　 第１０回大会  　　　        　Ｋブロック     　　              ２０１７","表題１１","スーパーリ－グ 　　                  　　　 第１０回大会  　　　        　Ｋブロック     　　              ２０１７","表題１１","スーパーリ－グ 　　                  　　　 第１０回大会  　　　        　Ｋブロック     　　              ２０１７","表題１１","スーパーリ－グ 　　                  　　　 第１０回大会  　　　        　Ｋブロック     　　              ２０１７","表題１１","スーパーリ－グ 　　                  　　　 第１０回大会  　　　        　Ｋブロック     　　              ２０１７","表題１１","スーパーリ－グ 　　                  　　　 第１０回大会  　　　        　Ｋブロック     　　              ２０１７","表題１１","スーパーリ－グ 　　                  　　　 第１０回大会  　　　        　Ｋブロック     　　              ２０１７","表題１１","スーパーリ－グ 　　                  　　　 第１０回大会  　　　        　Ｋブロック     　　              ２０１７","表題１１","スーパーリ－グ 　　                  　　　 第１０回大会  　　　        　Ｋブロック     　　              ２０１７","表題１１","スーパーリ－グ 　　                  　　　 第１０回大会  　　　        　Ｋブロック     　　              ２０１７","表題１１","スーパーリ－グ 　　                  　　　 第１０回大会  　　　        　Ｋブロック     　　              ２０１７"]
[]
["表題１３","スーパーリ－グ 　　                  　　　 第１７回大会  　　　        　Ｎブロック     　　              ２０２３"]

{"sheet":"データ２","index":2,"n_rows":224,"n_cols":6,"rows_kept":224,"cut":false,"hidden":false,"merged":[]}
[null,"Aブロック長"]
[1,"有馬スワローズ",null,"葛飾アニマルズ","B","葛飾区"]
[]
[2,"麹町ドリームス",null,"カバラホークス","I","足立区"]
[]
[3,"山野レッドイーグルス",null,"品川ドリームキッズ","D","品川区"]
[]
[4,"リトルジャイアンツ",null,"ゼットタイガー","L","大田区"]
[]
[5,"大島タイガース",null,"レッドサンズ","G","文京区"]
[]
[6,"麻布キッズ",null,"ブルースカイズ","N","北区"]
[]
[7,"葛西ファイターズ",null,"高島エイト","C","板橋区"]
[]
[8,"コンバッツ",null,"有馬スワローズ","A","中央区"]
[null,"Bブロック長"]
[9,"葛飾アニマルズ",null,"大雲寺スターズ","J","江戸川区"]
[]
[10,"淀四ライオンズ",null,"西田野球クラブ","M","杉並区"]
[]
[11,"エンジェルス",null,"南千住ペガサス","H","荒川区"]
[]
[12,"初台ビクトリー",null,"大島中央","F","江東区城"]
[]
[13,"ニュー愛宕",null,"北原少年野球クラブ","K","練馬区"]
[]
[14,"高輪クラブ",null,"オール麻布","E","港区"]
[null,null,null,"●足立Ｉ以外を入れる"]
[15,"南篠崎ランチャーズ",null,"ジュニアヤンガース",null,"足立区"]
[]
[16,"勝どきドリームN",null,"ブラックキラーズ",null,"足立区"]
[null,"Cブロック長"]
[17,"高島エイト",null,"レッドファイヤーズ",null,"足立区"]
[]
[18,"新宿ドリーム",null,"新田ファイヤーズ",null,"足立区"]
[]
[19,"糀谷イーグルス",null,"西伊興若潮ジュニア",null,"足立区"]
[]
[20,"富ヶ谷ノーティーボーイズ",null,"扇ターキーズ",null,"足立区"]
[]
[21,"深川レッドソックス",null,"竹仲",null,"足立区"]
[]
[22,"御殿山ファイターズ",null,"東伊興シャインズ",null,"足立区"]
[null,null,null,"◎足立Ｉを入れる"]
[23,"堀小スワローズ",null,"いちがやチーターズ",null,"新宿区"]
[]
[24,"豊島ブレイズ",null,"新宿ドリーム",null,"新宿区"]
[null,"Dブロック長"]
[25,"品川ドリームキッズ",null,"淀四ライオンズ",null,"新宿区"]
[]
[26,"扇ターキーズ",null,"落一アポロ",null,"新宿区"]
[]
[27,"トゥールスジュニア",null,"落合コメッツ",null,"新宿区"]
[]
[28,"文京パワーズ",null,"麹町ドリームス",null,"千代田区"]
[null,null,null,"●荒川Ｈ、大田Ｌ以外を入れる"]
[29,"江東ジョーズ",null,"球友ジュニアーズ",null,"大田区"]
[]
[30,"サンジュニア",null,"池雪ジュニアストロング",null,"大田区"]
[]
[31,"興宮ファイターズ",null,"馬込ジャガース",null,"大田区"]
[]
[32,"不動パイレーツ",null,"糀谷イーグルス",null,"大田区"]
[null,"Eブロック長",null,"◎大田Ｌを入れる"]
[33,"オール麻布",null,"エンジェルス",null,"荒川区"]
[]
[34,"ブラックキラーズ",null,"トゥールスジュニア",null,"荒川区"]
[]
[35,"ブラザースクラブ",null,"ブラザースクラブ",null,"荒川区"]
[]
[36,"茗荷谷クラブ",null,"荒川コンドル",null,"荒川区"]
[null,null,null,"◎荒川Ｈを入れる"]
[37,"深川ライナーズ",null,"KCレッドジャッカル",null,"港区"]
[]
[38,"浅草ベースボールクラブ",null,"ナインスターズ",null,"港区"]
[]
[39,"向陽台スターキッズ",null,"九品仏ペガサス",null,"港区"]
[]
[40,"中央バンディーズ ",null,"山野レッドイーグルス",null,"世田谷区"]
[null,"Fブロック長"]
[41,"大島中央",null,"船橋フェニックス",null,"世田谷区"]
[]
[42,"ジュニアヤンガース",null,"用賀ベアーズ",null,"世田谷区"]
[null,null,null,"●北Ｎ、文京Ｇ、葛飾Ｂ以外を入れる"]
[43,"KCレッドジャッカル",null,"マッハブレーブス",null,"北区"]
[]
[44,"菊坂ファイヤーズ",null,"城北メッツ",null,"北区"]
[null,null,null,"◎北Ｎを入れる"]
[45,"亀戸合同",null,"菊坂ファイヤーズ",null,"文京区"]
[]
[46,"本村クラブ",null,"駒込チャイルド",null,"文京区"]
[]
[47,"高井戸東少年野球クラブ",null,"西千タイガース",null,"文京区"]
[]
[48,"駒込ベアーズ",null,"文京パワーズ",null,"文京区"]
[null,"Gブロック長"]
[49,"レッドサンズ",null,"礫川",null,"文京区"]
[]
[50,"いちがやチーターズ",null,"茗荷谷クラブ",null,"文京区"]
[null,null,null,"◎文京Ｇを入れる"]
[51,"馬込ジャガース",null,"リトルジャイアンツ",null,"葛飾区"]
[]
[52,"金町ジャイアンツ",null,"金町ジャイアンツ",null,"葛飾区"]
[null,null,null,"◎葛飾Ｂを入れる"]
[53,"元加賀",null,"若羽クラブ",null,"渋谷区"]
[]
[54,"品川ブルーレーシング",null,"渋谷レッドソックス",null,"渋谷区"]
[]
[55,"本一色イーグルス",null,"初台ビクトリー",null,"渋谷区"]
[]
[56,"月島ライオンズ",null,"富ヶ谷ノーティーボーイズ",null,"渋谷区"]
[null,"Hブロック長",null,"●"]
[57,"南千住ペガサス",null,"ニュー愛宕",null,"江東区"]
[]
[58,"竹仲",null,"越中島ブレーブス",null,"江東区"]
[]
[59,"九品仏ペガサス",null,"亀戸合同",null,"江東区"]
[]
[60,"駒込チャイルド",null,"元加賀",null,"江東区"]
[]
[61,"東陽フェニックス",null,"江東ジョーズ",null,"江東区"]
[]
[62,"港南メッツ",null,"江東ファイターズ",null,"江東区"]
[]
[63,"サンダースターズ",null,"七北クラブ",null,"江東区"]
[]
[64,"大塚スネイクス",null,"深川ジャイアンツ",null,"江東区"]
[null,"Iブロック長"]
[65,"カバラホークス",null,"深川ライナーズ",null,"江東区"]
[]
[66,"落合コメッツ",null,"深川レッドソックス",null,"江東区"]
[]
[67,"池雪ジュニアストロング",null,"大島タイガース",null,"江東区"]
[]
[68,"若羽クラブ",null,"東雲メッツ",null,"江東区"]
[]
[69,"東雲メッツ",null,"東王ジュニア",null,"江東区"]
[]
[70,"元芝ハヤブサ",null,"東陽フェニックス",null,"江東区"]
[null,null,null,"●品川Ｄ、港Ｅ、板橋Ｃ以外を入れる"]
[71,"雷サンダース",null,"中板橋ボーイズ",null,"板橋区"]
[null,null,null,"◎板橋Ｃを入れる"]
[72,"目黒ペガサス",null,"旗の台クラブ",null,"品川区"]
[null,"Jブロック長"]
[73,"大雲寺スターズ",null,"元芝ハヤブサ",null,"品川区"]
[]
[74,"西伊興若潮ジュニア",null,"御殿山ファイターズ",null,"品川区"]
[]
[75,"球友ジュニアーズ",null,"品川ブルーレーシング",null,"品川区"]
[]
[76,"礫川",null,"品川レインボーズ",null,"品川区"]
[null,null,null,"◎品川Ｄを入れる"]
[77,"越中島ブレーブス",null,"港南メッツ",null,"港区"]
[]
[78,"リトルロジャース",null,"高輪クラブ",null,"港区"]
[]
[79,"調布メンパース",null,"高輪台ファイターズ",null,"港区"]
[]
[80,"晴海アポローズ",null,"本村クラブ",null,"港区"]
[null,"Kブロック長"]
[81,"北原少年野球クラブ",null,"麻布キッズ",null,"港区"]
[null,null,null,"◎港Ｅを入れる"]
[82,"東伊興シャインズ",null,"浅草ベースボールクラブ",null,"台東区"]
[]
[83,"船橋フェニックス",null,"サンジュニア",null,"台東区"]
[]
[84,"城北メッツ",null,"リトルロジャース",null,"台東区"]
[null,null,null,"●杉並Ｍ、江戸川Ｊ以外を入れる"]
[85,"深川ジャイアンツ",null,"久我山イーグルス",null,"杉並区"]
[]
[86,"中板橋ボーイズ",null,"高井戸東少年野球クラブ",null,"杉並区"]
[]
[87,"桃五少年野球クラブ",null,"桃五少年野球クラブ",null,"杉並区"]
[]
[88,"日本橋ファイターズ",null,"堀小スワローズ",null,"杉並区"]
[null,"Lブロック長",null,"◎杉並Ｍを入れる"]
[89,"ゼットタイガー",null,"しらさぎ",null,"江戸川区"]
[]
[90,"新田ファイヤーズ",null,"葛西ファイターズ",null,"江戸川区"]
[]
[91,"用賀ベアーズ",null,"興宮ファイターズ",null,"江戸川区"]
[]
[92,"西千タイガース",null,"松島ファルコンズ",null,"江戸川区"]
[]
[93,"七北クラブ",null,"南篠崎ランチャーズ",null,"江戸川区"]
[]
[94,"旗の台クラブ",null,"本一色イーグルス",null,"江戸川区"]
[]
[95,"松島ファルコンズ",null,"雷サンダース",null,"江戸川区"]
[null,null,null,"◎江戸川Ｊを入れる"]
[96,"練馬ペガサス",null,"サンダースターズ",null,"墨田区"]
[null,"Mブロック長"]
[97,"西田野球クラブ",null,"調布メンパース",null,"調布市"]
[]
[98,"落一アポロ",null,"向陽台スターキッズ",null,"稲城市"]
[null,null,null,"●練馬Ｋ、中央Ａ以外を入れる"]
[99,"ナインスターズ",null,"練馬ペガサス",null,"練馬区"]
[null,null,null,"◎練馬Ｋを入れる"]
[100,"マッハブレーブス",null,"月島ライオンズ",null,"中央区"]
[]
[101,"東王ジュニア",null,"勝どきドリームN",null,"中央区"]
[]
[102,"高輪台ファイターズ",null,"晴海アポローズ",null,"中央区"]
[]
[103,"しらさぎ",null,"中央バンディーズ ",null,"中央区"]
[]
[104,"東山エイターズ",null,"中央フェニックス",null,"中央区"]
[null,"Nブロック長"]
[105,"ブルースカイズ",null,"日本橋ファイターズ",null,"中央区"]
[null,null,null,"◎中央Ａを入れる"]
[106,"レッドファイヤーズ",null,"東山エイターズ",null,"目黒区"]
[]
[107,"荒川コンドル",null,"不動パイレーツ",null,"目黒区"]
[]
[108,"渋谷レッドソックス",null,"目黒ペガサス",null,"目黒区"]
[]
[109,"江東ファイターズ",null,"駒込ベアーズ",null,"豊島区"]
[]
[110,"品川レインボーズ",null,"大塚スネイクス",null,"豊島区"]
[]
[111,"久我山イーグルス",null,"豊島ブレイズ",null,"豊島区"]
[]
[112,"中央フェニックス",null,"コンバッツ",null,"中野区"]

{"sheet":"抽選順","index":3,"n_rows":19,"n_cols":15,"rows_kept":19,"cut":false,"hidden":true,"merged":[[0,1,0,2],[0,3,0,4],[2,1,2,2],[2,3,2,4],[2,5,2,6],[2,7,2,8],[2,9,2,10],[0,5,0,6],[23,9,23,10],[23,13,23,14],[21,9,21,10],[0,13,0,14],[2,11,2,12],[2,13,2,14],[0,7,0,8],[0,9,0,10],[0,11,0,12]]}
[null,"A",null,"B",null,"C",null,"D",null,"E",null,"F",null,"G"]
[null,"有馬スワローズ","中央区","葛飾アニマルズ","葛飾区","高島エイト","板橋区","品川ドリームキッズ","品川区","オール麻布","港区","大島中央","江東区","レッドサンズ","文京区"]
[null,"H",null,"I",null,"J",null,"K",null,"L",null,"M",null,"N"]
[null,"南千住ペガサス","荒川区","カバラホークス","足立区","大雲寺スターズ","江戸川区","北原少年","練馬区","ゼットタイガー","大田区","西田野球クラブ","杉並区","ブルースカイズ","北区"]
[]
[1,"ジュニアヤンガース","Ix","球友ジュニアーズ","Lx","マッハブレーブス","Nx","ニュー愛宕","Fx","中板橋ボーイズ","Cx","久我山イーグルス","Mx","練馬ペガサス","Kx"]
[2,"ブラックキラーズ","Ix","池雪ジュニアストロング","Lx","城北メッツ","Nx","越中島ブレーブス","Fx","旗の台クラブ","Dx","高井戸東少年野球クラブ","Mx","月島ライオンズ","Ax"]
[3,"レッドファイヤーズ","Ix","馬込ジャガース","Lx","菊坂ファイヤーズ","Gx","亀戸合同","Fx","元芝ハヤブサ","Dx","桃五少年野球クラブ","Mx","勝どきドリームNH","Ax"]
[4,"新田ファイヤーズ","Ix","糀谷イーグルス","Lx","駒込チャイルド","Gx","元加賀","Fx","御殿山ファイターズ","Dx","堀小スワローズ","Mx","晴海アポローズ","Ax"]
[5,"西伊興若潮ジュニア","Ix","エンジェルス","Hx","西千タイガース","Gx","江東ジョーズ","Fx","品川ブルーレーシング","Dx","しらさぎ","Jx","中央バンディーズ ","Ax"]
[6,"扇ターキーズ","Ix","トゥールスジュニア","Hx","文京パワーズ","Gx","江東ファイターズ","Fx","品川レインボーズ","Dx","葛西ファイターズ","Jx","中央フェニックス","Ax"]
[7,"竹仲","Ix","ブラザースクラブ","Hx","礫川","Gx","七北クラブ","Fx","港南メッツ","Ex","興宮ファイターズ","Jx","日本橋ファイターズ","Ax"]
[8,"東伊興シャインズ","Ix","荒川コンドル","Hx","茗荷谷クラブ","Gx","深川ジャイアンツ","Fx","高輪クラブ","Ex","松島ファルコンズ","Jx","東山エイターズ"]
[9,"いちがやチーターズ",null,"KCレッドジャッカル",null,"リトルジャイアンツ","Bx","深川ライナーズ","Fx","高輪台ファイターズ","Ex","南篠崎ランチャーズ","Jx","不動パイレーツ"]
[10,"新宿ドリーム",null,"ナインスターズ",null,"金町ジャイアンツ","Bx","深川レッドソックス","Fx","本村クラブ","Ex","本一色イーグルス","Jx","目黒ペガサス"]
[11,"淀四ライオンズ",null,"九品仏ペガサス",null,"若羽クラブ",null,"大島タイガース","Fx","麻布キッズ","Ex","雷サンダース","Jx","駒込ベアーズ"]
[12,"落一アポロ",null,"山野レッドイーグルス",null,"渋谷レッドソックス",null,"東雲メッツ","Fx","浅草ベースボールクラブ",null,"サンダースターズ",null,"大塚スネイクス"]
[13,"落合コメッツ",null,"船橋フェニックス",null,"初台ビクトリー",null,"東王ジュニア","Fx","サンジュニア",null,"調布メンパース",null,"豊島ブレイズ"]
[14,"麹町ドリームス",null,"用賀ベアーズ",null,"富ヶ谷ノーティーボーイズ",null,"東陽フェニックス","Fx","リトルロジャース",null,"向陽台スターキッズ",null,"コンバッツ"]